BEGIN:VCALENDAR
VERSION:2.0
PRODID:-//Sandpiper - ECPv6.15.20//NONSGML v1.0//EN
CALSCALE:GREGORIAN
METHOD:PUBLISH
X-ORIGINAL-URL:https://monet.gipreview.com
X-WR-CALDESC:Events for Sandpiper
REFRESH-INTERVAL;VALUE=DURATION:PT1H
X-Robots-Tag:noindex
X-PUBLISHED-TTL:PT1H
BEGIN:VTIMEZONE
TZID:America/New_York
BEGIN:DAYLIGHT
TZOFFSETFROM:-0500
TZOFFSETTO:-0400
TZNAME:EDT
DTSTART:20260308T070000
END:DAYLIGHT
BEGIN:STANDARD
TZOFFSETFROM:-0400
TZOFFSETTO:-0500
TZNAME:EST
DTSTART:20261101T060000
END:STANDARD
BEGIN:DAYLIGHT
TZOFFSETFROM:-0500
TZOFFSETTO:-0400
TZNAME:EDT
DTSTART:20270314T070000
END:DAYLIGHT
BEGIN:STANDARD
TZOFFSETFROM:-0400
TZOFFSETTO:-0500
TZNAME:EST
DTSTART:20271107T060000
END:STANDARD
BEGIN:DAYLIGHT
TZOFFSETFROM:-0500
TZOFFSETTO:-0400
TZNAME:EDT
DTSTART:20280312T070000
END:DAYLIGHT
BEGIN:STANDARD
TZOFFSETFROM:-0400
TZOFFSETTO:-0500
TZNAME:EST
DTSTART:20281105T060000
END:STANDARD
END:VTIMEZONE
BEGIN:VEVENT
DTSTART;TZID=America/New_York:20270109T080000
DTEND;TZID=America/New_York:20270109T100000
DTSTAMP:20260421T134343
CREATED:20260304T173531Z
LAST-MODIFIED:20260304T231226Z
UID:990006800-1799481600-1799488800@monet.gipreview.com
SUMMARY:Pickleball
DESCRIPTION:This hot sport\, a cross between badminton\, tennis and table tennis\, is winning over the hearts of many athletes\, and we offer it right here in Sandpiper. Pickleball is played on a 44 by 20 foot court\, 1/4 the size of a tennis court and with a lower net. The smaller size means it requires less mobility\, giving people of all ages and abilities more opportunities to maintain a rally and react to opponent advances.
URL:https://monet.gipreview.com/event/pickleball/2027-01-09/
LOCATION:Westside Pickleball Courts
CATEGORIES:Community Activity
ATTACH;FMTTYPE=image/jpeg:https://monet.gipreview.com/wp-content/uploads/2026/03/IMG_0464-scaled.jpeg
END:VEVENT
BEGIN:VEVENT
DTSTART;TZID=America/New_York:20270111T080000
DTEND;TZID=America/New_York:20270111T100000
DTSTAMP:20260421T134343
CREATED:20260304T173531Z
LAST-MODIFIED:20260304T231226Z
UID:990006801-1799654400-1799661600@monet.gipreview.com
SUMMARY:Pickleball
DESCRIPTION:This hot sport\, a cross between badminton\, tennis and table tennis\, is winning over the hearts of many athletes\, and we offer it right here in Sandpiper. Pickleball is played on a 44 by 20 foot court\, 1/4 the size of a tennis court and with a lower net. The smaller size means it requires less mobility\, giving people of all ages and abilities more opportunities to maintain a rally and react to opponent advances.
URL:https://monet.gipreview.com/event/pickleball/2027-01-11/
LOCATION:Westside Pickleball Courts
CATEGORIES:Community Activity
ATTACH;FMTTYPE=image/jpeg:https://monet.gipreview.com/wp-content/uploads/2026/03/IMG_0464-scaled.jpeg
END:VEVENT
BEGIN:VEVENT
DTSTART;TZID=America/New_York:20270112T080000
DTEND;TZID=America/New_York:20270112T100000
DTSTAMP:20260421T134343
CREATED:20260304T173531Z
LAST-MODIFIED:20260304T231226Z
UID:990006802-1799740800-1799748000@monet.gipreview.com
SUMMARY:Pickleball
DESCRIPTION:This hot sport\, a cross between badminton\, tennis and table tennis\, is winning over the hearts of many athletes\, and we offer it right here in Sandpiper. Pickleball is played on a 44 by 20 foot court\, 1/4 the size of a tennis court and with a lower net. The smaller size means it requires less mobility\, giving people of all ages and abilities more opportunities to maintain a rally and react to opponent advances.
URL:https://monet.gipreview.com/event/pickleball/2027-01-12/
LOCATION:Westside Pickleball Courts
CATEGORIES:Community Activity
ATTACH;FMTTYPE=image/jpeg:https://monet.gipreview.com/wp-content/uploads/2026/03/IMG_0464-scaled.jpeg
END:VEVENT
BEGIN:VEVENT
DTSTART;TZID=America/New_York:20270113T080000
DTEND;TZID=America/New_York:20270113T100000
DTSTAMP:20260421T134343
CREATED:20260304T173531Z
LAST-MODIFIED:20260304T231226Z
UID:990006803-1799827200-1799834400@monet.gipreview.com
SUMMARY:Pickleball
DESCRIPTION:This hot sport\, a cross between badminton\, tennis and table tennis\, is winning over the hearts of many athletes\, and we offer it right here in Sandpiper. Pickleball is played on a 44 by 20 foot court\, 1/4 the size of a tennis court and with a lower net. The smaller size means it requires less mobility\, giving people of all ages and abilities more opportunities to maintain a rally and react to opponent advances.
URL:https://monet.gipreview.com/event/pickleball/2027-01-13/
LOCATION:Westside Pickleball Courts
CATEGORIES:Community Activity
ATTACH;FMTTYPE=image/jpeg:https://monet.gipreview.com/wp-content/uploads/2026/03/IMG_0464-scaled.jpeg
END:VEVENT
BEGIN:VEVENT
DTSTART;TZID=America/New_York:20270114T080000
DTEND;TZID=America/New_York:20270114T100000
DTSTAMP:20260421T134343
CREATED:20260304T173531Z
LAST-MODIFIED:20260304T231226Z
UID:990006804-1799913600-1799920800@monet.gipreview.com
SUMMARY:Pickleball
DESCRIPTION:This hot sport\, a cross between badminton\, tennis and table tennis\, is winning over the hearts of many athletes\, and we offer it right here in Sandpiper. Pickleball is played on a 44 by 20 foot court\, 1/4 the size of a tennis court and with a lower net. The smaller size means it requires less mobility\, giving people of all ages and abilities more opportunities to maintain a rally and react to opponent advances.
URL:https://monet.gipreview.com/event/pickleball/2027-01-14/
LOCATION:Westside Pickleball Courts
CATEGORIES:Community Activity
ATTACH;FMTTYPE=image/jpeg:https://monet.gipreview.com/wp-content/uploads/2026/03/IMG_0464-scaled.jpeg
END:VEVENT
BEGIN:VEVENT
DTSTART;TZID=America/New_York:20270115T080000
DTEND;TZID=America/New_York:20270115T100000
DTSTAMP:20260421T134343
CREATED:20260304T173531Z
LAST-MODIFIED:20260304T231226Z
UID:990006805-1800000000-1800007200@monet.gipreview.com
SUMMARY:Pickleball
DESCRIPTION:This hot sport\, a cross between badminton\, tennis and table tennis\, is winning over the hearts of many athletes\, and we offer it right here in Sandpiper. Pickleball is played on a 44 by 20 foot court\, 1/4 the size of a tennis court and with a lower net. The smaller size means it requires less mobility\, giving people of all ages and abilities more opportunities to maintain a rally and react to opponent advances.
URL:https://monet.gipreview.com/event/pickleball/2027-01-15/
LOCATION:Westside Pickleball Courts
CATEGORIES:Community Activity
ATTACH;FMTTYPE=image/jpeg:https://monet.gipreview.com/wp-content/uploads/2026/03/IMG_0464-scaled.jpeg
END:VEVENT
BEGIN:VEVENT
DTSTART;TZID=America/New_York:20270116T080000
DTEND;TZID=America/New_York:20270116T100000
DTSTAMP:20260421T134343
CREATED:20260304T173531Z
LAST-MODIFIED:20260304T231226Z
UID:990006806-1800086400-1800093600@monet.gipreview.com
SUMMARY:Pickleball
DESCRIPTION:This hot sport\, a cross between badminton\, tennis and table tennis\, is winning over the hearts of many athletes\, and we offer it right here in Sandpiper. Pickleball is played on a 44 by 20 foot court\, 1/4 the size of a tennis court and with a lower net. The smaller size means it requires less mobility\, giving people of all ages and abilities more opportunities to maintain a rally and react to opponent advances.
URL:https://monet.gipreview.com/event/pickleball/2027-01-16/
LOCATION:Westside Pickleball Courts
CATEGORIES:Community Activity
ATTACH;FMTTYPE=image/jpeg:https://monet.gipreview.com/wp-content/uploads/2026/03/IMG_0464-scaled.jpeg
END:VEVENT
BEGIN:VEVENT
DTSTART;TZID=America/New_York:20270118T080000
DTEND;TZID=America/New_York:20270118T100000
DTSTAMP:20260421T134343
CREATED:20260304T173531Z
LAST-MODIFIED:20260304T231226Z
UID:990006807-1800259200-1800266400@monet.gipreview.com
SUMMARY:Pickleball
DESCRIPTION:This hot sport\, a cross between badminton\, tennis and table tennis\, is winning over the hearts of many athletes\, and we offer it right here in Sandpiper. Pickleball is played on a 44 by 20 foot court\, 1/4 the size of a tennis court and with a lower net. The smaller size means it requires less mobility\, giving people of all ages and abilities more opportunities to maintain a rally and react to opponent advances.
URL:https://monet.gipreview.com/event/pickleball/2027-01-18/
LOCATION:Westside Pickleball Courts
CATEGORIES:Community Activity
ATTACH;FMTTYPE=image/jpeg:https://monet.gipreview.com/wp-content/uploads/2026/03/IMG_0464-scaled.jpeg
END:VEVENT
BEGIN:VEVENT
DTSTART;TZID=America/New_York:20270119T080000
DTEND;TZID=America/New_York:20270119T100000
DTSTAMP:20260421T134343
CREATED:20260304T173531Z
LAST-MODIFIED:20260304T231226Z
UID:990006808-1800345600-1800352800@monet.gipreview.com
SUMMARY:Pickleball
DESCRIPTION:This hot sport\, a cross between badminton\, tennis and table tennis\, is winning over the hearts of many athletes\, and we offer it right here in Sandpiper. Pickleball is played on a 44 by 20 foot court\, 1/4 the size of a tennis court and with a lower net. The smaller size means it requires less mobility\, giving people of all ages and abilities more opportunities to maintain a rally and react to opponent advances.
URL:https://monet.gipreview.com/event/pickleball/2027-01-19/
LOCATION:Westside Pickleball Courts
CATEGORIES:Community Activity
ATTACH;FMTTYPE=image/jpeg:https://monet.gipreview.com/wp-content/uploads/2026/03/IMG_0464-scaled.jpeg
END:VEVENT
BEGIN:VEVENT
DTSTART;TZID=America/New_York:20270120T080000
DTEND;TZID=America/New_York:20270120T100000
DTSTAMP:20260421T134343
CREATED:20260304T173531Z
LAST-MODIFIED:20260304T231226Z
UID:990006809-1800432000-1800439200@monet.gipreview.com
SUMMARY:Pickleball
DESCRIPTION:This hot sport\, a cross between badminton\, tennis and table tennis\, is winning over the hearts of many athletes\, and we offer it right here in Sandpiper. Pickleball is played on a 44 by 20 foot court\, 1/4 the size of a tennis court and with a lower net. The smaller size means it requires less mobility\, giving people of all ages and abilities more opportunities to maintain a rally and react to opponent advances.
URL:https://monet.gipreview.com/event/pickleball/2027-01-20/
LOCATION:Westside Pickleball Courts
CATEGORIES:Community Activity
ATTACH;FMTTYPE=image/jpeg:https://monet.gipreview.com/wp-content/uploads/2026/03/IMG_0464-scaled.jpeg
END:VEVENT
BEGIN:VEVENT
DTSTART;TZID=America/New_York:20270121T080000
DTEND;TZID=America/New_York:20270121T100000
DTSTAMP:20260421T134343
CREATED:20260304T173531Z
LAST-MODIFIED:20260304T231226Z
UID:990006810-1800518400-1800525600@monet.gipreview.com
SUMMARY:Pickleball
DESCRIPTION:This hot sport\, a cross between badminton\, tennis and table tennis\, is winning over the hearts of many athletes\, and we offer it right here in Sandpiper. Pickleball is played on a 44 by 20 foot court\, 1/4 the size of a tennis court and with a lower net. The smaller size means it requires less mobility\, giving people of all ages and abilities more opportunities to maintain a rally and react to opponent advances.
URL:https://monet.gipreview.com/event/pickleball/2027-01-21/
LOCATION:Westside Pickleball Courts
CATEGORIES:Community Activity
ATTACH;FMTTYPE=image/jpeg:https://monet.gipreview.com/wp-content/uploads/2026/03/IMG_0464-scaled.jpeg
END:VEVENT
BEGIN:VEVENT
DTSTART;TZID=America/New_York:20270122T080000
DTEND;TZID=America/New_York:20270122T100000
DTSTAMP:20260421T134343
CREATED:20260304T173531Z
LAST-MODIFIED:20260304T231226Z
UID:990006811-1800604800-1800612000@monet.gipreview.com
SUMMARY:Pickleball
DESCRIPTION:This hot sport\, a cross between badminton\, tennis and table tennis\, is winning over the hearts of many athletes\, and we offer it right here in Sandpiper. Pickleball is played on a 44 by 20 foot court\, 1/4 the size of a tennis court and with a lower net. The smaller size means it requires less mobility\, giving people of all ages and abilities more opportunities to maintain a rally and react to opponent advances.
URL:https://monet.gipreview.com/event/pickleball/2027-01-22/
LOCATION:Westside Pickleball Courts
CATEGORIES:Community Activity
ATTACH;FMTTYPE=image/jpeg:https://monet.gipreview.com/wp-content/uploads/2026/03/IMG_0464-scaled.jpeg
END:VEVENT
BEGIN:VEVENT
DTSTART;TZID=America/New_York:20270123T080000
DTEND;TZID=America/New_York:20270123T100000
DTSTAMP:20260421T134343
CREATED:20260304T173531Z
LAST-MODIFIED:20260304T231226Z
UID:990006812-1800691200-1800698400@monet.gipreview.com
SUMMARY:Pickleball
DESCRIPTION:This hot sport\, a cross between badminton\, tennis and table tennis\, is winning over the hearts of many athletes\, and we offer it right here in Sandpiper. Pickleball is played on a 44 by 20 foot court\, 1/4 the size of a tennis court and with a lower net. The smaller size means it requires less mobility\, giving people of all ages and abilities more opportunities to maintain a rally and react to opponent advances.
URL:https://monet.gipreview.com/event/pickleball/2027-01-23/
LOCATION:Westside Pickleball Courts
CATEGORIES:Community Activity
ATTACH;FMTTYPE=image/jpeg:https://monet.gipreview.com/wp-content/uploads/2026/03/IMG_0464-scaled.jpeg
END:VEVENT
BEGIN:VEVENT
DTSTART;TZID=America/New_York:20270125T080000
DTEND;TZID=America/New_York:20270125T100000
DTSTAMP:20260421T134343
CREATED:20260304T173531Z
LAST-MODIFIED:20260304T231226Z
UID:990006813-1800864000-1800871200@monet.gipreview.com
SUMMARY:Pickleball
DESCRIPTION:This hot sport\, a cross between badminton\, tennis and table tennis\, is winning over the hearts of many athletes\, and we offer it right here in Sandpiper. Pickleball is played on a 44 by 20 foot court\, 1/4 the size of a tennis court and with a lower net. The smaller size means it requires less mobility\, giving people of all ages and abilities more opportunities to maintain a rally and react to opponent advances.
URL:https://monet.gipreview.com/event/pickleball/2027-01-25/
LOCATION:Westside Pickleball Courts
CATEGORIES:Community Activity
ATTACH;FMTTYPE=image/jpeg:https://monet.gipreview.com/wp-content/uploads/2026/03/IMG_0464-scaled.jpeg
END:VEVENT
BEGIN:VEVENT
DTSTART;TZID=America/New_York:20270126T080000
DTEND;TZID=America/New_York:20270126T100000
DTSTAMP:20260421T134343
CREATED:20260304T173531Z
LAST-MODIFIED:20260304T231226Z
UID:990006814-1800950400-1800957600@monet.gipreview.com
SUMMARY:Pickleball
DESCRIPTION:This hot sport\, a cross between badminton\, tennis and table tennis\, is winning over the hearts of many athletes\, and we offer it right here in Sandpiper. Pickleball is played on a 44 by 20 foot court\, 1/4 the size of a tennis court and with a lower net. The smaller size means it requires less mobility\, giving people of all ages and abilities more opportunities to maintain a rally and react to opponent advances.
URL:https://monet.gipreview.com/event/pickleball/2027-01-26/
LOCATION:Westside Pickleball Courts
CATEGORIES:Community Activity
ATTACH;FMTTYPE=image/jpeg:https://monet.gipreview.com/wp-content/uploads/2026/03/IMG_0464-scaled.jpeg
END:VEVENT
BEGIN:VEVENT
DTSTART;TZID=America/New_York:20270127T080000
DTEND;TZID=America/New_York:20270127T100000
DTSTAMP:20260421T134343
CREATED:20260304T173531Z
LAST-MODIFIED:20260304T231226Z
UID:990006815-1801036800-1801044000@monet.gipreview.com
SUMMARY:Pickleball
DESCRIPTION:This hot sport\, a cross between badminton\, tennis and table tennis\, is winning over the hearts of many athletes\, and we offer it right here in Sandpiper. Pickleball is played on a 44 by 20 foot court\, 1/4 the size of a tennis court and with a lower net. The smaller size means it requires less mobility\, giving people of all ages and abilities more opportunities to maintain a rally and react to opponent advances.
URL:https://monet.gipreview.com/event/pickleball/2027-01-27/
LOCATION:Westside Pickleball Courts
CATEGORIES:Community Activity
ATTACH;FMTTYPE=image/jpeg:https://monet.gipreview.com/wp-content/uploads/2026/03/IMG_0464-scaled.jpeg
END:VEVENT
BEGIN:VEVENT
DTSTART;TZID=America/New_York:20270128T080000
DTEND;TZID=America/New_York:20270128T100000
DTSTAMP:20260421T134343
CREATED:20260304T173531Z
LAST-MODIFIED:20260304T231226Z
UID:990006816-1801123200-1801130400@monet.gipreview.com
SUMMARY:Pickleball
DESCRIPTION:This hot sport\, a cross between badminton\, tennis and table tennis\, is winning over the hearts of many athletes\, and we offer it right here in Sandpiper. Pickleball is played on a 44 by 20 foot court\, 1/4 the size of a tennis court and with a lower net. The smaller size means it requires less mobility\, giving people of all ages and abilities more opportunities to maintain a rally and react to opponent advances.
URL:https://monet.gipreview.com/event/pickleball/2027-01-28/
LOCATION:Westside Pickleball Courts
CATEGORIES:Community Activity
ATTACH;FMTTYPE=image/jpeg:https://monet.gipreview.com/wp-content/uploads/2026/03/IMG_0464-scaled.jpeg
END:VEVENT
BEGIN:VEVENT
DTSTART;TZID=America/New_York:20270129T080000
DTEND;TZID=America/New_York:20270129T100000
DTSTAMP:20260421T134343
CREATED:20260304T173531Z
LAST-MODIFIED:20260304T231226Z
UID:990006817-1801209600-1801216800@monet.gipreview.com
SUMMARY:Pickleball
DESCRIPTION:This hot sport\, a cross between badminton\, tennis and table tennis\, is winning over the hearts of many athletes\, and we offer it right here in Sandpiper. Pickleball is played on a 44 by 20 foot court\, 1/4 the size of a tennis court and with a lower net. The smaller size means it requires less mobility\, giving people of all ages and abilities more opportunities to maintain a rally and react to opponent advances.
URL:https://monet.gipreview.com/event/pickleball/2027-01-29/
LOCATION:Westside Pickleball Courts
CATEGORIES:Community Activity
ATTACH;FMTTYPE=image/jpeg:https://monet.gipreview.com/wp-content/uploads/2026/03/IMG_0464-scaled.jpeg
END:VEVENT
BEGIN:VEVENT
DTSTART;TZID=America/New_York:20270130T080000
DTEND;TZID=America/New_York:20270130T100000
DTSTAMP:20260421T134343
CREATED:20260304T173531Z
LAST-MODIFIED:20260304T231226Z
UID:990006818-1801296000-1801303200@monet.gipreview.com
SUMMARY:Pickleball
DESCRIPTION:This hot sport\, a cross between badminton\, tennis and table tennis\, is winning over the hearts of many athletes\, and we offer it right here in Sandpiper. Pickleball is played on a 44 by 20 foot court\, 1/4 the size of a tennis court and with a lower net. The smaller size means it requires less mobility\, giving people of all ages and abilities more opportunities to maintain a rally and react to opponent advances.
URL:https://monet.gipreview.com/event/pickleball/2027-01-30/
LOCATION:Westside Pickleball Courts
CATEGORIES:Community Activity
ATTACH;FMTTYPE=image/jpeg:https://monet.gipreview.com/wp-content/uploads/2026/03/IMG_0464-scaled.jpeg
END:VEVENT
BEGIN:VEVENT
DTSTART;TZID=America/New_York:20270201T080000
DTEND;TZID=America/New_York:20270201T100000
DTSTAMP:20260421T134343
CREATED:20260304T173531Z
LAST-MODIFIED:20260304T231226Z
UID:990006819-1801468800-1801476000@monet.gipreview.com
SUMMARY:Pickleball
DESCRIPTION:This hot sport\, a cross between badminton\, tennis and table tennis\, is winning over the hearts of many athletes\, and we offer it right here in Sandpiper. Pickleball is played on a 44 by 20 foot court\, 1/4 the size of a tennis court and with a lower net. The smaller size means it requires less mobility\, giving people of all ages and abilities more opportunities to maintain a rally and react to opponent advances.
URL:https://monet.gipreview.com/event/pickleball/2027-02-01/
LOCATION:Westside Pickleball Courts
CATEGORIES:Community Activity
ATTACH;FMTTYPE=image/jpeg:https://monet.gipreview.com/wp-content/uploads/2026/03/IMG_0464-scaled.jpeg
END:VEVENT
BEGIN:VEVENT
DTSTART;TZID=America/New_York:20270202T080000
DTEND;TZID=America/New_York:20270202T100000
DTSTAMP:20260421T134343
CREATED:20260304T173531Z
LAST-MODIFIED:20260304T231226Z
UID:990006820-1801555200-1801562400@monet.gipreview.com
SUMMARY:Pickleball
DESCRIPTION:This hot sport\, a cross between badminton\, tennis and table tennis\, is winning over the hearts of many athletes\, and we offer it right here in Sandpiper. Pickleball is played on a 44 by 20 foot court\, 1/4 the size of a tennis court and with a lower net. The smaller size means it requires less mobility\, giving people of all ages and abilities more opportunities to maintain a rally and react to opponent advances.
URL:https://monet.gipreview.com/event/pickleball/2027-02-02/
LOCATION:Westside Pickleball Courts
CATEGORIES:Community Activity
ATTACH;FMTTYPE=image/jpeg:https://monet.gipreview.com/wp-content/uploads/2026/03/IMG_0464-scaled.jpeg
END:VEVENT
BEGIN:VEVENT
DTSTART;TZID=America/New_York:20270203T080000
DTEND;TZID=America/New_York:20270203T100000
DTSTAMP:20260421T134343
CREATED:20260304T173531Z
LAST-MODIFIED:20260304T231226Z
UID:990006821-1801641600-1801648800@monet.gipreview.com
SUMMARY:Pickleball
DESCRIPTION:This hot sport\, a cross between badminton\, tennis and table tennis\, is winning over the hearts of many athletes\, and we offer it right here in Sandpiper. Pickleball is played on a 44 by 20 foot court\, 1/4 the size of a tennis court and with a lower net. The smaller size means it requires less mobility\, giving people of all ages and abilities more opportunities to maintain a rally and react to opponent advances.
URL:https://monet.gipreview.com/event/pickleball/2027-02-03/
LOCATION:Westside Pickleball Courts
CATEGORIES:Community Activity
ATTACH;FMTTYPE=image/jpeg:https://monet.gipreview.com/wp-content/uploads/2026/03/IMG_0464-scaled.jpeg
END:VEVENT
BEGIN:VEVENT
DTSTART;TZID=America/New_York:20270204T080000
DTEND;TZID=America/New_York:20270204T100000
DTSTAMP:20260421T134343
CREATED:20260304T173531Z
LAST-MODIFIED:20260304T231226Z
UID:990006822-1801728000-1801735200@monet.gipreview.com
SUMMARY:Pickleball
DESCRIPTION:This hot sport\, a cross between badminton\, tennis and table tennis\, is winning over the hearts of many athletes\, and we offer it right here in Sandpiper. Pickleball is played on a 44 by 20 foot court\, 1/4 the size of a tennis court and with a lower net. The smaller size means it requires less mobility\, giving people of all ages and abilities more opportunities to maintain a rally and react to opponent advances.
URL:https://monet.gipreview.com/event/pickleball/2027-02-04/
LOCATION:Westside Pickleball Courts
CATEGORIES:Community Activity
ATTACH;FMTTYPE=image/jpeg:https://monet.gipreview.com/wp-content/uploads/2026/03/IMG_0464-scaled.jpeg
END:VEVENT
BEGIN:VEVENT
DTSTART;TZID=America/New_York:20270205T080000
DTEND;TZID=America/New_York:20270205T100000
DTSTAMP:20260421T134343
CREATED:20260304T173531Z
LAST-MODIFIED:20260304T231226Z
UID:990006823-1801814400-1801821600@monet.gipreview.com
SUMMARY:Pickleball
DESCRIPTION:This hot sport\, a cross between badminton\, tennis and table tennis\, is winning over the hearts of many athletes\, and we offer it right here in Sandpiper. Pickleball is played on a 44 by 20 foot court\, 1/4 the size of a tennis court and with a lower net. The smaller size means it requires less mobility\, giving people of all ages and abilities more opportunities to maintain a rally and react to opponent advances.
URL:https://monet.gipreview.com/event/pickleball/2027-02-05/
LOCATION:Westside Pickleball Courts
CATEGORIES:Community Activity
ATTACH;FMTTYPE=image/jpeg:https://monet.gipreview.com/wp-content/uploads/2026/03/IMG_0464-scaled.jpeg
END:VEVENT
BEGIN:VEVENT
DTSTART;TZID=America/New_York:20270206T080000
DTEND;TZID=America/New_York:20270206T100000
DTSTAMP:20260421T134343
CREATED:20260304T173531Z
LAST-MODIFIED:20260304T231226Z
UID:990006824-1801900800-1801908000@monet.gipreview.com
SUMMARY:Pickleball
DESCRIPTION:This hot sport\, a cross between badminton\, tennis and table tennis\, is winning over the hearts of many athletes\, and we offer it right here in Sandpiper. Pickleball is played on a 44 by 20 foot court\, 1/4 the size of a tennis court and with a lower net. The smaller size means it requires less mobility\, giving people of all ages and abilities more opportunities to maintain a rally and react to opponent advances.
URL:https://monet.gipreview.com/event/pickleball/2027-02-06/
LOCATION:Westside Pickleball Courts
CATEGORIES:Community Activity
ATTACH;FMTTYPE=image/jpeg:https://monet.gipreview.com/wp-content/uploads/2026/03/IMG_0464-scaled.jpeg
END:VEVENT
BEGIN:VEVENT
DTSTART;TZID=America/New_York:20270208T080000
DTEND;TZID=America/New_York:20270208T100000
DTSTAMP:20260421T134343
CREATED:20260304T173531Z
LAST-MODIFIED:20260304T231226Z
UID:990006825-1802073600-1802080800@monet.gipreview.com
SUMMARY:Pickleball
DESCRIPTION:This hot sport\, a cross between badminton\, tennis and table tennis\, is winning over the hearts of many athletes\, and we offer it right here in Sandpiper. Pickleball is played on a 44 by 20 foot court\, 1/4 the size of a tennis court and with a lower net. The smaller size means it requires less mobility\, giving people of all ages and abilities more opportunities to maintain a rally and react to opponent advances.
URL:https://monet.gipreview.com/event/pickleball/2027-02-08/
LOCATION:Westside Pickleball Courts
CATEGORIES:Community Activity
ATTACH;FMTTYPE=image/jpeg:https://monet.gipreview.com/wp-content/uploads/2026/03/IMG_0464-scaled.jpeg
END:VEVENT
BEGIN:VEVENT
DTSTART;TZID=America/New_York:20270209T080000
DTEND;TZID=America/New_York:20270209T100000
DTSTAMP:20260421T134343
CREATED:20260304T173531Z
LAST-MODIFIED:20260304T231226Z
UID:990006826-1802160000-1802167200@monet.gipreview.com
SUMMARY:Pickleball
DESCRIPTION:This hot sport\, a cross between badminton\, tennis and table tennis\, is winning over the hearts of many athletes\, and we offer it right here in Sandpiper. Pickleball is played on a 44 by 20 foot court\, 1/4 the size of a tennis court and with a lower net. The smaller size means it requires less mobility\, giving people of all ages and abilities more opportunities to maintain a rally and react to opponent advances.
URL:https://monet.gipreview.com/event/pickleball/2027-02-09/
LOCATION:Westside Pickleball Courts
CATEGORIES:Community Activity
ATTACH;FMTTYPE=image/jpeg:https://monet.gipreview.com/wp-content/uploads/2026/03/IMG_0464-scaled.jpeg
END:VEVENT
BEGIN:VEVENT
DTSTART;TZID=America/New_York:20270210T080000
DTEND;TZID=America/New_York:20270210T100000
DTSTAMP:20260421T134343
CREATED:20260304T173531Z
LAST-MODIFIED:20260304T231226Z
UID:990006827-1802246400-1802253600@monet.gipreview.com
SUMMARY:Pickleball
DESCRIPTION:This hot sport\, a cross between badminton\, tennis and table tennis\, is winning over the hearts of many athletes\, and we offer it right here in Sandpiper. Pickleball is played on a 44 by 20 foot court\, 1/4 the size of a tennis court and with a lower net. The smaller size means it requires less mobility\, giving people of all ages and abilities more opportunities to maintain a rally and react to opponent advances.
URL:https://monet.gipreview.com/event/pickleball/2027-02-10/
LOCATION:Westside Pickleball Courts
CATEGORIES:Community Activity
ATTACH;FMTTYPE=image/jpeg:https://monet.gipreview.com/wp-content/uploads/2026/03/IMG_0464-scaled.jpeg
END:VEVENT
BEGIN:VEVENT
DTSTART;TZID=America/New_York:20270211T080000
DTEND;TZID=America/New_York:20270211T100000
DTSTAMP:20260421T134343
CREATED:20260304T173531Z
LAST-MODIFIED:20260304T231226Z
UID:990006828-1802332800-1802340000@monet.gipreview.com
SUMMARY:Pickleball
DESCRIPTION:This hot sport\, a cross between badminton\, tennis and table tennis\, is winning over the hearts of many athletes\, and we offer it right here in Sandpiper. Pickleball is played on a 44 by 20 foot court\, 1/4 the size of a tennis court and with a lower net. The smaller size means it requires less mobility\, giving people of all ages and abilities more opportunities to maintain a rally and react to opponent advances.
URL:https://monet.gipreview.com/event/pickleball/2027-02-11/
LOCATION:Westside Pickleball Courts
CATEGORIES:Community Activity
ATTACH;FMTTYPE=image/jpeg:https://monet.gipreview.com/wp-content/uploads/2026/03/IMG_0464-scaled.jpeg
END:VEVENT
BEGIN:VEVENT
DTSTART;TZID=America/New_York:20270212T080000
DTEND;TZID=America/New_York:20270212T100000
DTSTAMP:20260421T134343
CREATED:20260304T173531Z
LAST-MODIFIED:20260304T231226Z
UID:990006829-1802419200-1802426400@monet.gipreview.com
SUMMARY:Pickleball
DESCRIPTION:This hot sport\, a cross between badminton\, tennis and table tennis\, is winning over the hearts of many athletes\, and we offer it right here in Sandpiper. Pickleball is played on a 44 by 20 foot court\, 1/4 the size of a tennis court and with a lower net. The smaller size means it requires less mobility\, giving people of all ages and abilities more opportunities to maintain a rally and react to opponent advances.
URL:https://monet.gipreview.com/event/pickleball/2027-02-12/
LOCATION:Westside Pickleball Courts
CATEGORIES:Community Activity
ATTACH;FMTTYPE=image/jpeg:https://monet.gipreview.com/wp-content/uploads/2026/03/IMG_0464-scaled.jpeg
END:VEVENT
END:VCALENDAR