BEGIN:VCALENDAR
VERSION:2.0
PRODID:-//Sandpiper - ECPv6.15.20//NONSGML v1.0//EN
CALSCALE:GREGORIAN
METHOD:PUBLISH
X-WR-CALNAME:Sandpiper
X-ORIGINAL-URL:https://monet.gipreview.com
X-WR-CALDESC:Events for Sandpiper
REFRESH-INTERVAL;VALUE=DURATION:PT1H
X-Robots-Tag:noindex
X-PUBLISHED-TTL:PT1H
BEGIN:VTIMEZONE
TZID:America/New_York
BEGIN:DAYLIGHT
TZOFFSETFROM:-0500
TZOFFSETTO:-0400
TZNAME:EDT
DTSTART:20260308T070000
END:DAYLIGHT
BEGIN:STANDARD
TZOFFSETFROM:-0400
TZOFFSETTO:-0500
TZNAME:EST
DTSTART:20261101T060000
END:STANDARD
BEGIN:DAYLIGHT
TZOFFSETFROM:-0500
TZOFFSETTO:-0400
TZNAME:EDT
DTSTART:20270314T070000
END:DAYLIGHT
BEGIN:STANDARD
TZOFFSETFROM:-0400
TZOFFSETTO:-0500
TZNAME:EST
DTSTART:20271107T060000
END:STANDARD
BEGIN:DAYLIGHT
TZOFFSETFROM:-0500
TZOFFSETTO:-0400
TZNAME:EDT
DTSTART:20280312T070000
END:DAYLIGHT
BEGIN:STANDARD
TZOFFSETFROM:-0400
TZOFFSETTO:-0500
TZNAME:EST
DTSTART:20281105T060000
END:STANDARD
END:VTIMEZONE
BEGIN:VEVENT
DTSTART;TZID=America/New_York:20270603T080000
DTEND;TZID=America/New_York:20270603T100000
DTSTAMP:20260425T163420
CREATED:20260304T173531Z
LAST-MODIFIED:20260304T231226Z
UID:990006924-1812009600-1812016800@monet.gipreview.com
SUMMARY:Pickleball
DESCRIPTION:This hot sport\, a cross between badminton\, tennis and table tennis\, is winning over the hearts of many athletes\, and we offer it right here in Sandpiper. Pickleball is played on a 44 by 20 foot court\, 1/4 the size of a tennis court and with a lower net. The smaller size means it requires less mobility\, giving people of all ages and abilities more opportunities to maintain a rally and react to opponent advances.
URL:https://monet.gipreview.com/event/pickleball/2027-06-03/
LOCATION:Westside Pickleball Courts
CATEGORIES:Community Activity
ATTACH;FMTTYPE=image/jpeg:https://monet.gipreview.com/wp-content/uploads/2026/03/IMG_0464-scaled.jpeg
END:VEVENT
BEGIN:VEVENT
DTSTART;TZID=America/New_York:20270604T080000
DTEND;TZID=America/New_York:20270604T100000
DTSTAMP:20260425T163420
CREATED:20260304T173531Z
LAST-MODIFIED:20260304T231226Z
UID:990006925-1812096000-1812103200@monet.gipreview.com
SUMMARY:Pickleball
DESCRIPTION:This hot sport\, a cross between badminton\, tennis and table tennis\, is winning over the hearts of many athletes\, and we offer it right here in Sandpiper. Pickleball is played on a 44 by 20 foot court\, 1/4 the size of a tennis court and with a lower net. The smaller size means it requires less mobility\, giving people of all ages and abilities more opportunities to maintain a rally and react to opponent advances.
URL:https://monet.gipreview.com/event/pickleball/2027-06-04/
LOCATION:Westside Pickleball Courts
CATEGORIES:Community Activity
ATTACH;FMTTYPE=image/jpeg:https://monet.gipreview.com/wp-content/uploads/2026/03/IMG_0464-scaled.jpeg
END:VEVENT
BEGIN:VEVENT
DTSTART;TZID=America/New_York:20270605T080000
DTEND;TZID=America/New_York:20270605T100000
DTSTAMP:20260425T163420
CREATED:20260304T173531Z
LAST-MODIFIED:20260304T231226Z
UID:990006926-1812182400-1812189600@monet.gipreview.com
SUMMARY:Pickleball
DESCRIPTION:This hot sport\, a cross between badminton\, tennis and table tennis\, is winning over the hearts of many athletes\, and we offer it right here in Sandpiper. Pickleball is played on a 44 by 20 foot court\, 1/4 the size of a tennis court and with a lower net. The smaller size means it requires less mobility\, giving people of all ages and abilities more opportunities to maintain a rally and react to opponent advances.
URL:https://monet.gipreview.com/event/pickleball/2027-06-05/
LOCATION:Westside Pickleball Courts
CATEGORIES:Community Activity
ATTACH;FMTTYPE=image/jpeg:https://monet.gipreview.com/wp-content/uploads/2026/03/IMG_0464-scaled.jpeg
END:VEVENT
BEGIN:VEVENT
DTSTART;TZID=America/New_York:20270607T080000
DTEND;TZID=America/New_York:20270607T100000
DTSTAMP:20260425T163420
CREATED:20260304T173531Z
LAST-MODIFIED:20260304T231226Z
UID:990006927-1812355200-1812362400@monet.gipreview.com
SUMMARY:Pickleball
DESCRIPTION:This hot sport\, a cross between badminton\, tennis and table tennis\, is winning over the hearts of many athletes\, and we offer it right here in Sandpiper. Pickleball is played on a 44 by 20 foot court\, 1/4 the size of a tennis court and with a lower net. The smaller size means it requires less mobility\, giving people of all ages and abilities more opportunities to maintain a rally and react to opponent advances.
URL:https://monet.gipreview.com/event/pickleball/2027-06-07/
LOCATION:Westside Pickleball Courts
CATEGORIES:Community Activity
ATTACH;FMTTYPE=image/jpeg:https://monet.gipreview.com/wp-content/uploads/2026/03/IMG_0464-scaled.jpeg
END:VEVENT
BEGIN:VEVENT
DTSTART;TZID=America/New_York:20270608T080000
DTEND;TZID=America/New_York:20270608T100000
DTSTAMP:20260425T163420
CREATED:20260304T173531Z
LAST-MODIFIED:20260304T231226Z
UID:990006928-1812441600-1812448800@monet.gipreview.com
SUMMARY:Pickleball
DESCRIPTION:This hot sport\, a cross between badminton\, tennis and table tennis\, is winning over the hearts of many athletes\, and we offer it right here in Sandpiper. Pickleball is played on a 44 by 20 foot court\, 1/4 the size of a tennis court and with a lower net. The smaller size means it requires less mobility\, giving people of all ages and abilities more opportunities to maintain a rally and react to opponent advances.
URL:https://monet.gipreview.com/event/pickleball/2027-06-08/
LOCATION:Westside Pickleball Courts
CATEGORIES:Community Activity
ATTACH;FMTTYPE=image/jpeg:https://monet.gipreview.com/wp-content/uploads/2026/03/IMG_0464-scaled.jpeg
END:VEVENT
BEGIN:VEVENT
DTSTART;TZID=America/New_York:20270609T080000
DTEND;TZID=America/New_York:20270609T100000
DTSTAMP:20260425T163420
CREATED:20260304T173531Z
LAST-MODIFIED:20260304T231226Z
UID:990006929-1812528000-1812535200@monet.gipreview.com
SUMMARY:Pickleball
DESCRIPTION:This hot sport\, a cross between badminton\, tennis and table tennis\, is winning over the hearts of many athletes\, and we offer it right here in Sandpiper. Pickleball is played on a 44 by 20 foot court\, 1/4 the size of a tennis court and with a lower net. The smaller size means it requires less mobility\, giving people of all ages and abilities more opportunities to maintain a rally and react to opponent advances.
URL:https://monet.gipreview.com/event/pickleball/2027-06-09/
LOCATION:Westside Pickleball Courts
CATEGORIES:Community Activity
ATTACH;FMTTYPE=image/jpeg:https://monet.gipreview.com/wp-content/uploads/2026/03/IMG_0464-scaled.jpeg
END:VEVENT
BEGIN:VEVENT
DTSTART;TZID=America/New_York:20270610T080000
DTEND;TZID=America/New_York:20270610T100000
DTSTAMP:20260425T163420
CREATED:20260304T173531Z
LAST-MODIFIED:20260304T231226Z
UID:990006930-1812614400-1812621600@monet.gipreview.com
SUMMARY:Pickleball
DESCRIPTION:This hot sport\, a cross between badminton\, tennis and table tennis\, is winning over the hearts of many athletes\, and we offer it right here in Sandpiper. Pickleball is played on a 44 by 20 foot court\, 1/4 the size of a tennis court and with a lower net. The smaller size means it requires less mobility\, giving people of all ages and abilities more opportunities to maintain a rally and react to opponent advances.
URL:https://monet.gipreview.com/event/pickleball/2027-06-10/
LOCATION:Westside Pickleball Courts
CATEGORIES:Community Activity
ATTACH;FMTTYPE=image/jpeg:https://monet.gipreview.com/wp-content/uploads/2026/03/IMG_0464-scaled.jpeg
END:VEVENT
BEGIN:VEVENT
DTSTART;TZID=America/New_York:20270611T080000
DTEND;TZID=America/New_York:20270611T100000
DTSTAMP:20260425T163420
CREATED:20260304T173531Z
LAST-MODIFIED:20260304T231226Z
UID:990006931-1812700800-1812708000@monet.gipreview.com
SUMMARY:Pickleball
DESCRIPTION:This hot sport\, a cross between badminton\, tennis and table tennis\, is winning over the hearts of many athletes\, and we offer it right here in Sandpiper. Pickleball is played on a 44 by 20 foot court\, 1/4 the size of a tennis court and with a lower net. The smaller size means it requires less mobility\, giving people of all ages and abilities more opportunities to maintain a rally and react to opponent advances.
URL:https://monet.gipreview.com/event/pickleball/2027-06-11/
LOCATION:Westside Pickleball Courts
CATEGORIES:Community Activity
ATTACH;FMTTYPE=image/jpeg:https://monet.gipreview.com/wp-content/uploads/2026/03/IMG_0464-scaled.jpeg
END:VEVENT
BEGIN:VEVENT
DTSTART;TZID=America/New_York:20270612T080000
DTEND;TZID=America/New_York:20270612T100000
DTSTAMP:20260425T163420
CREATED:20260304T173531Z
LAST-MODIFIED:20260304T231226Z
UID:990006932-1812787200-1812794400@monet.gipreview.com
SUMMARY:Pickleball
DESCRIPTION:This hot sport\, a cross between badminton\, tennis and table tennis\, is winning over the hearts of many athletes\, and we offer it right here in Sandpiper. Pickleball is played on a 44 by 20 foot court\, 1/4 the size of a tennis court and with a lower net. The smaller size means it requires less mobility\, giving people of all ages and abilities more opportunities to maintain a rally and react to opponent advances.
URL:https://monet.gipreview.com/event/pickleball/2027-06-12/
LOCATION:Westside Pickleball Courts
CATEGORIES:Community Activity
ATTACH;FMTTYPE=image/jpeg:https://monet.gipreview.com/wp-content/uploads/2026/03/IMG_0464-scaled.jpeg
END:VEVENT
BEGIN:VEVENT
DTSTART;TZID=America/New_York:20270614T080000
DTEND;TZID=America/New_York:20270614T100000
DTSTAMP:20260425T163420
CREATED:20260304T173531Z
LAST-MODIFIED:20260304T231226Z
UID:990006933-1812960000-1812967200@monet.gipreview.com
SUMMARY:Pickleball
DESCRIPTION:This hot sport\, a cross between badminton\, tennis and table tennis\, is winning over the hearts of many athletes\, and we offer it right here in Sandpiper. Pickleball is played on a 44 by 20 foot court\, 1/4 the size of a tennis court and with a lower net. The smaller size means it requires less mobility\, giving people of all ages and abilities more opportunities to maintain a rally and react to opponent advances.
URL:https://monet.gipreview.com/event/pickleball/2027-06-14/
LOCATION:Westside Pickleball Courts
CATEGORIES:Community Activity
ATTACH;FMTTYPE=image/jpeg:https://monet.gipreview.com/wp-content/uploads/2026/03/IMG_0464-scaled.jpeg
END:VEVENT
BEGIN:VEVENT
DTSTART;TZID=America/New_York:20270615T080000
DTEND;TZID=America/New_York:20270615T100000
DTSTAMP:20260425T163420
CREATED:20260304T173531Z
LAST-MODIFIED:20260304T231226Z
UID:990006934-1813046400-1813053600@monet.gipreview.com
SUMMARY:Pickleball
DESCRIPTION:This hot sport\, a cross between badminton\, tennis and table tennis\, is winning over the hearts of many athletes\, and we offer it right here in Sandpiper. Pickleball is played on a 44 by 20 foot court\, 1/4 the size of a tennis court and with a lower net. The smaller size means it requires less mobility\, giving people of all ages and abilities more opportunities to maintain a rally and react to opponent advances.
URL:https://monet.gipreview.com/event/pickleball/2027-06-15/
LOCATION:Westside Pickleball Courts
CATEGORIES:Community Activity
ATTACH;FMTTYPE=image/jpeg:https://monet.gipreview.com/wp-content/uploads/2026/03/IMG_0464-scaled.jpeg
END:VEVENT
BEGIN:VEVENT
DTSTART;TZID=America/New_York:20270616T080000
DTEND;TZID=America/New_York:20270616T100000
DTSTAMP:20260425T163420
CREATED:20260304T173531Z
LAST-MODIFIED:20260304T231226Z
UID:990006935-1813132800-1813140000@monet.gipreview.com
SUMMARY:Pickleball
DESCRIPTION:This hot sport\, a cross between badminton\, tennis and table tennis\, is winning over the hearts of many athletes\, and we offer it right here in Sandpiper. Pickleball is played on a 44 by 20 foot court\, 1/4 the size of a tennis court and with a lower net. The smaller size means it requires less mobility\, giving people of all ages and abilities more opportunities to maintain a rally and react to opponent advances.
URL:https://monet.gipreview.com/event/pickleball/2027-06-16/
LOCATION:Westside Pickleball Courts
CATEGORIES:Community Activity
ATTACH;FMTTYPE=image/jpeg:https://monet.gipreview.com/wp-content/uploads/2026/03/IMG_0464-scaled.jpeg
END:VEVENT
BEGIN:VEVENT
DTSTART;TZID=America/New_York:20270617T080000
DTEND;TZID=America/New_York:20270617T100000
DTSTAMP:20260425T163420
CREATED:20260304T173531Z
LAST-MODIFIED:20260304T231226Z
UID:990006936-1813219200-1813226400@monet.gipreview.com
SUMMARY:Pickleball
DESCRIPTION:This hot sport\, a cross between badminton\, tennis and table tennis\, is winning over the hearts of many athletes\, and we offer it right here in Sandpiper. Pickleball is played on a 44 by 20 foot court\, 1/4 the size of a tennis court and with a lower net. The smaller size means it requires less mobility\, giving people of all ages and abilities more opportunities to maintain a rally and react to opponent advances.
URL:https://monet.gipreview.com/event/pickleball/2027-06-17/
LOCATION:Westside Pickleball Courts
CATEGORIES:Community Activity
ATTACH;FMTTYPE=image/jpeg:https://monet.gipreview.com/wp-content/uploads/2026/03/IMG_0464-scaled.jpeg
END:VEVENT
BEGIN:VEVENT
DTSTART;TZID=America/New_York:20270618T080000
DTEND;TZID=America/New_York:20270618T100000
DTSTAMP:20260425T163420
CREATED:20260304T173531Z
LAST-MODIFIED:20260304T231226Z
UID:990006937-1813305600-1813312800@monet.gipreview.com
SUMMARY:Pickleball
DESCRIPTION:This hot sport\, a cross between badminton\, tennis and table tennis\, is winning over the hearts of many athletes\, and we offer it right here in Sandpiper. Pickleball is played on a 44 by 20 foot court\, 1/4 the size of a tennis court and with a lower net. The smaller size means it requires less mobility\, giving people of all ages and abilities more opportunities to maintain a rally and react to opponent advances.
URL:https://monet.gipreview.com/event/pickleball/2027-06-18/
LOCATION:Westside Pickleball Courts
CATEGORIES:Community Activity
ATTACH;FMTTYPE=image/jpeg:https://monet.gipreview.com/wp-content/uploads/2026/03/IMG_0464-scaled.jpeg
END:VEVENT
BEGIN:VEVENT
DTSTART;TZID=America/New_York:20270619T080000
DTEND;TZID=America/New_York:20270619T100000
DTSTAMP:20260425T163420
CREATED:20260304T173531Z
LAST-MODIFIED:20260304T231226Z
UID:990006938-1813392000-1813399200@monet.gipreview.com
SUMMARY:Pickleball
DESCRIPTION:This hot sport\, a cross between badminton\, tennis and table tennis\, is winning over the hearts of many athletes\, and we offer it right here in Sandpiper. Pickleball is played on a 44 by 20 foot court\, 1/4 the size of a tennis court and with a lower net. The smaller size means it requires less mobility\, giving people of all ages and abilities more opportunities to maintain a rally and react to opponent advances.
URL:https://monet.gipreview.com/event/pickleball/2027-06-19/
LOCATION:Westside Pickleball Courts
CATEGORIES:Community Activity
ATTACH;FMTTYPE=image/jpeg:https://monet.gipreview.com/wp-content/uploads/2026/03/IMG_0464-scaled.jpeg
END:VEVENT
BEGIN:VEVENT
DTSTART;TZID=America/New_York:20270621T080000
DTEND;TZID=America/New_York:20270621T100000
DTSTAMP:20260425T163420
CREATED:20260304T173531Z
LAST-MODIFIED:20260304T231226Z
UID:990006939-1813564800-1813572000@monet.gipreview.com
SUMMARY:Pickleball
DESCRIPTION:This hot sport\, a cross between badminton\, tennis and table tennis\, is winning over the hearts of many athletes\, and we offer it right here in Sandpiper. Pickleball is played on a 44 by 20 foot court\, 1/4 the size of a tennis court and with a lower net. The smaller size means it requires less mobility\, giving people of all ages and abilities more opportunities to maintain a rally and react to opponent advances.
URL:https://monet.gipreview.com/event/pickleball/2027-06-21/
LOCATION:Westside Pickleball Courts
CATEGORIES:Community Activity
ATTACH;FMTTYPE=image/jpeg:https://monet.gipreview.com/wp-content/uploads/2026/03/IMG_0464-scaled.jpeg
END:VEVENT
BEGIN:VEVENT
DTSTART;TZID=America/New_York:20270622T080000
DTEND;TZID=America/New_York:20270622T100000
DTSTAMP:20260425T163420
CREATED:20260304T173531Z
LAST-MODIFIED:20260304T231226Z
UID:990006940-1813651200-1813658400@monet.gipreview.com
SUMMARY:Pickleball
DESCRIPTION:This hot sport\, a cross between badminton\, tennis and table tennis\, is winning over the hearts of many athletes\, and we offer it right here in Sandpiper. Pickleball is played on a 44 by 20 foot court\, 1/4 the size of a tennis court and with a lower net. The smaller size means it requires less mobility\, giving people of all ages and abilities more opportunities to maintain a rally and react to opponent advances.
URL:https://monet.gipreview.com/event/pickleball/2027-06-22/
LOCATION:Westside Pickleball Courts
CATEGORIES:Community Activity
ATTACH;FMTTYPE=image/jpeg:https://monet.gipreview.com/wp-content/uploads/2026/03/IMG_0464-scaled.jpeg
END:VEVENT
BEGIN:VEVENT
DTSTART;TZID=America/New_York:20270623T080000
DTEND;TZID=America/New_York:20270623T100000
DTSTAMP:20260425T163420
CREATED:20260304T173531Z
LAST-MODIFIED:20260304T231226Z
UID:990006941-1813737600-1813744800@monet.gipreview.com
SUMMARY:Pickleball
DESCRIPTION:This hot sport\, a cross between badminton\, tennis and table tennis\, is winning over the hearts of many athletes\, and we offer it right here in Sandpiper. Pickleball is played on a 44 by 20 foot court\, 1/4 the size of a tennis court and with a lower net. The smaller size means it requires less mobility\, giving people of all ages and abilities more opportunities to maintain a rally and react to opponent advances.
URL:https://monet.gipreview.com/event/pickleball/2027-06-23/
LOCATION:Westside Pickleball Courts
CATEGORIES:Community Activity
ATTACH;FMTTYPE=image/jpeg:https://monet.gipreview.com/wp-content/uploads/2026/03/IMG_0464-scaled.jpeg
END:VEVENT
BEGIN:VEVENT
DTSTART;TZID=America/New_York:20270624T080000
DTEND;TZID=America/New_York:20270624T100000
DTSTAMP:20260425T163420
CREATED:20260304T173531Z
LAST-MODIFIED:20260304T231226Z
UID:990006942-1813824000-1813831200@monet.gipreview.com
SUMMARY:Pickleball
DESCRIPTION:This hot sport\, a cross between badminton\, tennis and table tennis\, is winning over the hearts of many athletes\, and we offer it right here in Sandpiper. Pickleball is played on a 44 by 20 foot court\, 1/4 the size of a tennis court and with a lower net. The smaller size means it requires less mobility\, giving people of all ages and abilities more opportunities to maintain a rally and react to opponent advances.
URL:https://monet.gipreview.com/event/pickleball/2027-06-24/
LOCATION:Westside Pickleball Courts
CATEGORIES:Community Activity
ATTACH;FMTTYPE=image/jpeg:https://monet.gipreview.com/wp-content/uploads/2026/03/IMG_0464-scaled.jpeg
END:VEVENT
BEGIN:VEVENT
DTSTART;TZID=America/New_York:20270625T080000
DTEND;TZID=America/New_York:20270625T100000
DTSTAMP:20260425T163420
CREATED:20260304T173531Z
LAST-MODIFIED:20260304T231226Z
UID:990006943-1813910400-1813917600@monet.gipreview.com
SUMMARY:Pickleball
DESCRIPTION:This hot sport\, a cross between badminton\, tennis and table tennis\, is winning over the hearts of many athletes\, and we offer it right here in Sandpiper. Pickleball is played on a 44 by 20 foot court\, 1/4 the size of a tennis court and with a lower net. The smaller size means it requires less mobility\, giving people of all ages and abilities more opportunities to maintain a rally and react to opponent advances.
URL:https://monet.gipreview.com/event/pickleball/2027-06-25/
LOCATION:Westside Pickleball Courts
CATEGORIES:Community Activity
ATTACH;FMTTYPE=image/jpeg:https://monet.gipreview.com/wp-content/uploads/2026/03/IMG_0464-scaled.jpeg
END:VEVENT
BEGIN:VEVENT
DTSTART;TZID=America/New_York:20270626T080000
DTEND;TZID=America/New_York:20270626T100000
DTSTAMP:20260425T163420
CREATED:20260304T173531Z
LAST-MODIFIED:20260304T231226Z
UID:990006944-1813996800-1814004000@monet.gipreview.com
SUMMARY:Pickleball
DESCRIPTION:This hot sport\, a cross between badminton\, tennis and table tennis\, is winning over the hearts of many athletes\, and we offer it right here in Sandpiper. Pickleball is played on a 44 by 20 foot court\, 1/4 the size of a tennis court and with a lower net. The smaller size means it requires less mobility\, giving people of all ages and abilities more opportunities to maintain a rally and react to opponent advances.
URL:https://monet.gipreview.com/event/pickleball/2027-06-26/
LOCATION:Westside Pickleball Courts
CATEGORIES:Community Activity
ATTACH;FMTTYPE=image/jpeg:https://monet.gipreview.com/wp-content/uploads/2026/03/IMG_0464-scaled.jpeg
END:VEVENT
BEGIN:VEVENT
DTSTART;TZID=America/New_York:20270628T080000
DTEND;TZID=America/New_York:20270628T100000
DTSTAMP:20260425T163420
CREATED:20260304T173531Z
LAST-MODIFIED:20260304T231226Z
UID:990006945-1814169600-1814176800@monet.gipreview.com
SUMMARY:Pickleball
DESCRIPTION:This hot sport\, a cross between badminton\, tennis and table tennis\, is winning over the hearts of many athletes\, and we offer it right here in Sandpiper. Pickleball is played on a 44 by 20 foot court\, 1/4 the size of a tennis court and with a lower net. The smaller size means it requires less mobility\, giving people of all ages and abilities more opportunities to maintain a rally and react to opponent advances.
URL:https://monet.gipreview.com/event/pickleball/2027-06-28/
LOCATION:Westside Pickleball Courts
CATEGORIES:Community Activity
ATTACH;FMTTYPE=image/jpeg:https://monet.gipreview.com/wp-content/uploads/2026/03/IMG_0464-scaled.jpeg
END:VEVENT
BEGIN:VEVENT
DTSTART;TZID=America/New_York:20270629T080000
DTEND;TZID=America/New_York:20270629T100000
DTSTAMP:20260425T163420
CREATED:20260304T173531Z
LAST-MODIFIED:20260304T231226Z
UID:990006946-1814256000-1814263200@monet.gipreview.com
SUMMARY:Pickleball
DESCRIPTION:This hot sport\, a cross between badminton\, tennis and table tennis\, is winning over the hearts of many athletes\, and we offer it right here in Sandpiper. Pickleball is played on a 44 by 20 foot court\, 1/4 the size of a tennis court and with a lower net. The smaller size means it requires less mobility\, giving people of all ages and abilities more opportunities to maintain a rally and react to opponent advances.
URL:https://monet.gipreview.com/event/pickleball/2027-06-29/
LOCATION:Westside Pickleball Courts
CATEGORIES:Community Activity
ATTACH;FMTTYPE=image/jpeg:https://monet.gipreview.com/wp-content/uploads/2026/03/IMG_0464-scaled.jpeg
END:VEVENT
BEGIN:VEVENT
DTSTART;TZID=America/New_York:20270630T080000
DTEND;TZID=America/New_York:20270630T100000
DTSTAMP:20260425T163420
CREATED:20260304T173531Z
LAST-MODIFIED:20260304T231226Z
UID:990006947-1814342400-1814349600@monet.gipreview.com
SUMMARY:Pickleball
DESCRIPTION:This hot sport\, a cross between badminton\, tennis and table tennis\, is winning over the hearts of many athletes\, and we offer it right here in Sandpiper. Pickleball is played on a 44 by 20 foot court\, 1/4 the size of a tennis court and with a lower net. The smaller size means it requires less mobility\, giving people of all ages and abilities more opportunities to maintain a rally and react to opponent advances.
URL:https://monet.gipreview.com/event/pickleball/2027-06-30/
LOCATION:Westside Pickleball Courts
CATEGORIES:Community Activity
ATTACH;FMTTYPE=image/jpeg:https://monet.gipreview.com/wp-content/uploads/2026/03/IMG_0464-scaled.jpeg
END:VEVENT
BEGIN:VEVENT
DTSTART;TZID=America/New_York:20270701T080000
DTEND;TZID=America/New_York:20270701T100000
DTSTAMP:20260425T163420
CREATED:20260304T173531Z
LAST-MODIFIED:20260304T231226Z
UID:990006948-1814428800-1814436000@monet.gipreview.com
SUMMARY:Pickleball
DESCRIPTION:This hot sport\, a cross between badminton\, tennis and table tennis\, is winning over the hearts of many athletes\, and we offer it right here in Sandpiper. Pickleball is played on a 44 by 20 foot court\, 1/4 the size of a tennis court and with a lower net. The smaller size means it requires less mobility\, giving people of all ages and abilities more opportunities to maintain a rally and react to opponent advances.
URL:https://monet.gipreview.com/event/pickleball/2027-07-01/
LOCATION:Westside Pickleball Courts
CATEGORIES:Community Activity
ATTACH;FMTTYPE=image/jpeg:https://monet.gipreview.com/wp-content/uploads/2026/03/IMG_0464-scaled.jpeg
END:VEVENT
BEGIN:VEVENT
DTSTART;TZID=America/New_York:20270702T080000
DTEND;TZID=America/New_York:20270702T100000
DTSTAMP:20260425T163420
CREATED:20260304T173531Z
LAST-MODIFIED:20260304T231226Z
UID:990006949-1814515200-1814522400@monet.gipreview.com
SUMMARY:Pickleball
DESCRIPTION:This hot sport\, a cross between badminton\, tennis and table tennis\, is winning over the hearts of many athletes\, and we offer it right here in Sandpiper. Pickleball is played on a 44 by 20 foot court\, 1/4 the size of a tennis court and with a lower net. The smaller size means it requires less mobility\, giving people of all ages and abilities more opportunities to maintain a rally and react to opponent advances.
URL:https://monet.gipreview.com/event/pickleball/2027-07-02/
LOCATION:Westside Pickleball Courts
CATEGORIES:Community Activity
ATTACH;FMTTYPE=image/jpeg:https://monet.gipreview.com/wp-content/uploads/2026/03/IMG_0464-scaled.jpeg
END:VEVENT
BEGIN:VEVENT
DTSTART;TZID=America/New_York:20270703T080000
DTEND;TZID=America/New_York:20270703T100000
DTSTAMP:20260425T163420
CREATED:20260304T173531Z
LAST-MODIFIED:20260304T231226Z
UID:990006950-1814601600-1814608800@monet.gipreview.com
SUMMARY:Pickleball
DESCRIPTION:This hot sport\, a cross between badminton\, tennis and table tennis\, is winning over the hearts of many athletes\, and we offer it right here in Sandpiper. Pickleball is played on a 44 by 20 foot court\, 1/4 the size of a tennis court and with a lower net. The smaller size means it requires less mobility\, giving people of all ages and abilities more opportunities to maintain a rally and react to opponent advances.
URL:https://monet.gipreview.com/event/pickleball/2027-07-03/
LOCATION:Westside Pickleball Courts
CATEGORIES:Community Activity
ATTACH;FMTTYPE=image/jpeg:https://monet.gipreview.com/wp-content/uploads/2026/03/IMG_0464-scaled.jpeg
END:VEVENT
BEGIN:VEVENT
DTSTART;TZID=America/New_York:20270705T080000
DTEND;TZID=America/New_York:20270705T100000
DTSTAMP:20260425T163420
CREATED:20260304T173531Z
LAST-MODIFIED:20260304T231226Z
UID:990006951-1814774400-1814781600@monet.gipreview.com
SUMMARY:Pickleball
DESCRIPTION:This hot sport\, a cross between badminton\, tennis and table tennis\, is winning over the hearts of many athletes\, and we offer it right here in Sandpiper. Pickleball is played on a 44 by 20 foot court\, 1/4 the size of a tennis court and with a lower net. The smaller size means it requires less mobility\, giving people of all ages and abilities more opportunities to maintain a rally and react to opponent advances.
URL:https://monet.gipreview.com/event/pickleball/2027-07-05/
LOCATION:Westside Pickleball Courts
CATEGORIES:Community Activity
ATTACH;FMTTYPE=image/jpeg:https://monet.gipreview.com/wp-content/uploads/2026/03/IMG_0464-scaled.jpeg
END:VEVENT
BEGIN:VEVENT
DTSTART;TZID=America/New_York:20270706T080000
DTEND;TZID=America/New_York:20270706T100000
DTSTAMP:20260425T163420
CREATED:20260304T173531Z
LAST-MODIFIED:20260304T231226Z
UID:990006952-1814860800-1814868000@monet.gipreview.com
SUMMARY:Pickleball
DESCRIPTION:This hot sport\, a cross between badminton\, tennis and table tennis\, is winning over the hearts of many athletes\, and we offer it right here in Sandpiper. Pickleball is played on a 44 by 20 foot court\, 1/4 the size of a tennis court and with a lower net. The smaller size means it requires less mobility\, giving people of all ages and abilities more opportunities to maintain a rally and react to opponent advances.
URL:https://monet.gipreview.com/event/pickleball/2027-07-06/
LOCATION:Westside Pickleball Courts
CATEGORIES:Community Activity
ATTACH;FMTTYPE=image/jpeg:https://monet.gipreview.com/wp-content/uploads/2026/03/IMG_0464-scaled.jpeg
END:VEVENT
BEGIN:VEVENT
DTSTART;TZID=America/New_York:20270707T080000
DTEND;TZID=America/New_York:20270707T100000
DTSTAMP:20260425T163420
CREATED:20260304T173531Z
LAST-MODIFIED:20260304T231226Z
UID:990006953-1814947200-1814954400@monet.gipreview.com
SUMMARY:Pickleball
DESCRIPTION:This hot sport\, a cross between badminton\, tennis and table tennis\, is winning over the hearts of many athletes\, and we offer it right here in Sandpiper. Pickleball is played on a 44 by 20 foot court\, 1/4 the size of a tennis court and with a lower net. The smaller size means it requires less mobility\, giving people of all ages and abilities more opportunities to maintain a rally and react to opponent advances.
URL:https://monet.gipreview.com/event/pickleball/2027-07-07/
LOCATION:Westside Pickleball Courts
CATEGORIES:Community Activity
ATTACH;FMTTYPE=image/jpeg:https://monet.gipreview.com/wp-content/uploads/2026/03/IMG_0464-scaled.jpeg
END:VEVENT
END:VCALENDAR