BEGIN:VCALENDAR
VERSION:2.0
PRODID:-//Sandpiper - ECPv6.15.20//NONSGML v1.0//EN
CALSCALE:GREGORIAN
METHOD:PUBLISH
X-WR-CALNAME:Sandpiper
X-ORIGINAL-URL:https://monet.gipreview.com
X-WR-CALDESC:Events for Sandpiper
REFRESH-INTERVAL;VALUE=DURATION:PT1H
X-Robots-Tag:noindex
X-PUBLISHED-TTL:PT1H
BEGIN:VTIMEZONE
TZID:America/New_York
BEGIN:DAYLIGHT
TZOFFSETFROM:-0500
TZOFFSETTO:-0400
TZNAME:EDT
DTSTART:20260308T070000
END:DAYLIGHT
BEGIN:STANDARD
TZOFFSETFROM:-0400
TZOFFSETTO:-0500
TZNAME:EST
DTSTART:20261101T060000
END:STANDARD
BEGIN:DAYLIGHT
TZOFFSETFROM:-0500
TZOFFSETTO:-0400
TZNAME:EDT
DTSTART:20270314T070000
END:DAYLIGHT
BEGIN:STANDARD
TZOFFSETFROM:-0400
TZOFFSETTO:-0500
TZNAME:EST
DTSTART:20271107T060000
END:STANDARD
BEGIN:DAYLIGHT
TZOFFSETFROM:-0500
TZOFFSETTO:-0400
TZNAME:EDT
DTSTART:20280312T070000
END:DAYLIGHT
BEGIN:STANDARD
TZOFFSETFROM:-0400
TZOFFSETTO:-0500
TZNAME:EST
DTSTART:20281105T060000
END:STANDARD
END:VTIMEZONE
BEGIN:VEVENT
DTSTART;TZID=America/New_York:20270409T080000
DTEND;TZID=America/New_York:20270409T100000
DTSTAMP:20260424T050155
CREATED:20260304T173531Z
LAST-MODIFIED:20260304T231226Z
UID:990006877-1807257600-1807264800@monet.gipreview.com
SUMMARY:Pickleball
DESCRIPTION:This hot sport\, a cross between badminton\, tennis and table tennis\, is winning over the hearts of many athletes\, and we offer it right here in Sandpiper. Pickleball is played on a 44 by 20 foot court\, 1/4 the size of a tennis court and with a lower net. The smaller size means it requires less mobility\, giving people of all ages and abilities more opportunities to maintain a rally and react to opponent advances.
URL:https://monet.gipreview.com/event/pickleball/2027-04-09/
LOCATION:Westside Pickleball Courts
CATEGORIES:Community Activity
ATTACH;FMTTYPE=image/jpeg:https://monet.gipreview.com/wp-content/uploads/2026/03/IMG_0464-scaled.jpeg
END:VEVENT
BEGIN:VEVENT
DTSTART;TZID=America/New_York:20270410T080000
DTEND;TZID=America/New_York:20270410T100000
DTSTAMP:20260424T050156
CREATED:20260304T173531Z
LAST-MODIFIED:20260304T231226Z
UID:990006878-1807344000-1807351200@monet.gipreview.com
SUMMARY:Pickleball
DESCRIPTION:This hot sport\, a cross between badminton\, tennis and table tennis\, is winning over the hearts of many athletes\, and we offer it right here in Sandpiper. Pickleball is played on a 44 by 20 foot court\, 1/4 the size of a tennis court and with a lower net. The smaller size means it requires less mobility\, giving people of all ages and abilities more opportunities to maintain a rally and react to opponent advances.
URL:https://monet.gipreview.com/event/pickleball/2027-04-10/
LOCATION:Westside Pickleball Courts
CATEGORIES:Community Activity
ATTACH;FMTTYPE=image/jpeg:https://monet.gipreview.com/wp-content/uploads/2026/03/IMG_0464-scaled.jpeg
END:VEVENT
BEGIN:VEVENT
DTSTART;TZID=America/New_York:20270412T080000
DTEND;TZID=America/New_York:20270412T100000
DTSTAMP:20260424T050156
CREATED:20260304T173531Z
LAST-MODIFIED:20260304T231226Z
UID:990006879-1807516800-1807524000@monet.gipreview.com
SUMMARY:Pickleball
DESCRIPTION:This hot sport\, a cross between badminton\, tennis and table tennis\, is winning over the hearts of many athletes\, and we offer it right here in Sandpiper. Pickleball is played on a 44 by 20 foot court\, 1/4 the size of a tennis court and with a lower net. The smaller size means it requires less mobility\, giving people of all ages and abilities more opportunities to maintain a rally and react to opponent advances.
URL:https://monet.gipreview.com/event/pickleball/2027-04-12/
LOCATION:Westside Pickleball Courts
CATEGORIES:Community Activity
ATTACH;FMTTYPE=image/jpeg:https://monet.gipreview.com/wp-content/uploads/2026/03/IMG_0464-scaled.jpeg
END:VEVENT
BEGIN:VEVENT
DTSTART;TZID=America/New_York:20270413T080000
DTEND;TZID=America/New_York:20270413T100000
DTSTAMP:20260424T050156
CREATED:20260304T173531Z
LAST-MODIFIED:20260304T231226Z
UID:990006880-1807603200-1807610400@monet.gipreview.com
SUMMARY:Pickleball
DESCRIPTION:This hot sport\, a cross between badminton\, tennis and table tennis\, is winning over the hearts of many athletes\, and we offer it right here in Sandpiper. Pickleball is played on a 44 by 20 foot court\, 1/4 the size of a tennis court and with a lower net. The smaller size means it requires less mobility\, giving people of all ages and abilities more opportunities to maintain a rally and react to opponent advances.
URL:https://monet.gipreview.com/event/pickleball/2027-04-13/
LOCATION:Westside Pickleball Courts
CATEGORIES:Community Activity
ATTACH;FMTTYPE=image/jpeg:https://monet.gipreview.com/wp-content/uploads/2026/03/IMG_0464-scaled.jpeg
END:VEVENT
BEGIN:VEVENT
DTSTART;TZID=America/New_York:20270414T080000
DTEND;TZID=America/New_York:20270414T100000
DTSTAMP:20260424T050156
CREATED:20260304T173531Z
LAST-MODIFIED:20260304T231226Z
UID:990006881-1807689600-1807696800@monet.gipreview.com
SUMMARY:Pickleball
DESCRIPTION:This hot sport\, a cross between badminton\, tennis and table tennis\, is winning over the hearts of many athletes\, and we offer it right here in Sandpiper. Pickleball is played on a 44 by 20 foot court\, 1/4 the size of a tennis court and with a lower net. The smaller size means it requires less mobility\, giving people of all ages and abilities more opportunities to maintain a rally and react to opponent advances.
URL:https://monet.gipreview.com/event/pickleball/2027-04-14/
LOCATION:Westside Pickleball Courts
CATEGORIES:Community Activity
ATTACH;FMTTYPE=image/jpeg:https://monet.gipreview.com/wp-content/uploads/2026/03/IMG_0464-scaled.jpeg
END:VEVENT
BEGIN:VEVENT
DTSTART;TZID=America/New_York:20270415T080000
DTEND;TZID=America/New_York:20270415T100000
DTSTAMP:20260424T050156
CREATED:20260304T173531Z
LAST-MODIFIED:20260304T231226Z
UID:990006882-1807776000-1807783200@monet.gipreview.com
SUMMARY:Pickleball
DESCRIPTION:This hot sport\, a cross between badminton\, tennis and table tennis\, is winning over the hearts of many athletes\, and we offer it right here in Sandpiper. Pickleball is played on a 44 by 20 foot court\, 1/4 the size of a tennis court and with a lower net. The smaller size means it requires less mobility\, giving people of all ages and abilities more opportunities to maintain a rally and react to opponent advances.
URL:https://monet.gipreview.com/event/pickleball/2027-04-15/
LOCATION:Westside Pickleball Courts
CATEGORIES:Community Activity
ATTACH;FMTTYPE=image/jpeg:https://monet.gipreview.com/wp-content/uploads/2026/03/IMG_0464-scaled.jpeg
END:VEVENT
BEGIN:VEVENT
DTSTART;TZID=America/New_York:20270416T080000
DTEND;TZID=America/New_York:20270416T100000
DTSTAMP:20260424T050156
CREATED:20260304T173531Z
LAST-MODIFIED:20260304T231226Z
UID:990006883-1807862400-1807869600@monet.gipreview.com
SUMMARY:Pickleball
DESCRIPTION:This hot sport\, a cross between badminton\, tennis and table tennis\, is winning over the hearts of many athletes\, and we offer it right here in Sandpiper. Pickleball is played on a 44 by 20 foot court\, 1/4 the size of a tennis court and with a lower net. The smaller size means it requires less mobility\, giving people of all ages and abilities more opportunities to maintain a rally and react to opponent advances.
URL:https://monet.gipreview.com/event/pickleball/2027-04-16/
LOCATION:Westside Pickleball Courts
CATEGORIES:Community Activity
ATTACH;FMTTYPE=image/jpeg:https://monet.gipreview.com/wp-content/uploads/2026/03/IMG_0464-scaled.jpeg
END:VEVENT
BEGIN:VEVENT
DTSTART;TZID=America/New_York:20270417T080000
DTEND;TZID=America/New_York:20270417T100000
DTSTAMP:20260424T050156
CREATED:20260304T173531Z
LAST-MODIFIED:20260304T231226Z
UID:990006884-1807948800-1807956000@monet.gipreview.com
SUMMARY:Pickleball
DESCRIPTION:This hot sport\, a cross between badminton\, tennis and table tennis\, is winning over the hearts of many athletes\, and we offer it right here in Sandpiper. Pickleball is played on a 44 by 20 foot court\, 1/4 the size of a tennis court and with a lower net. The smaller size means it requires less mobility\, giving people of all ages and abilities more opportunities to maintain a rally and react to opponent advances.
URL:https://monet.gipreview.com/event/pickleball/2027-04-17/
LOCATION:Westside Pickleball Courts
CATEGORIES:Community Activity
ATTACH;FMTTYPE=image/jpeg:https://monet.gipreview.com/wp-content/uploads/2026/03/IMG_0464-scaled.jpeg
END:VEVENT
BEGIN:VEVENT
DTSTART;TZID=America/New_York:20270419T080000
DTEND;TZID=America/New_York:20270419T100000
DTSTAMP:20260424T050156
CREATED:20260304T173531Z
LAST-MODIFIED:20260304T231226Z
UID:990006885-1808121600-1808128800@monet.gipreview.com
SUMMARY:Pickleball
DESCRIPTION:This hot sport\, a cross between badminton\, tennis and table tennis\, is winning over the hearts of many athletes\, and we offer it right here in Sandpiper. Pickleball is played on a 44 by 20 foot court\, 1/4 the size of a tennis court and with a lower net. The smaller size means it requires less mobility\, giving people of all ages and abilities more opportunities to maintain a rally and react to opponent advances.
URL:https://monet.gipreview.com/event/pickleball/2027-04-19/
LOCATION:Westside Pickleball Courts
CATEGORIES:Community Activity
ATTACH;FMTTYPE=image/jpeg:https://monet.gipreview.com/wp-content/uploads/2026/03/IMG_0464-scaled.jpeg
END:VEVENT
BEGIN:VEVENT
DTSTART;TZID=America/New_York:20270420T080000
DTEND;TZID=America/New_York:20270420T100000
DTSTAMP:20260424T050157
CREATED:20260304T173531Z
LAST-MODIFIED:20260304T231226Z
UID:990006886-1808208000-1808215200@monet.gipreview.com
SUMMARY:Pickleball
DESCRIPTION:This hot sport\, a cross between badminton\, tennis and table tennis\, is winning over the hearts of many athletes\, and we offer it right here in Sandpiper. Pickleball is played on a 44 by 20 foot court\, 1/4 the size of a tennis court and with a lower net. The smaller size means it requires less mobility\, giving people of all ages and abilities more opportunities to maintain a rally and react to opponent advances.
URL:https://monet.gipreview.com/event/pickleball/2027-04-20/
LOCATION:Westside Pickleball Courts
CATEGORIES:Community Activity
ATTACH;FMTTYPE=image/jpeg:https://monet.gipreview.com/wp-content/uploads/2026/03/IMG_0464-scaled.jpeg
END:VEVENT
BEGIN:VEVENT
DTSTART;TZID=America/New_York:20270421T080000
DTEND;TZID=America/New_York:20270421T100000
DTSTAMP:20260424T050157
CREATED:20260304T173531Z
LAST-MODIFIED:20260304T231226Z
UID:990006887-1808294400-1808301600@monet.gipreview.com
SUMMARY:Pickleball
DESCRIPTION:This hot sport\, a cross between badminton\, tennis and table tennis\, is winning over the hearts of many athletes\, and we offer it right here in Sandpiper. Pickleball is played on a 44 by 20 foot court\, 1/4 the size of a tennis court and with a lower net. The smaller size means it requires less mobility\, giving people of all ages and abilities more opportunities to maintain a rally and react to opponent advances.
URL:https://monet.gipreview.com/event/pickleball/2027-04-21/
LOCATION:Westside Pickleball Courts
CATEGORIES:Community Activity
ATTACH;FMTTYPE=image/jpeg:https://monet.gipreview.com/wp-content/uploads/2026/03/IMG_0464-scaled.jpeg
END:VEVENT
BEGIN:VEVENT
DTSTART;TZID=America/New_York:20270422T080000
DTEND;TZID=America/New_York:20270422T100000
DTSTAMP:20260424T050157
CREATED:20260304T173531Z
LAST-MODIFIED:20260304T231226Z
UID:990006888-1808380800-1808388000@monet.gipreview.com
SUMMARY:Pickleball
DESCRIPTION:This hot sport\, a cross between badminton\, tennis and table tennis\, is winning over the hearts of many athletes\, and we offer it right here in Sandpiper. Pickleball is played on a 44 by 20 foot court\, 1/4 the size of a tennis court and with a lower net. The smaller size means it requires less mobility\, giving people of all ages and abilities more opportunities to maintain a rally and react to opponent advances.
URL:https://monet.gipreview.com/event/pickleball/2027-04-22/
LOCATION:Westside Pickleball Courts
CATEGORIES:Community Activity
ATTACH;FMTTYPE=image/jpeg:https://monet.gipreview.com/wp-content/uploads/2026/03/IMG_0464-scaled.jpeg
END:VEVENT
BEGIN:VEVENT
DTSTART;TZID=America/New_York:20270423T080000
DTEND;TZID=America/New_York:20270423T100000
DTSTAMP:20260424T050157
CREATED:20260304T173531Z
LAST-MODIFIED:20260304T231226Z
UID:990006889-1808467200-1808474400@monet.gipreview.com
SUMMARY:Pickleball
DESCRIPTION:This hot sport\, a cross between badminton\, tennis and table tennis\, is winning over the hearts of many athletes\, and we offer it right here in Sandpiper. Pickleball is played on a 44 by 20 foot court\, 1/4 the size of a tennis court and with a lower net. The smaller size means it requires less mobility\, giving people of all ages and abilities more opportunities to maintain a rally and react to opponent advances.
URL:https://monet.gipreview.com/event/pickleball/2027-04-23/
LOCATION:Westside Pickleball Courts
CATEGORIES:Community Activity
ATTACH;FMTTYPE=image/jpeg:https://monet.gipreview.com/wp-content/uploads/2026/03/IMG_0464-scaled.jpeg
END:VEVENT
BEGIN:VEVENT
DTSTART;TZID=America/New_York:20270424T080000
DTEND;TZID=America/New_York:20270424T100000
DTSTAMP:20260424T050157
CREATED:20260304T173531Z
LAST-MODIFIED:20260304T231226Z
UID:990006890-1808553600-1808560800@monet.gipreview.com
SUMMARY:Pickleball
DESCRIPTION:This hot sport\, a cross between badminton\, tennis and table tennis\, is winning over the hearts of many athletes\, and we offer it right here in Sandpiper. Pickleball is played on a 44 by 20 foot court\, 1/4 the size of a tennis court and with a lower net. The smaller size means it requires less mobility\, giving people of all ages and abilities more opportunities to maintain a rally and react to opponent advances.
URL:https://monet.gipreview.com/event/pickleball/2027-04-24/
LOCATION:Westside Pickleball Courts
CATEGORIES:Community Activity
ATTACH;FMTTYPE=image/jpeg:https://monet.gipreview.com/wp-content/uploads/2026/03/IMG_0464-scaled.jpeg
END:VEVENT
BEGIN:VEVENT
DTSTART;TZID=America/New_York:20270426T080000
DTEND;TZID=America/New_York:20270426T100000
DTSTAMP:20260424T050157
CREATED:20260304T173531Z
LAST-MODIFIED:20260304T231226Z
UID:990006891-1808726400-1808733600@monet.gipreview.com
SUMMARY:Pickleball
DESCRIPTION:This hot sport\, a cross between badminton\, tennis and table tennis\, is winning over the hearts of many athletes\, and we offer it right here in Sandpiper. Pickleball is played on a 44 by 20 foot court\, 1/4 the size of a tennis court and with a lower net. The smaller size means it requires less mobility\, giving people of all ages and abilities more opportunities to maintain a rally and react to opponent advances.
URL:https://monet.gipreview.com/event/pickleball/2027-04-26/
LOCATION:Westside Pickleball Courts
CATEGORIES:Community Activity
ATTACH;FMTTYPE=image/jpeg:https://monet.gipreview.com/wp-content/uploads/2026/03/IMG_0464-scaled.jpeg
END:VEVENT
BEGIN:VEVENT
DTSTART;TZID=America/New_York:20270427T080000
DTEND;TZID=America/New_York:20270427T100000
DTSTAMP:20260424T050157
CREATED:20260304T173531Z
LAST-MODIFIED:20260304T231226Z
UID:990006892-1808812800-1808820000@monet.gipreview.com
SUMMARY:Pickleball
DESCRIPTION:This hot sport\, a cross between badminton\, tennis and table tennis\, is winning over the hearts of many athletes\, and we offer it right here in Sandpiper. Pickleball is played on a 44 by 20 foot court\, 1/4 the size of a tennis court and with a lower net. The smaller size means it requires less mobility\, giving people of all ages and abilities more opportunities to maintain a rally and react to opponent advances.
URL:https://monet.gipreview.com/event/pickleball/2027-04-27/
LOCATION:Westside Pickleball Courts
CATEGORIES:Community Activity
ATTACH;FMTTYPE=image/jpeg:https://monet.gipreview.com/wp-content/uploads/2026/03/IMG_0464-scaled.jpeg
END:VEVENT
BEGIN:VEVENT
DTSTART;TZID=America/New_York:20270428T080000
DTEND;TZID=America/New_York:20270428T100000
DTSTAMP:20260424T050157
CREATED:20260304T173531Z
LAST-MODIFIED:20260304T231226Z
UID:990006893-1808899200-1808906400@monet.gipreview.com
SUMMARY:Pickleball
DESCRIPTION:This hot sport\, a cross between badminton\, tennis and table tennis\, is winning over the hearts of many athletes\, and we offer it right here in Sandpiper. Pickleball is played on a 44 by 20 foot court\, 1/4 the size of a tennis court and with a lower net. The smaller size means it requires less mobility\, giving people of all ages and abilities more opportunities to maintain a rally and react to opponent advances.
URL:https://monet.gipreview.com/event/pickleball/2027-04-28/
LOCATION:Westside Pickleball Courts
CATEGORIES:Community Activity
ATTACH;FMTTYPE=image/jpeg:https://monet.gipreview.com/wp-content/uploads/2026/03/IMG_0464-scaled.jpeg
END:VEVENT
BEGIN:VEVENT
DTSTART;TZID=America/New_York:20270429T080000
DTEND;TZID=America/New_York:20270429T100000
DTSTAMP:20260424T050157
CREATED:20260304T173531Z
LAST-MODIFIED:20260304T231226Z
UID:990006894-1808985600-1808992800@monet.gipreview.com
SUMMARY:Pickleball
DESCRIPTION:This hot sport\, a cross between badminton\, tennis and table tennis\, is winning over the hearts of many athletes\, and we offer it right here in Sandpiper. Pickleball is played on a 44 by 20 foot court\, 1/4 the size of a tennis court and with a lower net. The smaller size means it requires less mobility\, giving people of all ages and abilities more opportunities to maintain a rally and react to opponent advances.
URL:https://monet.gipreview.com/event/pickleball/2027-04-29/
LOCATION:Westside Pickleball Courts
CATEGORIES:Community Activity
ATTACH;FMTTYPE=image/jpeg:https://monet.gipreview.com/wp-content/uploads/2026/03/IMG_0464-scaled.jpeg
END:VEVENT
BEGIN:VEVENT
DTSTART;TZID=America/New_York:20270430T080000
DTEND;TZID=America/New_York:20270430T100000
DTSTAMP:20260424T050157
CREATED:20260304T173531Z
LAST-MODIFIED:20260304T231226Z
UID:990006895-1809072000-1809079200@monet.gipreview.com
SUMMARY:Pickleball
DESCRIPTION:This hot sport\, a cross between badminton\, tennis and table tennis\, is winning over the hearts of many athletes\, and we offer it right here in Sandpiper. Pickleball is played on a 44 by 20 foot court\, 1/4 the size of a tennis court and with a lower net. The smaller size means it requires less mobility\, giving people of all ages and abilities more opportunities to maintain a rally and react to opponent advances.
URL:https://monet.gipreview.com/event/pickleball/2027-04-30/
LOCATION:Westside Pickleball Courts
CATEGORIES:Community Activity
ATTACH;FMTTYPE=image/jpeg:https://monet.gipreview.com/wp-content/uploads/2026/03/IMG_0464-scaled.jpeg
END:VEVENT
BEGIN:VEVENT
DTSTART;TZID=America/New_York:20270501T080000
DTEND;TZID=America/New_York:20270501T100000
DTSTAMP:20260424T050157
CREATED:20260304T173531Z
LAST-MODIFIED:20260304T231226Z
UID:990006896-1809158400-1809165600@monet.gipreview.com
SUMMARY:Pickleball
DESCRIPTION:This hot sport\, a cross between badminton\, tennis and table tennis\, is winning over the hearts of many athletes\, and we offer it right here in Sandpiper. Pickleball is played on a 44 by 20 foot court\, 1/4 the size of a tennis court and with a lower net. The smaller size means it requires less mobility\, giving people of all ages and abilities more opportunities to maintain a rally and react to opponent advances.
URL:https://monet.gipreview.com/event/pickleball/2027-05-01/
LOCATION:Westside Pickleball Courts
CATEGORIES:Community Activity
ATTACH;FMTTYPE=image/jpeg:https://monet.gipreview.com/wp-content/uploads/2026/03/IMG_0464-scaled.jpeg
END:VEVENT
BEGIN:VEVENT
DTSTART;TZID=America/New_York:20270503T080000
DTEND;TZID=America/New_York:20270503T100000
DTSTAMP:20260424T050157
CREATED:20260304T173531Z
LAST-MODIFIED:20260304T231226Z
UID:990006897-1809331200-1809338400@monet.gipreview.com
SUMMARY:Pickleball
DESCRIPTION:This hot sport\, a cross between badminton\, tennis and table tennis\, is winning over the hearts of many athletes\, and we offer it right here in Sandpiper. Pickleball is played on a 44 by 20 foot court\, 1/4 the size of a tennis court and with a lower net. The smaller size means it requires less mobility\, giving people of all ages and abilities more opportunities to maintain a rally and react to opponent advances.
URL:https://monet.gipreview.com/event/pickleball/2027-05-03/
LOCATION:Westside Pickleball Courts
CATEGORIES:Community Activity
ATTACH;FMTTYPE=image/jpeg:https://monet.gipreview.com/wp-content/uploads/2026/03/IMG_0464-scaled.jpeg
END:VEVENT
BEGIN:VEVENT
DTSTART;TZID=America/New_York:20270504T080000
DTEND;TZID=America/New_York:20270504T100000
DTSTAMP:20260424T050157
CREATED:20260304T173531Z
LAST-MODIFIED:20260304T231226Z
UID:990006898-1809417600-1809424800@monet.gipreview.com
SUMMARY:Pickleball
DESCRIPTION:This hot sport\, a cross between badminton\, tennis and table tennis\, is winning over the hearts of many athletes\, and we offer it right here in Sandpiper. Pickleball is played on a 44 by 20 foot court\, 1/4 the size of a tennis court and with a lower net. The smaller size means it requires less mobility\, giving people of all ages and abilities more opportunities to maintain a rally and react to opponent advances.
URL:https://monet.gipreview.com/event/pickleball/2027-05-04/
LOCATION:Westside Pickleball Courts
CATEGORIES:Community Activity
ATTACH;FMTTYPE=image/jpeg:https://monet.gipreview.com/wp-content/uploads/2026/03/IMG_0464-scaled.jpeg
END:VEVENT
BEGIN:VEVENT
DTSTART;TZID=America/New_York:20270505T080000
DTEND;TZID=America/New_York:20270505T100000
DTSTAMP:20260424T050157
CREATED:20260304T173531Z
LAST-MODIFIED:20260304T231226Z
UID:990006899-1809504000-1809511200@monet.gipreview.com
SUMMARY:Pickleball
DESCRIPTION:This hot sport\, a cross between badminton\, tennis and table tennis\, is winning over the hearts of many athletes\, and we offer it right here in Sandpiper. Pickleball is played on a 44 by 20 foot court\, 1/4 the size of a tennis court and with a lower net. The smaller size means it requires less mobility\, giving people of all ages and abilities more opportunities to maintain a rally and react to opponent advances.
URL:https://monet.gipreview.com/event/pickleball/2027-05-05/
LOCATION:Westside Pickleball Courts
CATEGORIES:Community Activity
ATTACH;FMTTYPE=image/jpeg:https://monet.gipreview.com/wp-content/uploads/2026/03/IMG_0464-scaled.jpeg
END:VEVENT
BEGIN:VEVENT
DTSTART;TZID=America/New_York:20270506T080000
DTEND;TZID=America/New_York:20270506T100000
DTSTAMP:20260424T050158
CREATED:20260304T173531Z
LAST-MODIFIED:20260304T231226Z
UID:990006900-1809590400-1809597600@monet.gipreview.com
SUMMARY:Pickleball
DESCRIPTION:This hot sport\, a cross between badminton\, tennis and table tennis\, is winning over the hearts of many athletes\, and we offer it right here in Sandpiper. Pickleball is played on a 44 by 20 foot court\, 1/4 the size of a tennis court and with a lower net. The smaller size means it requires less mobility\, giving people of all ages and abilities more opportunities to maintain a rally and react to opponent advances.
URL:https://monet.gipreview.com/event/pickleball/2027-05-06/
LOCATION:Westside Pickleball Courts
CATEGORIES:Community Activity
ATTACH;FMTTYPE=image/jpeg:https://monet.gipreview.com/wp-content/uploads/2026/03/IMG_0464-scaled.jpeg
END:VEVENT
BEGIN:VEVENT
DTSTART;TZID=America/New_York:20270507T080000
DTEND;TZID=America/New_York:20270507T100000
DTSTAMP:20260424T050158
CREATED:20260304T173531Z
LAST-MODIFIED:20260304T231226Z
UID:990006901-1809676800-1809684000@monet.gipreview.com
SUMMARY:Pickleball
DESCRIPTION:This hot sport\, a cross between badminton\, tennis and table tennis\, is winning over the hearts of many athletes\, and we offer it right here in Sandpiper. Pickleball is played on a 44 by 20 foot court\, 1/4 the size of a tennis court and with a lower net. The smaller size means it requires less mobility\, giving people of all ages and abilities more opportunities to maintain a rally and react to opponent advances.
URL:https://monet.gipreview.com/event/pickleball/2027-05-07/
LOCATION:Westside Pickleball Courts
CATEGORIES:Community Activity
ATTACH;FMTTYPE=image/jpeg:https://monet.gipreview.com/wp-content/uploads/2026/03/IMG_0464-scaled.jpeg
END:VEVENT
BEGIN:VEVENT
DTSTART;TZID=America/New_York:20270508T080000
DTEND;TZID=America/New_York:20270508T100000
DTSTAMP:20260424T050158
CREATED:20260304T173531Z
LAST-MODIFIED:20260304T231226Z
UID:990006902-1809763200-1809770400@monet.gipreview.com
SUMMARY:Pickleball
DESCRIPTION:This hot sport\, a cross between badminton\, tennis and table tennis\, is winning over the hearts of many athletes\, and we offer it right here in Sandpiper. Pickleball is played on a 44 by 20 foot court\, 1/4 the size of a tennis court and with a lower net. The smaller size means it requires less mobility\, giving people of all ages and abilities more opportunities to maintain a rally and react to opponent advances.
URL:https://monet.gipreview.com/event/pickleball/2027-05-08/
LOCATION:Westside Pickleball Courts
CATEGORIES:Community Activity
ATTACH;FMTTYPE=image/jpeg:https://monet.gipreview.com/wp-content/uploads/2026/03/IMG_0464-scaled.jpeg
END:VEVENT
BEGIN:VEVENT
DTSTART;TZID=America/New_York:20270510T080000
DTEND;TZID=America/New_York:20270510T100000
DTSTAMP:20260424T050158
CREATED:20260304T173531Z
LAST-MODIFIED:20260304T231226Z
UID:990006903-1809936000-1809943200@monet.gipreview.com
SUMMARY:Pickleball
DESCRIPTION:This hot sport\, a cross between badminton\, tennis and table tennis\, is winning over the hearts of many athletes\, and we offer it right here in Sandpiper. Pickleball is played on a 44 by 20 foot court\, 1/4 the size of a tennis court and with a lower net. The smaller size means it requires less mobility\, giving people of all ages and abilities more opportunities to maintain a rally and react to opponent advances.
URL:https://monet.gipreview.com/event/pickleball/2027-05-10/
LOCATION:Westside Pickleball Courts
CATEGORIES:Community Activity
ATTACH;FMTTYPE=image/jpeg:https://monet.gipreview.com/wp-content/uploads/2026/03/IMG_0464-scaled.jpeg
END:VEVENT
BEGIN:VEVENT
DTSTART;TZID=America/New_York:20270511T080000
DTEND;TZID=America/New_York:20270511T100000
DTSTAMP:20260424T050158
CREATED:20260304T173531Z
LAST-MODIFIED:20260304T231226Z
UID:990006904-1810022400-1810029600@monet.gipreview.com
SUMMARY:Pickleball
DESCRIPTION:This hot sport\, a cross between badminton\, tennis and table tennis\, is winning over the hearts of many athletes\, and we offer it right here in Sandpiper. Pickleball is played on a 44 by 20 foot court\, 1/4 the size of a tennis court and with a lower net. The smaller size means it requires less mobility\, giving people of all ages and abilities more opportunities to maintain a rally and react to opponent advances.
URL:https://monet.gipreview.com/event/pickleball/2027-05-11/
LOCATION:Westside Pickleball Courts
CATEGORIES:Community Activity
ATTACH;FMTTYPE=image/jpeg:https://monet.gipreview.com/wp-content/uploads/2026/03/IMG_0464-scaled.jpeg
END:VEVENT
BEGIN:VEVENT
DTSTART;TZID=America/New_York:20270512T080000
DTEND;TZID=America/New_York:20270512T100000
DTSTAMP:20260424T050158
CREATED:20260304T173531Z
LAST-MODIFIED:20260304T231226Z
UID:990006905-1810108800-1810116000@monet.gipreview.com
SUMMARY:Pickleball
DESCRIPTION:This hot sport\, a cross between badminton\, tennis and table tennis\, is winning over the hearts of many athletes\, and we offer it right here in Sandpiper. Pickleball is played on a 44 by 20 foot court\, 1/4 the size of a tennis court and with a lower net. The smaller size means it requires less mobility\, giving people of all ages and abilities more opportunities to maintain a rally and react to opponent advances.
URL:https://monet.gipreview.com/event/pickleball/2027-05-12/
LOCATION:Westside Pickleball Courts
CATEGORIES:Community Activity
ATTACH;FMTTYPE=image/jpeg:https://monet.gipreview.com/wp-content/uploads/2026/03/IMG_0464-scaled.jpeg
END:VEVENT
BEGIN:VEVENT
DTSTART;TZID=America/New_York:20270513T080000
DTEND;TZID=America/New_York:20270513T100000
DTSTAMP:20260424T050158
CREATED:20260304T173531Z
LAST-MODIFIED:20260304T231226Z
UID:990006906-1810195200-1810202400@monet.gipreview.com
SUMMARY:Pickleball
DESCRIPTION:This hot sport\, a cross between badminton\, tennis and table tennis\, is winning over the hearts of many athletes\, and we offer it right here in Sandpiper. Pickleball is played on a 44 by 20 foot court\, 1/4 the size of a tennis court and with a lower net. The smaller size means it requires less mobility\, giving people of all ages and abilities more opportunities to maintain a rally and react to opponent advances.
URL:https://monet.gipreview.com/event/pickleball/2027-05-13/
LOCATION:Westside Pickleball Courts
CATEGORIES:Community Activity
ATTACH;FMTTYPE=image/jpeg:https://monet.gipreview.com/wp-content/uploads/2026/03/IMG_0464-scaled.jpeg
END:VEVENT
END:VCALENDAR