BEGIN:VCALENDAR
VERSION:2.0
PRODID:-//Sandpiper - ECPv6.15.20//NONSGML v1.0//EN
CALSCALE:GREGORIAN
METHOD:PUBLISH
X-WR-CALNAME:Sandpiper
X-ORIGINAL-URL:https://monet.gipreview.com
X-WR-CALDESC:Events for Sandpiper
REFRESH-INTERVAL;VALUE=DURATION:PT1H
X-Robots-Tag:noindex
X-PUBLISHED-TTL:PT1H
BEGIN:VTIMEZONE
TZID:America/New_York
BEGIN:DAYLIGHT
TZOFFSETFROM:-0500
TZOFFSETTO:-0400
TZNAME:EDT
DTSTART:20250309T070000
END:DAYLIGHT
BEGIN:STANDARD
TZOFFSETFROM:-0400
TZOFFSETTO:-0500
TZNAME:EST
DTSTART:20251102T060000
END:STANDARD
BEGIN:DAYLIGHT
TZOFFSETFROM:-0500
TZOFFSETTO:-0400
TZNAME:EDT
DTSTART:20260308T070000
END:DAYLIGHT
BEGIN:STANDARD
TZOFFSETFROM:-0400
TZOFFSETTO:-0500
TZNAME:EST
DTSTART:20261101T060000
END:STANDARD
BEGIN:DAYLIGHT
TZOFFSETFROM:-0500
TZOFFSETTO:-0400
TZNAME:EDT
DTSTART:20270314T070000
END:DAYLIGHT
BEGIN:STANDARD
TZOFFSETFROM:-0400
TZOFFSETTO:-0500
TZNAME:EST
DTSTART:20271107T060000
END:STANDARD
END:VTIMEZONE
BEGIN:VEVENT
DTSTART;TZID=America/New_York:20260911T100000
DTEND;TZID=America/New_York:20260911T110000
DTSTAMP:20260425T073014
CREATED:20260304T223001Z
LAST-MODIFIED:20260304T223001Z
UID:990008292-1789120800-1789124400@monet.gipreview.com
SUMMARY:Water Aerobics
DESCRIPTION:Water Aerobics \nEnjoy a refreshing\, low-impact workout in the pool! Water Aerobics helps improve strength\, flexibility\, and cardiovascular health while being gentle on the joints. Perfect for all fitness levels\, this fun class combines movement\, music\, and the natural resistance of water for a great full-body workout.
URL:https://monet.gipreview.com/event/water-aerobics/2026-09-11/
LOCATION:Sandpiper West Side Pool
CATEGORIES:Community Activity
ATTACH;FMTTYPE=image/webp:https://monet.gipreview.com/wp-content/uploads/2026/01/Sandpiper-Swimming-Pool.webp
END:VEVENT
BEGIN:VEVENT
DTSTART;TZID=America/New_York:20260911T120000
DTEND;TZID=America/New_York:20260911T140000
DTSTAMP:20260425T073014
CREATED:20260301T023106Z
LAST-MODIFIED:20260310T135449Z
UID:990001919-1789128000-1789135200@monet.gipreview.com
SUMMARY:Water Volleyball
DESCRIPTION:Come join us in playing Water Volleyball at the West Side Pool. Be prepared to laugh and make new friends\, all while enjoying a great workout. We play as non-competitive teams and welcome anyone who wants to have a fun time. We are flexible on your arrival time; you can join in anytime. We will always have a place for you. Come and check us out!
URL:https://monet.gipreview.com/event/water-volleyball/2026-09-11/
LOCATION:Sandpiper West Side Pool
CATEGORIES:Community Activity
ATTACH;FMTTYPE=image/jpeg:https://monet.gipreview.com/wp-content/uploads/2026/02/20210805_191907-2.jpg
END:VEVENT
BEGIN:VEVENT
DTSTART;TZID=America/New_York:20260912T100000
DTEND;TZID=America/New_York:20260912T110000
DTSTAMP:20260425T073014
CREATED:20260304T223001Z
LAST-MODIFIED:20260304T223001Z
UID:990008293-1789207200-1789210800@monet.gipreview.com
SUMMARY:Water Aerobics
DESCRIPTION:Water Aerobics \nEnjoy a refreshing\, low-impact workout in the pool! Water Aerobics helps improve strength\, flexibility\, and cardiovascular health while being gentle on the joints. Perfect for all fitness levels\, this fun class combines movement\, music\, and the natural resistance of water for a great full-body workout.
URL:https://monet.gipreview.com/event/water-aerobics/2026-09-12/
LOCATION:Sandpiper West Side Pool
CATEGORIES:Community Activity
ATTACH;FMTTYPE=image/webp:https://monet.gipreview.com/wp-content/uploads/2026/01/Sandpiper-Swimming-Pool.webp
END:VEVENT
BEGIN:VEVENT
DTSTART;TZID=America/New_York:20260912T100000
DTEND;TZID=America/New_York:20260912T120000
DTSTAMP:20260425T073014
CREATED:20260310T134518Z
LAST-MODIFIED:20260321T214531Z
UID:990012390-1789207200-1789214400@monet.gipreview.com
SUMMARY:Water Volleyball
DESCRIPTION:
URL:https://monet.gipreview.com/event/water-volleyball-2/2026-09-12/
LOCATION:Sandpiper West Side Pool
CATEGORIES:Community Activity
ATTACH;FMTTYPE=image/jpeg:https://monet.gipreview.com/wp-content/uploads/2026/02/20210805_191907-2.jpg
END:VEVENT
BEGIN:VEVENT
DTSTART;TZID=America/New_York:20260913T100000
DTEND;TZID=America/New_York:20260913T110000
DTSTAMP:20260425T073014
CREATED:20260304T223001Z
LAST-MODIFIED:20260304T223001Z
UID:990008294-1789293600-1789297200@monet.gipreview.com
SUMMARY:Water Aerobics
DESCRIPTION:Water Aerobics \nEnjoy a refreshing\, low-impact workout in the pool! Water Aerobics helps improve strength\, flexibility\, and cardiovascular health while being gentle on the joints. Perfect for all fitness levels\, this fun class combines movement\, music\, and the natural resistance of water for a great full-body workout.
URL:https://monet.gipreview.com/event/water-aerobics/2026-09-13/
LOCATION:Sandpiper West Side Pool
CATEGORIES:Community Activity
ATTACH;FMTTYPE=image/webp:https://monet.gipreview.com/wp-content/uploads/2026/01/Sandpiper-Swimming-Pool.webp
END:VEVENT
BEGIN:VEVENT
DTSTART;TZID=America/New_York:20260914T100000
DTEND;TZID=America/New_York:20260914T110000
DTSTAMP:20260425T073014
CREATED:20260304T223001Z
LAST-MODIFIED:20260304T223001Z
UID:990008295-1789380000-1789383600@monet.gipreview.com
SUMMARY:Water Aerobics
DESCRIPTION:Water Aerobics \nEnjoy a refreshing\, low-impact workout in the pool! Water Aerobics helps improve strength\, flexibility\, and cardiovascular health while being gentle on the joints. Perfect for all fitness levels\, this fun class combines movement\, music\, and the natural resistance of water for a great full-body workout.
URL:https://monet.gipreview.com/event/water-aerobics/2026-09-14/
LOCATION:Sandpiper West Side Pool
CATEGORIES:Community Activity
ATTACH;FMTTYPE=image/webp:https://monet.gipreview.com/wp-content/uploads/2026/01/Sandpiper-Swimming-Pool.webp
END:VEVENT
BEGIN:VEVENT
DTSTART;TZID=America/New_York:20260914T180000
DTEND;TZID=America/New_York:20260914T200000
DTSTAMP:20260425T073014
CREATED:20260226T184953Z
LAST-MODIFIED:20260305T140443Z
UID:990001369-1789408800-1789416000@monet.gipreview.com
SUMMARY:Water Volleyball
DESCRIPTION:
URL:https://monet.gipreview.com/event/water-volleball/2026-09-14/
LOCATION:Sandpiper West Side Pool
CATEGORIES:Community Activity
ATTACH;FMTTYPE=image/jpeg:https://monet.gipreview.com/wp-content/uploads/2026/02/20210805_191907-2.jpg
END:VEVENT
BEGIN:VEVENT
DTSTART;TZID=America/New_York:20260915T100000
DTEND;TZID=America/New_York:20260915T110000
DTSTAMP:20260425T073014
CREATED:20260304T223001Z
LAST-MODIFIED:20260304T223001Z
UID:990008296-1789466400-1789470000@monet.gipreview.com
SUMMARY:Water Aerobics
DESCRIPTION:Water Aerobics \nEnjoy a refreshing\, low-impact workout in the pool! Water Aerobics helps improve strength\, flexibility\, and cardiovascular health while being gentle on the joints. Perfect for all fitness levels\, this fun class combines movement\, music\, and the natural resistance of water for a great full-body workout.
URL:https://monet.gipreview.com/event/water-aerobics/2026-09-15/
LOCATION:Sandpiper West Side Pool
CATEGORIES:Community Activity
ATTACH;FMTTYPE=image/webp:https://monet.gipreview.com/wp-content/uploads/2026/01/Sandpiper-Swimming-Pool.webp
END:VEVENT
BEGIN:VEVENT
DTSTART;TZID=America/New_York:20260915T120000
DTEND;TZID=America/New_York:20260915T140000
DTSTAMP:20260425T073014
CREATED:20260301T023106Z
LAST-MODIFIED:20260310T135449Z
UID:990001920-1789473600-1789480800@monet.gipreview.com
SUMMARY:Water Volleyball
DESCRIPTION:Come join us in playing Water Volleyball at the West Side Pool. Be prepared to laugh and make new friends\, all while enjoying a great workout. We play as non-competitive teams and welcome anyone who wants to have a fun time. We are flexible on your arrival time; you can join in anytime. We will always have a place for you. Come and check us out!
URL:https://monet.gipreview.com/event/water-volleyball/2026-09-15/
LOCATION:Sandpiper West Side Pool
CATEGORIES:Community Activity
ATTACH;FMTTYPE=image/jpeg:https://monet.gipreview.com/wp-content/uploads/2026/02/20210805_191907-2.jpg
END:VEVENT
BEGIN:VEVENT
DTSTART;TZID=America/New_York:20260916T100000
DTEND;TZID=America/New_York:20260916T110000
DTSTAMP:20260425T073014
CREATED:20260304T223001Z
LAST-MODIFIED:20260304T223001Z
UID:990008297-1789552800-1789556400@monet.gipreview.com
SUMMARY:Water Aerobics
DESCRIPTION:Water Aerobics \nEnjoy a refreshing\, low-impact workout in the pool! Water Aerobics helps improve strength\, flexibility\, and cardiovascular health while being gentle on the joints. Perfect for all fitness levels\, this fun class combines movement\, music\, and the natural resistance of water for a great full-body workout.
URL:https://monet.gipreview.com/event/water-aerobics/2026-09-16/
LOCATION:Sandpiper West Side Pool
CATEGORIES:Community Activity
ATTACH;FMTTYPE=image/webp:https://monet.gipreview.com/wp-content/uploads/2026/01/Sandpiper-Swimming-Pool.webp
END:VEVENT
BEGIN:VEVENT
DTSTART;TZID=America/New_York:20260916T120000
DTEND;TZID=America/New_York:20260916T140000
DTSTAMP:20260425T073014
CREATED:20260301T023106Z
LAST-MODIFIED:20260310T135449Z
UID:990001921-1789560000-1789567200@monet.gipreview.com
SUMMARY:Water Volleyball
DESCRIPTION:Come join us in playing Water Volleyball at the West Side Pool. Be prepared to laugh and make new friends\, all while enjoying a great workout. We play as non-competitive teams and welcome anyone who wants to have a fun time. We are flexible on your arrival time; you can join in anytime. We will always have a place for you. Come and check us out!
URL:https://monet.gipreview.com/event/water-volleyball/2026-09-16/
LOCATION:Sandpiper West Side Pool
CATEGORIES:Community Activity
ATTACH;FMTTYPE=image/jpeg:https://monet.gipreview.com/wp-content/uploads/2026/02/20210805_191907-2.jpg
END:VEVENT
BEGIN:VEVENT
DTSTART;TZID=America/New_York:20260917T100000
DTEND;TZID=America/New_York:20260917T110000
DTSTAMP:20260425T073014
CREATED:20260304T223001Z
LAST-MODIFIED:20260304T223001Z
UID:990008298-1789639200-1789642800@monet.gipreview.com
SUMMARY:Water Aerobics
DESCRIPTION:Water Aerobics \nEnjoy a refreshing\, low-impact workout in the pool! Water Aerobics helps improve strength\, flexibility\, and cardiovascular health while being gentle on the joints. Perfect for all fitness levels\, this fun class combines movement\, music\, and the natural resistance of water for a great full-body workout.
URL:https://monet.gipreview.com/event/water-aerobics/2026-09-17/
LOCATION:Sandpiper West Side Pool
CATEGORIES:Community Activity
ATTACH;FMTTYPE=image/webp:https://monet.gipreview.com/wp-content/uploads/2026/01/Sandpiper-Swimming-Pool.webp
END:VEVENT
BEGIN:VEVENT
DTSTART;TZID=America/New_York:20260917T180000
DTEND;TZID=America/New_York:20260917T200000
DTSTAMP:20260425T073014
CREATED:20260226T184953Z
LAST-MODIFIED:20260305T140443Z
UID:990001370-1789668000-1789675200@monet.gipreview.com
SUMMARY:Water Volleyball
DESCRIPTION:
URL:https://monet.gipreview.com/event/water-volleball/2026-09-17/
LOCATION:Sandpiper West Side Pool
CATEGORIES:Community Activity
ATTACH;FMTTYPE=image/jpeg:https://monet.gipreview.com/wp-content/uploads/2026/02/20210805_191907-2.jpg
END:VEVENT
BEGIN:VEVENT
DTSTART;TZID=America/New_York:20260918T100000
DTEND;TZID=America/New_York:20260918T110000
DTSTAMP:20260425T073015
CREATED:20260304T223001Z
LAST-MODIFIED:20260304T223001Z
UID:990008299-1789725600-1789729200@monet.gipreview.com
SUMMARY:Water Aerobics
DESCRIPTION:Water Aerobics \nEnjoy a refreshing\, low-impact workout in the pool! Water Aerobics helps improve strength\, flexibility\, and cardiovascular health while being gentle on the joints. Perfect for all fitness levels\, this fun class combines movement\, music\, and the natural resistance of water for a great full-body workout.
URL:https://monet.gipreview.com/event/water-aerobics/2026-09-18/
LOCATION:Sandpiper West Side Pool
CATEGORIES:Community Activity
ATTACH;FMTTYPE=image/webp:https://monet.gipreview.com/wp-content/uploads/2026/01/Sandpiper-Swimming-Pool.webp
END:VEVENT
BEGIN:VEVENT
DTSTART;TZID=America/New_York:20260918T120000
DTEND;TZID=America/New_York:20260918T140000
DTSTAMP:20260425T073015
CREATED:20260301T023106Z
LAST-MODIFIED:20260310T135449Z
UID:990001922-1789732800-1789740000@monet.gipreview.com
SUMMARY:Water Volleyball
DESCRIPTION:Come join us in playing Water Volleyball at the West Side Pool. Be prepared to laugh and make new friends\, all while enjoying a great workout. We play as non-competitive teams and welcome anyone who wants to have a fun time. We are flexible on your arrival time; you can join in anytime. We will always have a place for you. Come and check us out!
URL:https://monet.gipreview.com/event/water-volleyball/2026-09-18/
LOCATION:Sandpiper West Side Pool
CATEGORIES:Community Activity
ATTACH;FMTTYPE=image/jpeg:https://monet.gipreview.com/wp-content/uploads/2026/02/20210805_191907-2.jpg
END:VEVENT
BEGIN:VEVENT
DTSTART;TZID=America/New_York:20260919T100000
DTEND;TZID=America/New_York:20260919T110000
DTSTAMP:20260425T073015
CREATED:20260304T223001Z
LAST-MODIFIED:20260304T223001Z
UID:990008300-1789812000-1789815600@monet.gipreview.com
SUMMARY:Water Aerobics
DESCRIPTION:Water Aerobics \nEnjoy a refreshing\, low-impact workout in the pool! Water Aerobics helps improve strength\, flexibility\, and cardiovascular health while being gentle on the joints. Perfect for all fitness levels\, this fun class combines movement\, music\, and the natural resistance of water for a great full-body workout.
URL:https://monet.gipreview.com/event/water-aerobics/2026-09-19/
LOCATION:Sandpiper West Side Pool
CATEGORIES:Community Activity
ATTACH;FMTTYPE=image/webp:https://monet.gipreview.com/wp-content/uploads/2026/01/Sandpiper-Swimming-Pool.webp
END:VEVENT
BEGIN:VEVENT
DTSTART;TZID=America/New_York:20260919T100000
DTEND;TZID=America/New_York:20260919T120000
DTSTAMP:20260425T073015
CREATED:20260310T134518Z
LAST-MODIFIED:20260321T214531Z
UID:990012391-1789812000-1789819200@monet.gipreview.com
SUMMARY:Water Volleyball
DESCRIPTION:
URL:https://monet.gipreview.com/event/water-volleyball-2/2026-09-19/
LOCATION:Sandpiper West Side Pool
CATEGORIES:Community Activity
ATTACH;FMTTYPE=image/jpeg:https://monet.gipreview.com/wp-content/uploads/2026/02/20210805_191907-2.jpg
END:VEVENT
BEGIN:VEVENT
DTSTART;TZID=America/New_York:20260920T100000
DTEND;TZID=America/New_York:20260920T110000
DTSTAMP:20260425T073015
CREATED:20260304T223001Z
LAST-MODIFIED:20260304T223001Z
UID:990008301-1789898400-1789902000@monet.gipreview.com
SUMMARY:Water Aerobics
DESCRIPTION:Water Aerobics \nEnjoy a refreshing\, low-impact workout in the pool! Water Aerobics helps improve strength\, flexibility\, and cardiovascular health while being gentle on the joints. Perfect for all fitness levels\, this fun class combines movement\, music\, and the natural resistance of water for a great full-body workout.
URL:https://monet.gipreview.com/event/water-aerobics/2026-09-20/
LOCATION:Sandpiper West Side Pool
CATEGORIES:Community Activity
ATTACH;FMTTYPE=image/webp:https://monet.gipreview.com/wp-content/uploads/2026/01/Sandpiper-Swimming-Pool.webp
END:VEVENT
BEGIN:VEVENT
DTSTART;TZID=America/New_York:20260921T100000
DTEND;TZID=America/New_York:20260921T110000
DTSTAMP:20260425T073015
CREATED:20260304T223001Z
LAST-MODIFIED:20260304T223001Z
UID:990008302-1789984800-1789988400@monet.gipreview.com
SUMMARY:Water Aerobics
DESCRIPTION:Water Aerobics \nEnjoy a refreshing\, low-impact workout in the pool! Water Aerobics helps improve strength\, flexibility\, and cardiovascular health while being gentle on the joints. Perfect for all fitness levels\, this fun class combines movement\, music\, and the natural resistance of water for a great full-body workout.
URL:https://monet.gipreview.com/event/water-aerobics/2026-09-21/
LOCATION:Sandpiper West Side Pool
CATEGORIES:Community Activity
ATTACH;FMTTYPE=image/webp:https://monet.gipreview.com/wp-content/uploads/2026/01/Sandpiper-Swimming-Pool.webp
END:VEVENT
BEGIN:VEVENT
DTSTART;TZID=America/New_York:20260921T180000
DTEND;TZID=America/New_York:20260921T200000
DTSTAMP:20260425T073015
CREATED:20260226T184953Z
LAST-MODIFIED:20260305T140443Z
UID:990001371-1790013600-1790020800@monet.gipreview.com
SUMMARY:Water Volleyball
DESCRIPTION:
URL:https://monet.gipreview.com/event/water-volleball/2026-09-21/
LOCATION:Sandpiper West Side Pool
CATEGORIES:Community Activity
ATTACH;FMTTYPE=image/jpeg:https://monet.gipreview.com/wp-content/uploads/2026/02/20210805_191907-2.jpg
END:VEVENT
BEGIN:VEVENT
DTSTART;TZID=America/New_York:20260922T100000
DTEND;TZID=America/New_York:20260922T110000
DTSTAMP:20260425T073015
CREATED:20260304T223001Z
LAST-MODIFIED:20260304T223001Z
UID:990008303-1790071200-1790074800@monet.gipreview.com
SUMMARY:Water Aerobics
DESCRIPTION:Water Aerobics \nEnjoy a refreshing\, low-impact workout in the pool! Water Aerobics helps improve strength\, flexibility\, and cardiovascular health while being gentle on the joints. Perfect for all fitness levels\, this fun class combines movement\, music\, and the natural resistance of water for a great full-body workout.
URL:https://monet.gipreview.com/event/water-aerobics/2026-09-22/
LOCATION:Sandpiper West Side Pool
CATEGORIES:Community Activity
ATTACH;FMTTYPE=image/webp:https://monet.gipreview.com/wp-content/uploads/2026/01/Sandpiper-Swimming-Pool.webp
END:VEVENT
BEGIN:VEVENT
DTSTART;TZID=America/New_York:20260922T120000
DTEND;TZID=America/New_York:20260922T140000
DTSTAMP:20260425T073015
CREATED:20260301T023106Z
LAST-MODIFIED:20260310T135449Z
UID:990001923-1790078400-1790085600@monet.gipreview.com
SUMMARY:Water Volleyball
DESCRIPTION:Come join us in playing Water Volleyball at the West Side Pool. Be prepared to laugh and make new friends\, all while enjoying a great workout. We play as non-competitive teams and welcome anyone who wants to have a fun time. We are flexible on your arrival time; you can join in anytime. We will always have a place for you. Come and check us out!
URL:https://monet.gipreview.com/event/water-volleyball/2026-09-22/
LOCATION:Sandpiper West Side Pool
CATEGORIES:Community Activity
ATTACH;FMTTYPE=image/jpeg:https://monet.gipreview.com/wp-content/uploads/2026/02/20210805_191907-2.jpg
END:VEVENT
BEGIN:VEVENT
DTSTART;TZID=America/New_York:20260923T100000
DTEND;TZID=America/New_York:20260923T110000
DTSTAMP:20260425T073015
CREATED:20260304T223001Z
LAST-MODIFIED:20260304T223001Z
UID:990008304-1790157600-1790161200@monet.gipreview.com
SUMMARY:Water Aerobics
DESCRIPTION:Water Aerobics \nEnjoy a refreshing\, low-impact workout in the pool! Water Aerobics helps improve strength\, flexibility\, and cardiovascular health while being gentle on the joints. Perfect for all fitness levels\, this fun class combines movement\, music\, and the natural resistance of water for a great full-body workout.
URL:https://monet.gipreview.com/event/water-aerobics/2026-09-23/
LOCATION:Sandpiper West Side Pool
CATEGORIES:Community Activity
ATTACH;FMTTYPE=image/webp:https://monet.gipreview.com/wp-content/uploads/2026/01/Sandpiper-Swimming-Pool.webp
END:VEVENT
BEGIN:VEVENT
DTSTART;TZID=America/New_York:20260923T120000
DTEND;TZID=America/New_York:20260923T140000
DTSTAMP:20260425T073015
CREATED:20260301T023106Z
LAST-MODIFIED:20260310T135449Z
UID:990001924-1790164800-1790172000@monet.gipreview.com
SUMMARY:Water Volleyball
DESCRIPTION:Come join us in playing Water Volleyball at the West Side Pool. Be prepared to laugh and make new friends\, all while enjoying a great workout. We play as non-competitive teams and welcome anyone who wants to have a fun time. We are flexible on your arrival time; you can join in anytime. We will always have a place for you. Come and check us out!
URL:https://monet.gipreview.com/event/water-volleyball/2026-09-23/
LOCATION:Sandpiper West Side Pool
CATEGORIES:Community Activity
ATTACH;FMTTYPE=image/jpeg:https://monet.gipreview.com/wp-content/uploads/2026/02/20210805_191907-2.jpg
END:VEVENT
BEGIN:VEVENT
DTSTART;TZID=America/New_York:20260924T100000
DTEND;TZID=America/New_York:20260924T110000
DTSTAMP:20260425T073015
CREATED:20260304T223001Z
LAST-MODIFIED:20260304T223001Z
UID:990008305-1790244000-1790247600@monet.gipreview.com
SUMMARY:Water Aerobics
DESCRIPTION:Water Aerobics \nEnjoy a refreshing\, low-impact workout in the pool! Water Aerobics helps improve strength\, flexibility\, and cardiovascular health while being gentle on the joints. Perfect for all fitness levels\, this fun class combines movement\, music\, and the natural resistance of water for a great full-body workout.
URL:https://monet.gipreview.com/event/water-aerobics/2026-09-24/
LOCATION:Sandpiper West Side Pool
CATEGORIES:Community Activity
ATTACH;FMTTYPE=image/webp:https://monet.gipreview.com/wp-content/uploads/2026/01/Sandpiper-Swimming-Pool.webp
END:VEVENT
BEGIN:VEVENT
DTSTART;TZID=America/New_York:20260924T180000
DTEND;TZID=America/New_York:20260924T200000
DTSTAMP:20260425T073015
CREATED:20260226T184953Z
LAST-MODIFIED:20260305T140443Z
UID:990001372-1790272800-1790280000@monet.gipreview.com
SUMMARY:Water Volleyball
DESCRIPTION:
URL:https://monet.gipreview.com/event/water-volleball/2026-09-24/
LOCATION:Sandpiper West Side Pool
CATEGORIES:Community Activity
ATTACH;FMTTYPE=image/jpeg:https://monet.gipreview.com/wp-content/uploads/2026/02/20210805_191907-2.jpg
END:VEVENT
BEGIN:VEVENT
DTSTART;TZID=America/New_York:20260925T100000
DTEND;TZID=America/New_York:20260925T110000
DTSTAMP:20260425T073015
CREATED:20260304T223001Z
LAST-MODIFIED:20260304T223001Z
UID:990008306-1790330400-1790334000@monet.gipreview.com
SUMMARY:Water Aerobics
DESCRIPTION:Water Aerobics \nEnjoy a refreshing\, low-impact workout in the pool! Water Aerobics helps improve strength\, flexibility\, and cardiovascular health while being gentle on the joints. Perfect for all fitness levels\, this fun class combines movement\, music\, and the natural resistance of water for a great full-body workout.
URL:https://monet.gipreview.com/event/water-aerobics/2026-09-25/
LOCATION:Sandpiper West Side Pool
CATEGORIES:Community Activity
ATTACH;FMTTYPE=image/webp:https://monet.gipreview.com/wp-content/uploads/2026/01/Sandpiper-Swimming-Pool.webp
END:VEVENT
BEGIN:VEVENT
DTSTART;TZID=America/New_York:20260925T120000
DTEND;TZID=America/New_York:20260925T140000
DTSTAMP:20260425T073015
CREATED:20260301T023106Z
LAST-MODIFIED:20260310T135449Z
UID:990001925-1790337600-1790344800@monet.gipreview.com
SUMMARY:Water Volleyball
DESCRIPTION:Come join us in playing Water Volleyball at the West Side Pool. Be prepared to laugh and make new friends\, all while enjoying a great workout. We play as non-competitive teams and welcome anyone who wants to have a fun time. We are flexible on your arrival time; you can join in anytime. We will always have a place for you. Come and check us out!
URL:https://monet.gipreview.com/event/water-volleyball/2026-09-25/
LOCATION:Sandpiper West Side Pool
CATEGORIES:Community Activity
ATTACH;FMTTYPE=image/jpeg:https://monet.gipreview.com/wp-content/uploads/2026/02/20210805_191907-2.jpg
END:VEVENT
BEGIN:VEVENT
DTSTART;TZID=America/New_York:20260926T100000
DTEND;TZID=America/New_York:20260926T110000
DTSTAMP:20260425T073015
CREATED:20260304T223001Z
LAST-MODIFIED:20260304T223001Z
UID:990008307-1790416800-1790420400@monet.gipreview.com
SUMMARY:Water Aerobics
DESCRIPTION:Water Aerobics \nEnjoy a refreshing\, low-impact workout in the pool! Water Aerobics helps improve strength\, flexibility\, and cardiovascular health while being gentle on the joints. Perfect for all fitness levels\, this fun class combines movement\, music\, and the natural resistance of water for a great full-body workout.
URL:https://monet.gipreview.com/event/water-aerobics/2026-09-26/
LOCATION:Sandpiper West Side Pool
CATEGORIES:Community Activity
ATTACH;FMTTYPE=image/webp:https://monet.gipreview.com/wp-content/uploads/2026/01/Sandpiper-Swimming-Pool.webp
END:VEVENT
BEGIN:VEVENT
DTSTART;TZID=America/New_York:20260926T100000
DTEND;TZID=America/New_York:20260926T120000
DTSTAMP:20260425T073015
CREATED:20260310T134518Z
LAST-MODIFIED:20260321T214531Z
UID:990012392-1790416800-1790424000@monet.gipreview.com
SUMMARY:Water Volleyball
DESCRIPTION:
URL:https://monet.gipreview.com/event/water-volleyball-2/2026-09-26/
LOCATION:Sandpiper West Side Pool
CATEGORIES:Community Activity
ATTACH;FMTTYPE=image/jpeg:https://monet.gipreview.com/wp-content/uploads/2026/02/20210805_191907-2.jpg
END:VEVENT
END:VCALENDAR