BEGIN:VCALENDAR
VERSION:2.0
PRODID:-//Sandpiper - ECPv6.15.20//NONSGML v1.0//EN
CALSCALE:GREGORIAN
METHOD:PUBLISH
X-ORIGINAL-URL:https://monet.gipreview.com
X-WR-CALDESC:Events for Sandpiper
REFRESH-INTERVAL;VALUE=DURATION:PT1H
X-Robots-Tag:noindex
X-PUBLISHED-TTL:PT1H
BEGIN:VTIMEZONE
TZID:America/New_York
BEGIN:DAYLIGHT
TZOFFSETFROM:-0500
TZOFFSETTO:-0400
TZNAME:EDT
DTSTART:20250309T070000
END:DAYLIGHT
BEGIN:STANDARD
TZOFFSETFROM:-0400
TZOFFSETTO:-0500
TZNAME:EST
DTSTART:20251102T060000
END:STANDARD
BEGIN:DAYLIGHT
TZOFFSETFROM:-0500
TZOFFSETTO:-0400
TZNAME:EDT
DTSTART:20260308T070000
END:DAYLIGHT
BEGIN:STANDARD
TZOFFSETFROM:-0400
TZOFFSETTO:-0500
TZNAME:EST
DTSTART:20261101T060000
END:STANDARD
BEGIN:DAYLIGHT
TZOFFSETFROM:-0500
TZOFFSETTO:-0400
TZNAME:EDT
DTSTART:20270314T070000
END:DAYLIGHT
BEGIN:STANDARD
TZOFFSETFROM:-0400
TZOFFSETTO:-0500
TZNAME:EST
DTSTART:20271107T060000
END:STANDARD
END:VTIMEZONE
BEGIN:VEVENT
DTSTART;TZID=America/New_York:20260811T120000
DTEND;TZID=America/New_York:20260811T140000
DTSTAMP:20260423T151051
CREATED:20260301T023106Z
LAST-MODIFIED:20260310T135449Z
UID:990001905-1786449600-1786456800@monet.gipreview.com
SUMMARY:Water Volleyball
DESCRIPTION:Come join us in playing Water Volleyball at the West Side Pool. Be prepared to laugh and make new friends\, all while enjoying a great workout. We play as non-competitive teams and welcome anyone who wants to have a fun time. We are flexible on your arrival time; you can join in anytime. We will always have a place for you. Come and check us out!
URL:https://monet.gipreview.com/event/water-volleyball/2026-08-11/
LOCATION:Sandpiper West Side Pool
CATEGORIES:Community Activity
ATTACH;FMTTYPE=image/jpeg:https://monet.gipreview.com/wp-content/uploads/2026/02/20210805_191907-2.jpg
END:VEVENT
BEGIN:VEVENT
DTSTART;TZID=America/New_York:20260812T100000
DTEND;TZID=America/New_York:20260812T110000
DTSTAMP:20260423T151051
CREATED:20260304T223001Z
LAST-MODIFIED:20260304T223001Z
UID:990008262-1786528800-1786532400@monet.gipreview.com
SUMMARY:Water Aerobics
DESCRIPTION:Water Aerobics \nEnjoy a refreshing\, low-impact workout in the pool! Water Aerobics helps improve strength\, flexibility\, and cardiovascular health while being gentle on the joints. Perfect for all fitness levels\, this fun class combines movement\, music\, and the natural resistance of water for a great full-body workout.
URL:https://monet.gipreview.com/event/water-aerobics/2026-08-12/
LOCATION:Sandpiper West Side Pool
CATEGORIES:Community Activity
ATTACH;FMTTYPE=image/webp:https://monet.gipreview.com/wp-content/uploads/2026/01/Sandpiper-Swimming-Pool.webp
END:VEVENT
BEGIN:VEVENT
DTSTART;TZID=America/New_York:20260812T120000
DTEND;TZID=America/New_York:20260812T140000
DTSTAMP:20260423T151051
CREATED:20260301T023106Z
LAST-MODIFIED:20260310T135449Z
UID:990001906-1786536000-1786543200@monet.gipreview.com
SUMMARY:Water Volleyball
DESCRIPTION:Come join us in playing Water Volleyball at the West Side Pool. Be prepared to laugh and make new friends\, all while enjoying a great workout. We play as non-competitive teams and welcome anyone who wants to have a fun time. We are flexible on your arrival time; you can join in anytime. We will always have a place for you. Come and check us out!
URL:https://monet.gipreview.com/event/water-volleyball/2026-08-12/
LOCATION:Sandpiper West Side Pool
CATEGORIES:Community Activity
ATTACH;FMTTYPE=image/jpeg:https://monet.gipreview.com/wp-content/uploads/2026/02/20210805_191907-2.jpg
END:VEVENT
BEGIN:VEVENT
DTSTART;TZID=America/New_York:20260813T100000
DTEND;TZID=America/New_York:20260813T110000
DTSTAMP:20260423T151051
CREATED:20260304T223001Z
LAST-MODIFIED:20260304T223001Z
UID:990008263-1786615200-1786618800@monet.gipreview.com
SUMMARY:Water Aerobics
DESCRIPTION:Water Aerobics \nEnjoy a refreshing\, low-impact workout in the pool! Water Aerobics helps improve strength\, flexibility\, and cardiovascular health while being gentle on the joints. Perfect for all fitness levels\, this fun class combines movement\, music\, and the natural resistance of water for a great full-body workout.
URL:https://monet.gipreview.com/event/water-aerobics/2026-08-13/
LOCATION:Sandpiper West Side Pool
CATEGORIES:Community Activity
ATTACH;FMTTYPE=image/webp:https://monet.gipreview.com/wp-content/uploads/2026/01/Sandpiper-Swimming-Pool.webp
END:VEVENT
BEGIN:VEVENT
DTSTART;TZID=America/New_York:20260813T180000
DTEND;TZID=America/New_York:20260813T200000
DTSTAMP:20260423T151051
CREATED:20260226T184953Z
LAST-MODIFIED:20260305T140443Z
UID:990001360-1786644000-1786651200@monet.gipreview.com
SUMMARY:Water Volleyball
DESCRIPTION:
URL:https://monet.gipreview.com/event/water-volleball/2026-08-13/
LOCATION:Sandpiper West Side Pool
CATEGORIES:Community Activity
ATTACH;FMTTYPE=image/jpeg:https://monet.gipreview.com/wp-content/uploads/2026/02/20210805_191907-2.jpg
END:VEVENT
BEGIN:VEVENT
DTSTART;TZID=America/New_York:20260814T100000
DTEND;TZID=America/New_York:20260814T110000
DTSTAMP:20260423T151051
CREATED:20260304T223001Z
LAST-MODIFIED:20260304T223001Z
UID:990008264-1786701600-1786705200@monet.gipreview.com
SUMMARY:Water Aerobics
DESCRIPTION:Water Aerobics \nEnjoy a refreshing\, low-impact workout in the pool! Water Aerobics helps improve strength\, flexibility\, and cardiovascular health while being gentle on the joints. Perfect for all fitness levels\, this fun class combines movement\, music\, and the natural resistance of water for a great full-body workout.
URL:https://monet.gipreview.com/event/water-aerobics/2026-08-14/
LOCATION:Sandpiper West Side Pool
CATEGORIES:Community Activity
ATTACH;FMTTYPE=image/webp:https://monet.gipreview.com/wp-content/uploads/2026/01/Sandpiper-Swimming-Pool.webp
END:VEVENT
BEGIN:VEVENT
DTSTART;TZID=America/New_York:20260814T120000
DTEND;TZID=America/New_York:20260814T140000
DTSTAMP:20260423T151051
CREATED:20260301T023106Z
LAST-MODIFIED:20260310T135449Z
UID:990001907-1786708800-1786716000@monet.gipreview.com
SUMMARY:Water Volleyball
DESCRIPTION:Come join us in playing Water Volleyball at the West Side Pool. Be prepared to laugh and make new friends\, all while enjoying a great workout. We play as non-competitive teams and welcome anyone who wants to have a fun time. We are flexible on your arrival time; you can join in anytime. We will always have a place for you. Come and check us out!
URL:https://monet.gipreview.com/event/water-volleyball/2026-08-14/
LOCATION:Sandpiper West Side Pool
CATEGORIES:Community Activity
ATTACH;FMTTYPE=image/jpeg:https://monet.gipreview.com/wp-content/uploads/2026/02/20210805_191907-2.jpg
END:VEVENT
BEGIN:VEVENT
DTSTART;TZID=America/New_York:20260815T100000
DTEND;TZID=America/New_York:20260815T110000
DTSTAMP:20260423T151051
CREATED:20260304T223001Z
LAST-MODIFIED:20260304T223001Z
UID:990008265-1786788000-1786791600@monet.gipreview.com
SUMMARY:Water Aerobics
DESCRIPTION:Water Aerobics \nEnjoy a refreshing\, low-impact workout in the pool! Water Aerobics helps improve strength\, flexibility\, and cardiovascular health while being gentle on the joints. Perfect for all fitness levels\, this fun class combines movement\, music\, and the natural resistance of water for a great full-body workout.
URL:https://monet.gipreview.com/event/water-aerobics/2026-08-15/
LOCATION:Sandpiper West Side Pool
CATEGORIES:Community Activity
ATTACH;FMTTYPE=image/webp:https://monet.gipreview.com/wp-content/uploads/2026/01/Sandpiper-Swimming-Pool.webp
END:VEVENT
BEGIN:VEVENT
DTSTART;TZID=America/New_York:20260815T100000
DTEND;TZID=America/New_York:20260815T120000
DTSTAMP:20260423T151051
CREATED:20260310T134518Z
LAST-MODIFIED:20260321T214531Z
UID:990012386-1786788000-1786795200@monet.gipreview.com
SUMMARY:Water Volleyball
DESCRIPTION:
URL:https://monet.gipreview.com/event/water-volleyball-2/2026-08-15/
LOCATION:Sandpiper West Side Pool
CATEGORIES:Community Activity
ATTACH;FMTTYPE=image/jpeg:https://monet.gipreview.com/wp-content/uploads/2026/02/20210805_191907-2.jpg
END:VEVENT
BEGIN:VEVENT
DTSTART;TZID=America/New_York:20260816T100000
DTEND;TZID=America/New_York:20260816T110000
DTSTAMP:20260423T151051
CREATED:20260304T223001Z
LAST-MODIFIED:20260304T223001Z
UID:990008266-1786874400-1786878000@monet.gipreview.com
SUMMARY:Water Aerobics
DESCRIPTION:Water Aerobics \nEnjoy a refreshing\, low-impact workout in the pool! Water Aerobics helps improve strength\, flexibility\, and cardiovascular health while being gentle on the joints. Perfect for all fitness levels\, this fun class combines movement\, music\, and the natural resistance of water for a great full-body workout.
URL:https://monet.gipreview.com/event/water-aerobics/2026-08-16/
LOCATION:Sandpiper West Side Pool
CATEGORIES:Community Activity
ATTACH;FMTTYPE=image/webp:https://monet.gipreview.com/wp-content/uploads/2026/01/Sandpiper-Swimming-Pool.webp
END:VEVENT
BEGIN:VEVENT
DTSTART;TZID=America/New_York:20260817T100000
DTEND;TZID=America/New_York:20260817T110000
DTSTAMP:20260423T151051
CREATED:20260304T223001Z
LAST-MODIFIED:20260304T223001Z
UID:990008267-1786960800-1786964400@monet.gipreview.com
SUMMARY:Water Aerobics
DESCRIPTION:Water Aerobics \nEnjoy a refreshing\, low-impact workout in the pool! Water Aerobics helps improve strength\, flexibility\, and cardiovascular health while being gentle on the joints. Perfect for all fitness levels\, this fun class combines movement\, music\, and the natural resistance of water for a great full-body workout.
URL:https://monet.gipreview.com/event/water-aerobics/2026-08-17/
LOCATION:Sandpiper West Side Pool
CATEGORIES:Community Activity
ATTACH;FMTTYPE=image/webp:https://monet.gipreview.com/wp-content/uploads/2026/01/Sandpiper-Swimming-Pool.webp
END:VEVENT
BEGIN:VEVENT
DTSTART;TZID=America/New_York:20260817T180000
DTEND;TZID=America/New_York:20260817T200000
DTSTAMP:20260423T151051
CREATED:20260226T184953Z
LAST-MODIFIED:20260305T140443Z
UID:990001361-1786989600-1786996800@monet.gipreview.com
SUMMARY:Water Volleyball
DESCRIPTION:
URL:https://monet.gipreview.com/event/water-volleball/2026-08-17/
LOCATION:Sandpiper West Side Pool
CATEGORIES:Community Activity
ATTACH;FMTTYPE=image/jpeg:https://monet.gipreview.com/wp-content/uploads/2026/02/20210805_191907-2.jpg
END:VEVENT
BEGIN:VEVENT
DTSTART;TZID=America/New_York:20260818T100000
DTEND;TZID=America/New_York:20260818T110000
DTSTAMP:20260423T151051
CREATED:20260304T223001Z
LAST-MODIFIED:20260304T223001Z
UID:990008268-1787047200-1787050800@monet.gipreview.com
SUMMARY:Water Aerobics
DESCRIPTION:Water Aerobics \nEnjoy a refreshing\, low-impact workout in the pool! Water Aerobics helps improve strength\, flexibility\, and cardiovascular health while being gentle on the joints. Perfect for all fitness levels\, this fun class combines movement\, music\, and the natural resistance of water for a great full-body workout.
URL:https://monet.gipreview.com/event/water-aerobics/2026-08-18/
LOCATION:Sandpiper West Side Pool
CATEGORIES:Community Activity
ATTACH;FMTTYPE=image/webp:https://monet.gipreview.com/wp-content/uploads/2026/01/Sandpiper-Swimming-Pool.webp
END:VEVENT
BEGIN:VEVENT
DTSTART;TZID=America/New_York:20260818T120000
DTEND;TZID=America/New_York:20260818T140000
DTSTAMP:20260423T151051
CREATED:20260301T023106Z
LAST-MODIFIED:20260310T135449Z
UID:990001908-1787054400-1787061600@monet.gipreview.com
SUMMARY:Water Volleyball
DESCRIPTION:Come join us in playing Water Volleyball at the West Side Pool. Be prepared to laugh and make new friends\, all while enjoying a great workout. We play as non-competitive teams and welcome anyone who wants to have a fun time. We are flexible on your arrival time; you can join in anytime. We will always have a place for you. Come and check us out!
URL:https://monet.gipreview.com/event/water-volleyball/2026-08-18/
LOCATION:Sandpiper West Side Pool
CATEGORIES:Community Activity
ATTACH;FMTTYPE=image/jpeg:https://monet.gipreview.com/wp-content/uploads/2026/02/20210805_191907-2.jpg
END:VEVENT
BEGIN:VEVENT
DTSTART;TZID=America/New_York:20260819T100000
DTEND;TZID=America/New_York:20260819T110000
DTSTAMP:20260423T151051
CREATED:20260304T223001Z
LAST-MODIFIED:20260304T223001Z
UID:990008269-1787133600-1787137200@monet.gipreview.com
SUMMARY:Water Aerobics
DESCRIPTION:Water Aerobics \nEnjoy a refreshing\, low-impact workout in the pool! Water Aerobics helps improve strength\, flexibility\, and cardiovascular health while being gentle on the joints. Perfect for all fitness levels\, this fun class combines movement\, music\, and the natural resistance of water for a great full-body workout.
URL:https://monet.gipreview.com/event/water-aerobics/2026-08-19/
LOCATION:Sandpiper West Side Pool
CATEGORIES:Community Activity
ATTACH;FMTTYPE=image/webp:https://monet.gipreview.com/wp-content/uploads/2026/01/Sandpiper-Swimming-Pool.webp
END:VEVENT
BEGIN:VEVENT
DTSTART;TZID=America/New_York:20260819T120000
DTEND;TZID=America/New_York:20260819T140000
DTSTAMP:20260423T151051
CREATED:20260301T023106Z
LAST-MODIFIED:20260310T135449Z
UID:990001909-1787140800-1787148000@monet.gipreview.com
SUMMARY:Water Volleyball
DESCRIPTION:Come join us in playing Water Volleyball at the West Side Pool. Be prepared to laugh and make new friends\, all while enjoying a great workout. We play as non-competitive teams and welcome anyone who wants to have a fun time. We are flexible on your arrival time; you can join in anytime. We will always have a place for you. Come and check us out!
URL:https://monet.gipreview.com/event/water-volleyball/2026-08-19/
LOCATION:Sandpiper West Side Pool
CATEGORIES:Community Activity
ATTACH;FMTTYPE=image/jpeg:https://monet.gipreview.com/wp-content/uploads/2026/02/20210805_191907-2.jpg
END:VEVENT
BEGIN:VEVENT
DTSTART;TZID=America/New_York:20260820T100000
DTEND;TZID=America/New_York:20260820T110000
DTSTAMP:20260423T151051
CREATED:20260304T223001Z
LAST-MODIFIED:20260304T223001Z
UID:990008270-1787220000-1787223600@monet.gipreview.com
SUMMARY:Water Aerobics
DESCRIPTION:Water Aerobics \nEnjoy a refreshing\, low-impact workout in the pool! Water Aerobics helps improve strength\, flexibility\, and cardiovascular health while being gentle on the joints. Perfect for all fitness levels\, this fun class combines movement\, music\, and the natural resistance of water for a great full-body workout.
URL:https://monet.gipreview.com/event/water-aerobics/2026-08-20/
LOCATION:Sandpiper West Side Pool
CATEGORIES:Community Activity
ATTACH;FMTTYPE=image/webp:https://monet.gipreview.com/wp-content/uploads/2026/01/Sandpiper-Swimming-Pool.webp
END:VEVENT
BEGIN:VEVENT
DTSTART;TZID=America/New_York:20260820T180000
DTEND;TZID=America/New_York:20260820T200000
DTSTAMP:20260423T151051
CREATED:20260226T184953Z
LAST-MODIFIED:20260305T140443Z
UID:990001362-1787248800-1787256000@monet.gipreview.com
SUMMARY:Water Volleyball
DESCRIPTION:
URL:https://monet.gipreview.com/event/water-volleball/2026-08-20/
LOCATION:Sandpiper West Side Pool
CATEGORIES:Community Activity
ATTACH;FMTTYPE=image/jpeg:https://monet.gipreview.com/wp-content/uploads/2026/02/20210805_191907-2.jpg
END:VEVENT
BEGIN:VEVENT
DTSTART;TZID=America/New_York:20260821T100000
DTEND;TZID=America/New_York:20260821T110000
DTSTAMP:20260423T151051
CREATED:20260304T223001Z
LAST-MODIFIED:20260304T223001Z
UID:990008271-1787306400-1787310000@monet.gipreview.com
SUMMARY:Water Aerobics
DESCRIPTION:Water Aerobics \nEnjoy a refreshing\, low-impact workout in the pool! Water Aerobics helps improve strength\, flexibility\, and cardiovascular health while being gentle on the joints. Perfect for all fitness levels\, this fun class combines movement\, music\, and the natural resistance of water for a great full-body workout.
URL:https://monet.gipreview.com/event/water-aerobics/2026-08-21/
LOCATION:Sandpiper West Side Pool
CATEGORIES:Community Activity
ATTACH;FMTTYPE=image/webp:https://monet.gipreview.com/wp-content/uploads/2026/01/Sandpiper-Swimming-Pool.webp
END:VEVENT
BEGIN:VEVENT
DTSTART;TZID=America/New_York:20260821T120000
DTEND;TZID=America/New_York:20260821T140000
DTSTAMP:20260423T151051
CREATED:20260301T023106Z
LAST-MODIFIED:20260310T135449Z
UID:990001910-1787313600-1787320800@monet.gipreview.com
SUMMARY:Water Volleyball
DESCRIPTION:Come join us in playing Water Volleyball at the West Side Pool. Be prepared to laugh and make new friends\, all while enjoying a great workout. We play as non-competitive teams and welcome anyone who wants to have a fun time. We are flexible on your arrival time; you can join in anytime. We will always have a place for you. Come and check us out!
URL:https://monet.gipreview.com/event/water-volleyball/2026-08-21/
LOCATION:Sandpiper West Side Pool
CATEGORIES:Community Activity
ATTACH;FMTTYPE=image/jpeg:https://monet.gipreview.com/wp-content/uploads/2026/02/20210805_191907-2.jpg
END:VEVENT
BEGIN:VEVENT
DTSTART;TZID=America/New_York:20260822T100000
DTEND;TZID=America/New_York:20260822T110000
DTSTAMP:20260423T151052
CREATED:20260304T223001Z
LAST-MODIFIED:20260304T223001Z
UID:990008272-1787392800-1787396400@monet.gipreview.com
SUMMARY:Water Aerobics
DESCRIPTION:Water Aerobics \nEnjoy a refreshing\, low-impact workout in the pool! Water Aerobics helps improve strength\, flexibility\, and cardiovascular health while being gentle on the joints. Perfect for all fitness levels\, this fun class combines movement\, music\, and the natural resistance of water for a great full-body workout.
URL:https://monet.gipreview.com/event/water-aerobics/2026-08-22/
LOCATION:Sandpiper West Side Pool
CATEGORIES:Community Activity
ATTACH;FMTTYPE=image/webp:https://monet.gipreview.com/wp-content/uploads/2026/01/Sandpiper-Swimming-Pool.webp
END:VEVENT
BEGIN:VEVENT
DTSTART;TZID=America/New_York:20260822T100000
DTEND;TZID=America/New_York:20260822T120000
DTSTAMP:20260423T151052
CREATED:20260310T134518Z
LAST-MODIFIED:20260321T214531Z
UID:990012387-1787392800-1787400000@monet.gipreview.com
SUMMARY:Water Volleyball
DESCRIPTION:
URL:https://monet.gipreview.com/event/water-volleyball-2/2026-08-22/
LOCATION:Sandpiper West Side Pool
CATEGORIES:Community Activity
ATTACH;FMTTYPE=image/jpeg:https://monet.gipreview.com/wp-content/uploads/2026/02/20210805_191907-2.jpg
END:VEVENT
BEGIN:VEVENT
DTSTART;TZID=America/New_York:20260823T100000
DTEND;TZID=America/New_York:20260823T110000
DTSTAMP:20260423T151052
CREATED:20260304T223001Z
LAST-MODIFIED:20260304T223001Z
UID:990008273-1787479200-1787482800@monet.gipreview.com
SUMMARY:Water Aerobics
DESCRIPTION:Water Aerobics \nEnjoy a refreshing\, low-impact workout in the pool! Water Aerobics helps improve strength\, flexibility\, and cardiovascular health while being gentle on the joints. Perfect for all fitness levels\, this fun class combines movement\, music\, and the natural resistance of water for a great full-body workout.
URL:https://monet.gipreview.com/event/water-aerobics/2026-08-23/
LOCATION:Sandpiper West Side Pool
CATEGORIES:Community Activity
ATTACH;FMTTYPE=image/webp:https://monet.gipreview.com/wp-content/uploads/2026/01/Sandpiper-Swimming-Pool.webp
END:VEVENT
BEGIN:VEVENT
DTSTART;TZID=America/New_York:20260824T100000
DTEND;TZID=America/New_York:20260824T110000
DTSTAMP:20260423T151052
CREATED:20260304T223001Z
LAST-MODIFIED:20260304T223001Z
UID:990008274-1787565600-1787569200@monet.gipreview.com
SUMMARY:Water Aerobics
DESCRIPTION:Water Aerobics \nEnjoy a refreshing\, low-impact workout in the pool! Water Aerobics helps improve strength\, flexibility\, and cardiovascular health while being gentle on the joints. Perfect for all fitness levels\, this fun class combines movement\, music\, and the natural resistance of water for a great full-body workout.
URL:https://monet.gipreview.com/event/water-aerobics/2026-08-24/
LOCATION:Sandpiper West Side Pool
CATEGORIES:Community Activity
ATTACH;FMTTYPE=image/webp:https://monet.gipreview.com/wp-content/uploads/2026/01/Sandpiper-Swimming-Pool.webp
END:VEVENT
BEGIN:VEVENT
DTSTART;TZID=America/New_York:20260824T180000
DTEND;TZID=America/New_York:20260824T200000
DTSTAMP:20260423T151052
CREATED:20260226T184953Z
LAST-MODIFIED:20260305T140443Z
UID:990001363-1787594400-1787601600@monet.gipreview.com
SUMMARY:Water Volleyball
DESCRIPTION:
URL:https://monet.gipreview.com/event/water-volleball/2026-08-24/
LOCATION:Sandpiper West Side Pool
CATEGORIES:Community Activity
ATTACH;FMTTYPE=image/jpeg:https://monet.gipreview.com/wp-content/uploads/2026/02/20210805_191907-2.jpg
END:VEVENT
BEGIN:VEVENT
DTSTART;TZID=America/New_York:20260825T100000
DTEND;TZID=America/New_York:20260825T110000
DTSTAMP:20260423T151052
CREATED:20260304T223001Z
LAST-MODIFIED:20260304T223001Z
UID:990008275-1787652000-1787655600@monet.gipreview.com
SUMMARY:Water Aerobics
DESCRIPTION:Water Aerobics \nEnjoy a refreshing\, low-impact workout in the pool! Water Aerobics helps improve strength\, flexibility\, and cardiovascular health while being gentle on the joints. Perfect for all fitness levels\, this fun class combines movement\, music\, and the natural resistance of water for a great full-body workout.
URL:https://monet.gipreview.com/event/water-aerobics/2026-08-25/
LOCATION:Sandpiper West Side Pool
CATEGORIES:Community Activity
ATTACH;FMTTYPE=image/webp:https://monet.gipreview.com/wp-content/uploads/2026/01/Sandpiper-Swimming-Pool.webp
END:VEVENT
BEGIN:VEVENT
DTSTART;TZID=America/New_York:20260825T120000
DTEND;TZID=America/New_York:20260825T140000
DTSTAMP:20260423T151052
CREATED:20260301T023106Z
LAST-MODIFIED:20260310T135449Z
UID:990001911-1787659200-1787666400@monet.gipreview.com
SUMMARY:Water Volleyball
DESCRIPTION:Come join us in playing Water Volleyball at the West Side Pool. Be prepared to laugh and make new friends\, all while enjoying a great workout. We play as non-competitive teams and welcome anyone who wants to have a fun time. We are flexible on your arrival time; you can join in anytime. We will always have a place for you. Come and check us out!
URL:https://monet.gipreview.com/event/water-volleyball/2026-08-25/
LOCATION:Sandpiper West Side Pool
CATEGORIES:Community Activity
ATTACH;FMTTYPE=image/jpeg:https://monet.gipreview.com/wp-content/uploads/2026/02/20210805_191907-2.jpg
END:VEVENT
BEGIN:VEVENT
DTSTART;TZID=America/New_York:20260826T100000
DTEND;TZID=America/New_York:20260826T110000
DTSTAMP:20260423T151052
CREATED:20260304T223001Z
LAST-MODIFIED:20260304T223001Z
UID:990008276-1787738400-1787742000@monet.gipreview.com
SUMMARY:Water Aerobics
DESCRIPTION:Water Aerobics \nEnjoy a refreshing\, low-impact workout in the pool! Water Aerobics helps improve strength\, flexibility\, and cardiovascular health while being gentle on the joints. Perfect for all fitness levels\, this fun class combines movement\, music\, and the natural resistance of water for a great full-body workout.
URL:https://monet.gipreview.com/event/water-aerobics/2026-08-26/
LOCATION:Sandpiper West Side Pool
CATEGORIES:Community Activity
ATTACH;FMTTYPE=image/webp:https://monet.gipreview.com/wp-content/uploads/2026/01/Sandpiper-Swimming-Pool.webp
END:VEVENT
BEGIN:VEVENT
DTSTART;TZID=America/New_York:20260826T120000
DTEND;TZID=America/New_York:20260826T140000
DTSTAMP:20260423T151052
CREATED:20260301T023106Z
LAST-MODIFIED:20260310T135449Z
UID:990001912-1787745600-1787752800@monet.gipreview.com
SUMMARY:Water Volleyball
DESCRIPTION:Come join us in playing Water Volleyball at the West Side Pool. Be prepared to laugh and make new friends\, all while enjoying a great workout. We play as non-competitive teams and welcome anyone who wants to have a fun time. We are flexible on your arrival time; you can join in anytime. We will always have a place for you. Come and check us out!
URL:https://monet.gipreview.com/event/water-volleyball/2026-08-26/
LOCATION:Sandpiper West Side Pool
CATEGORIES:Community Activity
ATTACH;FMTTYPE=image/jpeg:https://monet.gipreview.com/wp-content/uploads/2026/02/20210805_191907-2.jpg
END:VEVENT
BEGIN:VEVENT
DTSTART;TZID=America/New_York:20260827T100000
DTEND;TZID=America/New_York:20260827T110000
DTSTAMP:20260423T151052
CREATED:20260304T223001Z
LAST-MODIFIED:20260304T223001Z
UID:990008277-1787824800-1787828400@monet.gipreview.com
SUMMARY:Water Aerobics
DESCRIPTION:Water Aerobics \nEnjoy a refreshing\, low-impact workout in the pool! Water Aerobics helps improve strength\, flexibility\, and cardiovascular health while being gentle on the joints. Perfect for all fitness levels\, this fun class combines movement\, music\, and the natural resistance of water for a great full-body workout.
URL:https://monet.gipreview.com/event/water-aerobics/2026-08-27/
LOCATION:Sandpiper West Side Pool
CATEGORIES:Community Activity
ATTACH;FMTTYPE=image/webp:https://monet.gipreview.com/wp-content/uploads/2026/01/Sandpiper-Swimming-Pool.webp
END:VEVENT
END:VCALENDAR