BEGIN:VCALENDAR
VERSION:2.0
PRODID:-//Sandpiper - ECPv6.15.20//NONSGML v1.0//EN
CALSCALE:GREGORIAN
METHOD:PUBLISH
X-WR-CALNAME:Sandpiper
X-ORIGINAL-URL:https://monet.gipreview.com
X-WR-CALDESC:Events for Sandpiper
REFRESH-INTERVAL;VALUE=DURATION:PT1H
X-Robots-Tag:noindex
X-PUBLISHED-TTL:PT1H
BEGIN:VTIMEZONE
TZID:America/New_York
BEGIN:DAYLIGHT
TZOFFSETFROM:-0500
TZOFFSETTO:-0400
TZNAME:EDT
DTSTART:20250309T070000
END:DAYLIGHT
BEGIN:STANDARD
TZOFFSETFROM:-0400
TZOFFSETTO:-0500
TZNAME:EST
DTSTART:20251102T060000
END:STANDARD
BEGIN:DAYLIGHT
TZOFFSETFROM:-0500
TZOFFSETTO:-0400
TZNAME:EDT
DTSTART:20260308T070000
END:DAYLIGHT
BEGIN:STANDARD
TZOFFSETFROM:-0400
TZOFFSETTO:-0500
TZNAME:EST
DTSTART:20261101T060000
END:STANDARD
BEGIN:DAYLIGHT
TZOFFSETFROM:-0500
TZOFFSETTO:-0400
TZNAME:EDT
DTSTART:20270314T070000
END:DAYLIGHT
BEGIN:STANDARD
TZOFFSETFROM:-0400
TZOFFSETTO:-0500
TZNAME:EST
DTSTART:20271107T060000
END:STANDARD
END:VTIMEZONE
BEGIN:VEVENT
DTSTART;TZID=America/New_York:20260725T100000
DTEND;TZID=America/New_York:20260725T120000
DTSTAMP:20260422T180550
CREATED:20260310T134518Z
LAST-MODIFIED:20260321T214531Z
UID:990012383-1784973600-1784980800@monet.gipreview.com
SUMMARY:Water Volleyball
DESCRIPTION:
URL:https://monet.gipreview.com/event/water-volleyball-2/2026-07-25/
LOCATION:Sandpiper West Side Pool
CATEGORIES:Community Activity
ATTACH;FMTTYPE=image/jpeg:https://monet.gipreview.com/wp-content/uploads/2026/02/20210805_191907-2.jpg
END:VEVENT
BEGIN:VEVENT
DTSTART;TZID=America/New_York:20260726T100000
DTEND;TZID=America/New_York:20260726T110000
DTSTAMP:20260422T180550
CREATED:20260304T223001Z
LAST-MODIFIED:20260304T223001Z
UID:990008245-1785060000-1785063600@monet.gipreview.com
SUMMARY:Water Aerobics
DESCRIPTION:Water Aerobics \nEnjoy a refreshing\, low-impact workout in the pool! Water Aerobics helps improve strength\, flexibility\, and cardiovascular health while being gentle on the joints. Perfect for all fitness levels\, this fun class combines movement\, music\, and the natural resistance of water for a great full-body workout.
URL:https://monet.gipreview.com/event/water-aerobics/2026-07-26/
LOCATION:Sandpiper West Side Pool
CATEGORIES:Community Activity
ATTACH;FMTTYPE=image/webp:https://monet.gipreview.com/wp-content/uploads/2026/01/Sandpiper-Swimming-Pool.webp
END:VEVENT
BEGIN:VEVENT
DTSTART;TZID=America/New_York:20260727T100000
DTEND;TZID=America/New_York:20260727T110000
DTSTAMP:20260422T180550
CREATED:20260304T223001Z
LAST-MODIFIED:20260304T223001Z
UID:990008246-1785146400-1785150000@monet.gipreview.com
SUMMARY:Water Aerobics
DESCRIPTION:Water Aerobics \nEnjoy a refreshing\, low-impact workout in the pool! Water Aerobics helps improve strength\, flexibility\, and cardiovascular health while being gentle on the joints. Perfect for all fitness levels\, this fun class combines movement\, music\, and the natural resistance of water for a great full-body workout.
URL:https://monet.gipreview.com/event/water-aerobics/2026-07-27/
LOCATION:Sandpiper West Side Pool
CATEGORIES:Community Activity
ATTACH;FMTTYPE=image/webp:https://monet.gipreview.com/wp-content/uploads/2026/01/Sandpiper-Swimming-Pool.webp
END:VEVENT
BEGIN:VEVENT
DTSTART;TZID=America/New_York:20260727T180000
DTEND;TZID=America/New_York:20260727T200000
DTSTAMP:20260422T180550
CREATED:20260226T184953Z
LAST-MODIFIED:20260305T140443Z
UID:990001355-1785175200-1785182400@monet.gipreview.com
SUMMARY:Water Volleyball
DESCRIPTION:
URL:https://monet.gipreview.com/event/water-volleball/2026-07-27/
LOCATION:Sandpiper West Side Pool
CATEGORIES:Community Activity
ATTACH;FMTTYPE=image/jpeg:https://monet.gipreview.com/wp-content/uploads/2026/02/20210805_191907-2.jpg
END:VEVENT
BEGIN:VEVENT
DTSTART;TZID=America/New_York:20260728T100000
DTEND;TZID=America/New_York:20260728T110000
DTSTAMP:20260422T180550
CREATED:20260304T223001Z
LAST-MODIFIED:20260304T223001Z
UID:990008247-1785232800-1785236400@monet.gipreview.com
SUMMARY:Water Aerobics
DESCRIPTION:Water Aerobics \nEnjoy a refreshing\, low-impact workout in the pool! Water Aerobics helps improve strength\, flexibility\, and cardiovascular health while being gentle on the joints. Perfect for all fitness levels\, this fun class combines movement\, music\, and the natural resistance of water for a great full-body workout.
URL:https://monet.gipreview.com/event/water-aerobics/2026-07-28/
LOCATION:Sandpiper West Side Pool
CATEGORIES:Community Activity
ATTACH;FMTTYPE=image/webp:https://monet.gipreview.com/wp-content/uploads/2026/01/Sandpiper-Swimming-Pool.webp
END:VEVENT
BEGIN:VEVENT
DTSTART;TZID=America/New_York:20260728T120000
DTEND;TZID=America/New_York:20260728T140000
DTSTAMP:20260422T180550
CREATED:20260301T023106Z
LAST-MODIFIED:20260310T135449Z
UID:990001899-1785240000-1785247200@monet.gipreview.com
SUMMARY:Water Volleyball
DESCRIPTION:Come join us in playing Water Volleyball at the West Side Pool. Be prepared to laugh and make new friends\, all while enjoying a great workout. We play as non-competitive teams and welcome anyone who wants to have a fun time. We are flexible on your arrival time; you can join in anytime. We will always have a place for you. Come and check us out!
URL:https://monet.gipreview.com/event/water-volleyball/2026-07-28/
LOCATION:Sandpiper West Side Pool
CATEGORIES:Community Activity
ATTACH;FMTTYPE=image/jpeg:https://monet.gipreview.com/wp-content/uploads/2026/02/20210805_191907-2.jpg
END:VEVENT
BEGIN:VEVENT
DTSTART;TZID=America/New_York:20260729T100000
DTEND;TZID=America/New_York:20260729T110000
DTSTAMP:20260422T180550
CREATED:20260304T223001Z
LAST-MODIFIED:20260304T223001Z
UID:990008248-1785319200-1785322800@monet.gipreview.com
SUMMARY:Water Aerobics
DESCRIPTION:Water Aerobics \nEnjoy a refreshing\, low-impact workout in the pool! Water Aerobics helps improve strength\, flexibility\, and cardiovascular health while being gentle on the joints. Perfect for all fitness levels\, this fun class combines movement\, music\, and the natural resistance of water for a great full-body workout.
URL:https://monet.gipreview.com/event/water-aerobics/2026-07-29/
LOCATION:Sandpiper West Side Pool
CATEGORIES:Community Activity
ATTACH;FMTTYPE=image/webp:https://monet.gipreview.com/wp-content/uploads/2026/01/Sandpiper-Swimming-Pool.webp
END:VEVENT
BEGIN:VEVENT
DTSTART;TZID=America/New_York:20260729T120000
DTEND;TZID=America/New_York:20260729T140000
DTSTAMP:20260422T180550
CREATED:20260301T023106Z
LAST-MODIFIED:20260310T135449Z
UID:990001900-1785326400-1785333600@monet.gipreview.com
SUMMARY:Water Volleyball
DESCRIPTION:Come join us in playing Water Volleyball at the West Side Pool. Be prepared to laugh and make new friends\, all while enjoying a great workout. We play as non-competitive teams and welcome anyone who wants to have a fun time. We are flexible on your arrival time; you can join in anytime. We will always have a place for you. Come and check us out!
URL:https://monet.gipreview.com/event/water-volleyball/2026-07-29/
LOCATION:Sandpiper West Side Pool
CATEGORIES:Community Activity
ATTACH;FMTTYPE=image/jpeg:https://monet.gipreview.com/wp-content/uploads/2026/02/20210805_191907-2.jpg
END:VEVENT
BEGIN:VEVENT
DTSTART;TZID=America/New_York:20260730T100000
DTEND;TZID=America/New_York:20260730T110000
DTSTAMP:20260422T180550
CREATED:20260304T223001Z
LAST-MODIFIED:20260304T223001Z
UID:990008249-1785405600-1785409200@monet.gipreview.com
SUMMARY:Water Aerobics
DESCRIPTION:Water Aerobics \nEnjoy a refreshing\, low-impact workout in the pool! Water Aerobics helps improve strength\, flexibility\, and cardiovascular health while being gentle on the joints. Perfect for all fitness levels\, this fun class combines movement\, music\, and the natural resistance of water for a great full-body workout.
URL:https://monet.gipreview.com/event/water-aerobics/2026-07-30/
LOCATION:Sandpiper West Side Pool
CATEGORIES:Community Activity
ATTACH;FMTTYPE=image/webp:https://monet.gipreview.com/wp-content/uploads/2026/01/Sandpiper-Swimming-Pool.webp
END:VEVENT
BEGIN:VEVENT
DTSTART;TZID=America/New_York:20260730T180000
DTEND;TZID=America/New_York:20260730T200000
DTSTAMP:20260422T180550
CREATED:20260226T184953Z
LAST-MODIFIED:20260305T140443Z
UID:990001356-1785434400-1785441600@monet.gipreview.com
SUMMARY:Water Volleyball
DESCRIPTION:
URL:https://monet.gipreview.com/event/water-volleball/2026-07-30/
LOCATION:Sandpiper West Side Pool
CATEGORIES:Community Activity
ATTACH;FMTTYPE=image/jpeg:https://monet.gipreview.com/wp-content/uploads/2026/02/20210805_191907-2.jpg
END:VEVENT
BEGIN:VEVENT
DTSTART;TZID=America/New_York:20260731T100000
DTEND;TZID=America/New_York:20260731T110000
DTSTAMP:20260422T180550
CREATED:20260304T223001Z
LAST-MODIFIED:20260304T223001Z
UID:990008250-1785492000-1785495600@monet.gipreview.com
SUMMARY:Water Aerobics
DESCRIPTION:Water Aerobics \nEnjoy a refreshing\, low-impact workout in the pool! Water Aerobics helps improve strength\, flexibility\, and cardiovascular health while being gentle on the joints. Perfect for all fitness levels\, this fun class combines movement\, music\, and the natural resistance of water for a great full-body workout.
URL:https://monet.gipreview.com/event/water-aerobics/2026-07-31/
LOCATION:Sandpiper West Side Pool
CATEGORIES:Community Activity
ATTACH;FMTTYPE=image/webp:https://monet.gipreview.com/wp-content/uploads/2026/01/Sandpiper-Swimming-Pool.webp
END:VEVENT
BEGIN:VEVENT
DTSTART;TZID=America/New_York:20260731T120000
DTEND;TZID=America/New_York:20260731T140000
DTSTAMP:20260422T180550
CREATED:20260301T023106Z
LAST-MODIFIED:20260310T135449Z
UID:990001901-1785499200-1785506400@monet.gipreview.com
SUMMARY:Water Volleyball
DESCRIPTION:Come join us in playing Water Volleyball at the West Side Pool. Be prepared to laugh and make new friends\, all while enjoying a great workout. We play as non-competitive teams and welcome anyone who wants to have a fun time. We are flexible on your arrival time; you can join in anytime. We will always have a place for you. Come and check us out!
URL:https://monet.gipreview.com/event/water-volleyball/2026-07-31/
LOCATION:Sandpiper West Side Pool
CATEGORIES:Community Activity
ATTACH;FMTTYPE=image/jpeg:https://monet.gipreview.com/wp-content/uploads/2026/02/20210805_191907-2.jpg
END:VEVENT
BEGIN:VEVENT
DTSTART;TZID=America/New_York:20260801T100000
DTEND;TZID=America/New_York:20260801T110000
DTSTAMP:20260422T180550
CREATED:20260304T223001Z
LAST-MODIFIED:20260304T223001Z
UID:990008251-1785578400-1785582000@monet.gipreview.com
SUMMARY:Water Aerobics
DESCRIPTION:Water Aerobics \nEnjoy a refreshing\, low-impact workout in the pool! Water Aerobics helps improve strength\, flexibility\, and cardiovascular health while being gentle on the joints. Perfect for all fitness levels\, this fun class combines movement\, music\, and the natural resistance of water for a great full-body workout.
URL:https://monet.gipreview.com/event/water-aerobics/2026-08-01/
LOCATION:Sandpiper West Side Pool
CATEGORIES:Community Activity
ATTACH;FMTTYPE=image/webp:https://monet.gipreview.com/wp-content/uploads/2026/01/Sandpiper-Swimming-Pool.webp
END:VEVENT
BEGIN:VEVENT
DTSTART;TZID=America/New_York:20260801T100000
DTEND;TZID=America/New_York:20260801T120000
DTSTAMP:20260422T180550
CREATED:20260310T134518Z
LAST-MODIFIED:20260321T214531Z
UID:990012384-1785578400-1785585600@monet.gipreview.com
SUMMARY:Water Volleyball
DESCRIPTION:
URL:https://monet.gipreview.com/event/water-volleyball-2/2026-08-01/
LOCATION:Sandpiper West Side Pool
CATEGORIES:Community Activity
ATTACH;FMTTYPE=image/jpeg:https://monet.gipreview.com/wp-content/uploads/2026/02/20210805_191907-2.jpg
END:VEVENT
BEGIN:VEVENT
DTSTART;TZID=America/New_York:20260802T100000
DTEND;TZID=America/New_York:20260802T110000
DTSTAMP:20260422T180550
CREATED:20260304T223001Z
LAST-MODIFIED:20260304T223001Z
UID:990008252-1785664800-1785668400@monet.gipreview.com
SUMMARY:Water Aerobics
DESCRIPTION:Water Aerobics \nEnjoy a refreshing\, low-impact workout in the pool! Water Aerobics helps improve strength\, flexibility\, and cardiovascular health while being gentle on the joints. Perfect for all fitness levels\, this fun class combines movement\, music\, and the natural resistance of water for a great full-body workout.
URL:https://monet.gipreview.com/event/water-aerobics/2026-08-02/
LOCATION:Sandpiper West Side Pool
CATEGORIES:Community Activity
ATTACH;FMTTYPE=image/webp:https://monet.gipreview.com/wp-content/uploads/2026/01/Sandpiper-Swimming-Pool.webp
END:VEVENT
BEGIN:VEVENT
DTSTART;TZID=America/New_York:20260803T100000
DTEND;TZID=America/New_York:20260803T110000
DTSTAMP:20260422T180550
CREATED:20260304T223001Z
LAST-MODIFIED:20260304T223001Z
UID:990008253-1785751200-1785754800@monet.gipreview.com
SUMMARY:Water Aerobics
DESCRIPTION:Water Aerobics \nEnjoy a refreshing\, low-impact workout in the pool! Water Aerobics helps improve strength\, flexibility\, and cardiovascular health while being gentle on the joints. Perfect for all fitness levels\, this fun class combines movement\, music\, and the natural resistance of water for a great full-body workout.
URL:https://monet.gipreview.com/event/water-aerobics/2026-08-03/
LOCATION:Sandpiper West Side Pool
CATEGORIES:Community Activity
ATTACH;FMTTYPE=image/webp:https://monet.gipreview.com/wp-content/uploads/2026/01/Sandpiper-Swimming-Pool.webp
END:VEVENT
BEGIN:VEVENT
DTSTART;TZID=America/New_York:20260803T180000
DTEND;TZID=America/New_York:20260803T200000
DTSTAMP:20260422T180550
CREATED:20260226T184953Z
LAST-MODIFIED:20260305T140443Z
UID:990001357-1785780000-1785787200@monet.gipreview.com
SUMMARY:Water Volleyball
DESCRIPTION:
URL:https://monet.gipreview.com/event/water-volleball/2026-08-03/
LOCATION:Sandpiper West Side Pool
CATEGORIES:Community Activity
ATTACH;FMTTYPE=image/jpeg:https://monet.gipreview.com/wp-content/uploads/2026/02/20210805_191907-2.jpg
END:VEVENT
BEGIN:VEVENT
DTSTART;TZID=America/New_York:20260804T100000
DTEND;TZID=America/New_York:20260804T110000
DTSTAMP:20260422T180550
CREATED:20260304T223001Z
LAST-MODIFIED:20260304T223001Z
UID:990008254-1785837600-1785841200@monet.gipreview.com
SUMMARY:Water Aerobics
DESCRIPTION:Water Aerobics \nEnjoy a refreshing\, low-impact workout in the pool! Water Aerobics helps improve strength\, flexibility\, and cardiovascular health while being gentle on the joints. Perfect for all fitness levels\, this fun class combines movement\, music\, and the natural resistance of water for a great full-body workout.
URL:https://monet.gipreview.com/event/water-aerobics/2026-08-04/
LOCATION:Sandpiper West Side Pool
CATEGORIES:Community Activity
ATTACH;FMTTYPE=image/webp:https://monet.gipreview.com/wp-content/uploads/2026/01/Sandpiper-Swimming-Pool.webp
END:VEVENT
BEGIN:VEVENT
DTSTART;TZID=America/New_York:20260804T120000
DTEND;TZID=America/New_York:20260804T140000
DTSTAMP:20260422T180550
CREATED:20260301T023106Z
LAST-MODIFIED:20260310T135449Z
UID:990001902-1785844800-1785852000@monet.gipreview.com
SUMMARY:Water Volleyball
DESCRIPTION:Come join us in playing Water Volleyball at the West Side Pool. Be prepared to laugh and make new friends\, all while enjoying a great workout. We play as non-competitive teams and welcome anyone who wants to have a fun time. We are flexible on your arrival time; you can join in anytime. We will always have a place for you. Come and check us out!
URL:https://monet.gipreview.com/event/water-volleyball/2026-08-04/
LOCATION:Sandpiper West Side Pool
CATEGORIES:Community Activity
ATTACH;FMTTYPE=image/jpeg:https://monet.gipreview.com/wp-content/uploads/2026/02/20210805_191907-2.jpg
END:VEVENT
BEGIN:VEVENT
DTSTART;TZID=America/New_York:20260805T100000
DTEND;TZID=America/New_York:20260805T110000
DTSTAMP:20260422T180550
CREATED:20260304T223001Z
LAST-MODIFIED:20260304T223001Z
UID:990008255-1785924000-1785927600@monet.gipreview.com
SUMMARY:Water Aerobics
DESCRIPTION:Water Aerobics \nEnjoy a refreshing\, low-impact workout in the pool! Water Aerobics helps improve strength\, flexibility\, and cardiovascular health while being gentle on the joints. Perfect for all fitness levels\, this fun class combines movement\, music\, and the natural resistance of water for a great full-body workout.
URL:https://monet.gipreview.com/event/water-aerobics/2026-08-05/
LOCATION:Sandpiper West Side Pool
CATEGORIES:Community Activity
ATTACH;FMTTYPE=image/webp:https://monet.gipreview.com/wp-content/uploads/2026/01/Sandpiper-Swimming-Pool.webp
END:VEVENT
BEGIN:VEVENT
DTSTART;TZID=America/New_York:20260805T120000
DTEND;TZID=America/New_York:20260805T140000
DTSTAMP:20260422T180550
CREATED:20260301T023106Z
LAST-MODIFIED:20260310T135449Z
UID:990001903-1785931200-1785938400@monet.gipreview.com
SUMMARY:Water Volleyball
DESCRIPTION:Come join us in playing Water Volleyball at the West Side Pool. Be prepared to laugh and make new friends\, all while enjoying a great workout. We play as non-competitive teams and welcome anyone who wants to have a fun time. We are flexible on your arrival time; you can join in anytime. We will always have a place for you. Come and check us out!
URL:https://monet.gipreview.com/event/water-volleyball/2026-08-05/
LOCATION:Sandpiper West Side Pool
CATEGORIES:Community Activity
ATTACH;FMTTYPE=image/jpeg:https://monet.gipreview.com/wp-content/uploads/2026/02/20210805_191907-2.jpg
END:VEVENT
BEGIN:VEVENT
DTSTART;TZID=America/New_York:20260806T100000
DTEND;TZID=America/New_York:20260806T110000
DTSTAMP:20260422T180550
CREATED:20260304T223001Z
LAST-MODIFIED:20260304T223001Z
UID:990008256-1786010400-1786014000@monet.gipreview.com
SUMMARY:Water Aerobics
DESCRIPTION:Water Aerobics \nEnjoy a refreshing\, low-impact workout in the pool! Water Aerobics helps improve strength\, flexibility\, and cardiovascular health while being gentle on the joints. Perfect for all fitness levels\, this fun class combines movement\, music\, and the natural resistance of water for a great full-body workout.
URL:https://monet.gipreview.com/event/water-aerobics/2026-08-06/
LOCATION:Sandpiper West Side Pool
CATEGORIES:Community Activity
ATTACH;FMTTYPE=image/webp:https://monet.gipreview.com/wp-content/uploads/2026/01/Sandpiper-Swimming-Pool.webp
END:VEVENT
BEGIN:VEVENT
DTSTART;TZID=America/New_York:20260806T180000
DTEND;TZID=America/New_York:20260806T200000
DTSTAMP:20260422T180550
CREATED:20260226T184953Z
LAST-MODIFIED:20260305T140443Z
UID:990001358-1786039200-1786046400@monet.gipreview.com
SUMMARY:Water Volleyball
DESCRIPTION:
URL:https://monet.gipreview.com/event/water-volleball/2026-08-06/
LOCATION:Sandpiper West Side Pool
CATEGORIES:Community Activity
ATTACH;FMTTYPE=image/jpeg:https://monet.gipreview.com/wp-content/uploads/2026/02/20210805_191907-2.jpg
END:VEVENT
BEGIN:VEVENT
DTSTART;TZID=America/New_York:20260807T100000
DTEND;TZID=America/New_York:20260807T110000
DTSTAMP:20260422T180550
CREATED:20260304T223001Z
LAST-MODIFIED:20260304T223001Z
UID:990008257-1786096800-1786100400@monet.gipreview.com
SUMMARY:Water Aerobics
DESCRIPTION:Water Aerobics \nEnjoy a refreshing\, low-impact workout in the pool! Water Aerobics helps improve strength\, flexibility\, and cardiovascular health while being gentle on the joints. Perfect for all fitness levels\, this fun class combines movement\, music\, and the natural resistance of water for a great full-body workout.
URL:https://monet.gipreview.com/event/water-aerobics/2026-08-07/
LOCATION:Sandpiper West Side Pool
CATEGORIES:Community Activity
ATTACH;FMTTYPE=image/webp:https://monet.gipreview.com/wp-content/uploads/2026/01/Sandpiper-Swimming-Pool.webp
END:VEVENT
BEGIN:VEVENT
DTSTART;TZID=America/New_York:20260807T120000
DTEND;TZID=America/New_York:20260807T140000
DTSTAMP:20260422T180550
CREATED:20260301T023106Z
LAST-MODIFIED:20260310T135449Z
UID:990001904-1786104000-1786111200@monet.gipreview.com
SUMMARY:Water Volleyball
DESCRIPTION:Come join us in playing Water Volleyball at the West Side Pool. Be prepared to laugh and make new friends\, all while enjoying a great workout. We play as non-competitive teams and welcome anyone who wants to have a fun time. We are flexible on your arrival time; you can join in anytime. We will always have a place for you. Come and check us out!
URL:https://monet.gipreview.com/event/water-volleyball/2026-08-07/
LOCATION:Sandpiper West Side Pool
CATEGORIES:Community Activity
ATTACH;FMTTYPE=image/jpeg:https://monet.gipreview.com/wp-content/uploads/2026/02/20210805_191907-2.jpg
END:VEVENT
BEGIN:VEVENT
DTSTART;TZID=America/New_York:20260808T100000
DTEND;TZID=America/New_York:20260808T110000
DTSTAMP:20260422T180550
CREATED:20260304T223001Z
LAST-MODIFIED:20260304T223001Z
UID:990008258-1786183200-1786186800@monet.gipreview.com
SUMMARY:Water Aerobics
DESCRIPTION:Water Aerobics \nEnjoy a refreshing\, low-impact workout in the pool! Water Aerobics helps improve strength\, flexibility\, and cardiovascular health while being gentle on the joints. Perfect for all fitness levels\, this fun class combines movement\, music\, and the natural resistance of water for a great full-body workout.
URL:https://monet.gipreview.com/event/water-aerobics/2026-08-08/
LOCATION:Sandpiper West Side Pool
CATEGORIES:Community Activity
ATTACH;FMTTYPE=image/webp:https://monet.gipreview.com/wp-content/uploads/2026/01/Sandpiper-Swimming-Pool.webp
END:VEVENT
BEGIN:VEVENT
DTSTART;TZID=America/New_York:20260808T100000
DTEND;TZID=America/New_York:20260808T120000
DTSTAMP:20260422T180550
CREATED:20260310T134518Z
LAST-MODIFIED:20260321T214531Z
UID:990012385-1786183200-1786190400@monet.gipreview.com
SUMMARY:Water Volleyball
DESCRIPTION:
URL:https://monet.gipreview.com/event/water-volleyball-2/2026-08-08/
LOCATION:Sandpiper West Side Pool
CATEGORIES:Community Activity
ATTACH;FMTTYPE=image/jpeg:https://monet.gipreview.com/wp-content/uploads/2026/02/20210805_191907-2.jpg
END:VEVENT
BEGIN:VEVENT
DTSTART;TZID=America/New_York:20260809T100000
DTEND;TZID=America/New_York:20260809T110000
DTSTAMP:20260422T180550
CREATED:20260304T223001Z
LAST-MODIFIED:20260304T223001Z
UID:990008259-1786269600-1786273200@monet.gipreview.com
SUMMARY:Water Aerobics
DESCRIPTION:Water Aerobics \nEnjoy a refreshing\, low-impact workout in the pool! Water Aerobics helps improve strength\, flexibility\, and cardiovascular health while being gentle on the joints. Perfect for all fitness levels\, this fun class combines movement\, music\, and the natural resistance of water for a great full-body workout.
URL:https://monet.gipreview.com/event/water-aerobics/2026-08-09/
LOCATION:Sandpiper West Side Pool
CATEGORIES:Community Activity
ATTACH;FMTTYPE=image/webp:https://monet.gipreview.com/wp-content/uploads/2026/01/Sandpiper-Swimming-Pool.webp
END:VEVENT
BEGIN:VEVENT
DTSTART;TZID=America/New_York:20260810T100000
DTEND;TZID=America/New_York:20260810T110000
DTSTAMP:20260422T180550
CREATED:20260304T223001Z
LAST-MODIFIED:20260304T223001Z
UID:990008260-1786356000-1786359600@monet.gipreview.com
SUMMARY:Water Aerobics
DESCRIPTION:Water Aerobics \nEnjoy a refreshing\, low-impact workout in the pool! Water Aerobics helps improve strength\, flexibility\, and cardiovascular health while being gentle on the joints. Perfect for all fitness levels\, this fun class combines movement\, music\, and the natural resistance of water for a great full-body workout.
URL:https://monet.gipreview.com/event/water-aerobics/2026-08-10/
LOCATION:Sandpiper West Side Pool
CATEGORIES:Community Activity
ATTACH;FMTTYPE=image/webp:https://monet.gipreview.com/wp-content/uploads/2026/01/Sandpiper-Swimming-Pool.webp
END:VEVENT
BEGIN:VEVENT
DTSTART;TZID=America/New_York:20260810T180000
DTEND;TZID=America/New_York:20260810T200000
DTSTAMP:20260422T180550
CREATED:20260226T184953Z
LAST-MODIFIED:20260305T140443Z
UID:990001359-1786384800-1786392000@monet.gipreview.com
SUMMARY:Water Volleyball
DESCRIPTION:
URL:https://monet.gipreview.com/event/water-volleball/2026-08-10/
LOCATION:Sandpiper West Side Pool
CATEGORIES:Community Activity
ATTACH;FMTTYPE=image/jpeg:https://monet.gipreview.com/wp-content/uploads/2026/02/20210805_191907-2.jpg
END:VEVENT
END:VCALENDAR