BEGIN:VCALENDAR
VERSION:2.0
PRODID:-//Sandpiper - ECPv6.15.20//NONSGML v1.0//EN
CALSCALE:GREGORIAN
METHOD:PUBLISH
X-WR-CALNAME:Sandpiper
X-ORIGINAL-URL:https://monet.gipreview.com
X-WR-CALDESC:Events for Sandpiper
REFRESH-INTERVAL;VALUE=DURATION:PT1H
X-Robots-Tag:noindex
X-PUBLISHED-TTL:PT1H
BEGIN:VTIMEZONE
TZID:America/New_York
BEGIN:DAYLIGHT
TZOFFSETFROM:-0500
TZOFFSETTO:-0400
TZNAME:EDT
DTSTART:20250309T070000
END:DAYLIGHT
BEGIN:STANDARD
TZOFFSETFROM:-0400
TZOFFSETTO:-0500
TZNAME:EST
DTSTART:20251102T060000
END:STANDARD
BEGIN:DAYLIGHT
TZOFFSETFROM:-0500
TZOFFSETTO:-0400
TZNAME:EDT
DTSTART:20260308T070000
END:DAYLIGHT
BEGIN:STANDARD
TZOFFSETFROM:-0400
TZOFFSETTO:-0500
TZNAME:EST
DTSTART:20261101T060000
END:STANDARD
BEGIN:DAYLIGHT
TZOFFSETFROM:-0500
TZOFFSETTO:-0400
TZNAME:EDT
DTSTART:20270314T070000
END:DAYLIGHT
BEGIN:STANDARD
TZOFFSETFROM:-0400
TZOFFSETTO:-0500
TZNAME:EST
DTSTART:20271107T060000
END:STANDARD
END:VTIMEZONE
BEGIN:VEVENT
DTSTART;TZID=America/New_York:20260618T180000
DTEND;TZID=America/New_York:20260618T200000
DTSTAMP:20260420T001259
CREATED:20260226T184953Z
LAST-MODIFIED:20260305T140443Z
UID:990001344-1781805600-1781812800@monet.gipreview.com
SUMMARY:Water Volleyball
DESCRIPTION:
URL:https://monet.gipreview.com/event/water-volleball/2026-06-18/
LOCATION:Sandpiper West Side Pool
CATEGORIES:Community Activity
ATTACH;FMTTYPE=image/jpeg:https://monet.gipreview.com/wp-content/uploads/2026/02/20210805_191907-2.jpg
END:VEVENT
BEGIN:VEVENT
DTSTART;TZID=America/New_York:20260619T100000
DTEND;TZID=America/New_York:20260619T110000
DTSTAMP:20260420T001259
CREATED:20260304T223001Z
LAST-MODIFIED:20260304T223001Z
UID:990008208-1781863200-1781866800@monet.gipreview.com
SUMMARY:Water Aerobics
DESCRIPTION:Water Aerobics \nEnjoy a refreshing\, low-impact workout in the pool! Water Aerobics helps improve strength\, flexibility\, and cardiovascular health while being gentle on the joints. Perfect for all fitness levels\, this fun class combines movement\, music\, and the natural resistance of water for a great full-body workout.
URL:https://monet.gipreview.com/event/water-aerobics/2026-06-19/
LOCATION:Sandpiper West Side Pool
CATEGORIES:Community Activity
ATTACH;FMTTYPE=image/webp:https://monet.gipreview.com/wp-content/uploads/2026/01/Sandpiper-Swimming-Pool.webp
END:VEVENT
BEGIN:VEVENT
DTSTART;TZID=America/New_York:20260619T120000
DTEND;TZID=America/New_York:20260619T140000
DTSTAMP:20260420T001259
CREATED:20260301T023106Z
LAST-MODIFIED:20260310T135449Z
UID:990001883-1781870400-1781877600@monet.gipreview.com
SUMMARY:Water Volleyball
DESCRIPTION:Come join us in playing Water Volleyball at the West Side Pool. Be prepared to laugh and make new friends\, all while enjoying a great workout. We play as non-competitive teams and welcome anyone who wants to have a fun time. We are flexible on your arrival time; you can join in anytime. We will always have a place for you. Come and check us out!
URL:https://monet.gipreview.com/event/water-volleyball/2026-06-19/
LOCATION:Sandpiper West Side Pool
CATEGORIES:Community Activity
ATTACH;FMTTYPE=image/jpeg:https://monet.gipreview.com/wp-content/uploads/2026/02/20210805_191907-2.jpg
END:VEVENT
BEGIN:VEVENT
DTSTART;TZID=America/New_York:20260620T100000
DTEND;TZID=America/New_York:20260620T110000
DTSTAMP:20260420T001259
CREATED:20260304T223001Z
LAST-MODIFIED:20260304T223001Z
UID:990008209-1781949600-1781953200@monet.gipreview.com
SUMMARY:Water Aerobics
DESCRIPTION:Water Aerobics \nEnjoy a refreshing\, low-impact workout in the pool! Water Aerobics helps improve strength\, flexibility\, and cardiovascular health while being gentle on the joints. Perfect for all fitness levels\, this fun class combines movement\, music\, and the natural resistance of water for a great full-body workout.
URL:https://monet.gipreview.com/event/water-aerobics/2026-06-20/
LOCATION:Sandpiper West Side Pool
CATEGORIES:Community Activity
ATTACH;FMTTYPE=image/webp:https://monet.gipreview.com/wp-content/uploads/2026/01/Sandpiper-Swimming-Pool.webp
END:VEVENT
BEGIN:VEVENT
DTSTART;TZID=America/New_York:20260620T100000
DTEND;TZID=America/New_York:20260620T120000
DTSTAMP:20260420T001259
CREATED:20260310T134518Z
LAST-MODIFIED:20260321T214531Z
UID:990012378-1781949600-1781956800@monet.gipreview.com
SUMMARY:Water Volleyball
DESCRIPTION:
URL:https://monet.gipreview.com/event/water-volleyball-2/2026-06-20/
LOCATION:Sandpiper West Side Pool
CATEGORIES:Community Activity
ATTACH;FMTTYPE=image/jpeg:https://monet.gipreview.com/wp-content/uploads/2026/02/20210805_191907-2.jpg
END:VEVENT
BEGIN:VEVENT
DTSTART;TZID=America/New_York:20260621T100000
DTEND;TZID=America/New_York:20260621T110000
DTSTAMP:20260420T001259
CREATED:20260304T223001Z
LAST-MODIFIED:20260304T223001Z
UID:990008210-1782036000-1782039600@monet.gipreview.com
SUMMARY:Water Aerobics
DESCRIPTION:Water Aerobics \nEnjoy a refreshing\, low-impact workout in the pool! Water Aerobics helps improve strength\, flexibility\, and cardiovascular health while being gentle on the joints. Perfect for all fitness levels\, this fun class combines movement\, music\, and the natural resistance of water for a great full-body workout.
URL:https://monet.gipreview.com/event/water-aerobics/2026-06-21/
LOCATION:Sandpiper West Side Pool
CATEGORIES:Community Activity
ATTACH;FMTTYPE=image/webp:https://monet.gipreview.com/wp-content/uploads/2026/01/Sandpiper-Swimming-Pool.webp
END:VEVENT
BEGIN:VEVENT
DTSTART;TZID=America/New_York:20260622T100000
DTEND;TZID=America/New_York:20260622T110000
DTSTAMP:20260420T001259
CREATED:20260304T223001Z
LAST-MODIFIED:20260304T223001Z
UID:990008211-1782122400-1782126000@monet.gipreview.com
SUMMARY:Water Aerobics
DESCRIPTION:Water Aerobics \nEnjoy a refreshing\, low-impact workout in the pool! Water Aerobics helps improve strength\, flexibility\, and cardiovascular health while being gentle on the joints. Perfect for all fitness levels\, this fun class combines movement\, music\, and the natural resistance of water for a great full-body workout.
URL:https://monet.gipreview.com/event/water-aerobics/2026-06-22/
LOCATION:Sandpiper West Side Pool
CATEGORIES:Community Activity
ATTACH;FMTTYPE=image/webp:https://monet.gipreview.com/wp-content/uploads/2026/01/Sandpiper-Swimming-Pool.webp
END:VEVENT
BEGIN:VEVENT
DTSTART;TZID=America/New_York:20260622T180000
DTEND;TZID=America/New_York:20260622T200000
DTSTAMP:20260420T001259
CREATED:20260226T184953Z
LAST-MODIFIED:20260305T140443Z
UID:990001345-1782151200-1782158400@monet.gipreview.com
SUMMARY:Water Volleyball
DESCRIPTION:
URL:https://monet.gipreview.com/event/water-volleball/2026-06-22/
LOCATION:Sandpiper West Side Pool
CATEGORIES:Community Activity
ATTACH;FMTTYPE=image/jpeg:https://monet.gipreview.com/wp-content/uploads/2026/02/20210805_191907-2.jpg
END:VEVENT
BEGIN:VEVENT
DTSTART;TZID=America/New_York:20260623T100000
DTEND;TZID=America/New_York:20260623T110000
DTSTAMP:20260420T001259
CREATED:20260304T223001Z
LAST-MODIFIED:20260304T223001Z
UID:990008212-1782208800-1782212400@monet.gipreview.com
SUMMARY:Water Aerobics
DESCRIPTION:Water Aerobics \nEnjoy a refreshing\, low-impact workout in the pool! Water Aerobics helps improve strength\, flexibility\, and cardiovascular health while being gentle on the joints. Perfect for all fitness levels\, this fun class combines movement\, music\, and the natural resistance of water for a great full-body workout.
URL:https://monet.gipreview.com/event/water-aerobics/2026-06-23/
LOCATION:Sandpiper West Side Pool
CATEGORIES:Community Activity
ATTACH;FMTTYPE=image/webp:https://monet.gipreview.com/wp-content/uploads/2026/01/Sandpiper-Swimming-Pool.webp
END:VEVENT
BEGIN:VEVENT
DTSTART;TZID=America/New_York:20260623T120000
DTEND;TZID=America/New_York:20260623T140000
DTSTAMP:20260420T001259
CREATED:20260301T023106Z
LAST-MODIFIED:20260310T135449Z
UID:990001884-1782216000-1782223200@monet.gipreview.com
SUMMARY:Water Volleyball
DESCRIPTION:Come join us in playing Water Volleyball at the West Side Pool. Be prepared to laugh and make new friends\, all while enjoying a great workout. We play as non-competitive teams and welcome anyone who wants to have a fun time. We are flexible on your arrival time; you can join in anytime. We will always have a place for you. Come and check us out!
URL:https://monet.gipreview.com/event/water-volleyball/2026-06-23/
LOCATION:Sandpiper West Side Pool
CATEGORIES:Community Activity
ATTACH;FMTTYPE=image/jpeg:https://monet.gipreview.com/wp-content/uploads/2026/02/20210805_191907-2.jpg
END:VEVENT
BEGIN:VEVENT
DTSTART;TZID=America/New_York:20260624T100000
DTEND;TZID=America/New_York:20260624T110000
DTSTAMP:20260420T001259
CREATED:20260304T223001Z
LAST-MODIFIED:20260304T223001Z
UID:990008213-1782295200-1782298800@monet.gipreview.com
SUMMARY:Water Aerobics
DESCRIPTION:Water Aerobics \nEnjoy a refreshing\, low-impact workout in the pool! Water Aerobics helps improve strength\, flexibility\, and cardiovascular health while being gentle on the joints. Perfect for all fitness levels\, this fun class combines movement\, music\, and the natural resistance of water for a great full-body workout.
URL:https://monet.gipreview.com/event/water-aerobics/2026-06-24/
LOCATION:Sandpiper West Side Pool
CATEGORIES:Community Activity
ATTACH;FMTTYPE=image/webp:https://monet.gipreview.com/wp-content/uploads/2026/01/Sandpiper-Swimming-Pool.webp
END:VEVENT
BEGIN:VEVENT
DTSTART;TZID=America/New_York:20260624T120000
DTEND;TZID=America/New_York:20260624T140000
DTSTAMP:20260420T001259
CREATED:20260301T023106Z
LAST-MODIFIED:20260310T135449Z
UID:990001885-1782302400-1782309600@monet.gipreview.com
SUMMARY:Water Volleyball
DESCRIPTION:Come join us in playing Water Volleyball at the West Side Pool. Be prepared to laugh and make new friends\, all while enjoying a great workout. We play as non-competitive teams and welcome anyone who wants to have a fun time. We are flexible on your arrival time; you can join in anytime. We will always have a place for you. Come and check us out!
URL:https://monet.gipreview.com/event/water-volleyball/2026-06-24/
LOCATION:Sandpiper West Side Pool
CATEGORIES:Community Activity
ATTACH;FMTTYPE=image/jpeg:https://monet.gipreview.com/wp-content/uploads/2026/02/20210805_191907-2.jpg
END:VEVENT
BEGIN:VEVENT
DTSTART;TZID=America/New_York:20260625T100000
DTEND;TZID=America/New_York:20260625T110000
DTSTAMP:20260420T001259
CREATED:20260304T223001Z
LAST-MODIFIED:20260304T223001Z
UID:990008214-1782381600-1782385200@monet.gipreview.com
SUMMARY:Water Aerobics
DESCRIPTION:Water Aerobics \nEnjoy a refreshing\, low-impact workout in the pool! Water Aerobics helps improve strength\, flexibility\, and cardiovascular health while being gentle on the joints. Perfect for all fitness levels\, this fun class combines movement\, music\, and the natural resistance of water for a great full-body workout.
URL:https://monet.gipreview.com/event/water-aerobics/2026-06-25/
LOCATION:Sandpiper West Side Pool
CATEGORIES:Community Activity
ATTACH;FMTTYPE=image/webp:https://monet.gipreview.com/wp-content/uploads/2026/01/Sandpiper-Swimming-Pool.webp
END:VEVENT
BEGIN:VEVENT
DTSTART;TZID=America/New_York:20260625T180000
DTEND;TZID=America/New_York:20260625T200000
DTSTAMP:20260420T001259
CREATED:20260226T184953Z
LAST-MODIFIED:20260305T140443Z
UID:990001346-1782410400-1782417600@monet.gipreview.com
SUMMARY:Water Volleyball
DESCRIPTION:
URL:https://monet.gipreview.com/event/water-volleball/2026-06-25/
LOCATION:Sandpiper West Side Pool
CATEGORIES:Community Activity
ATTACH;FMTTYPE=image/jpeg:https://monet.gipreview.com/wp-content/uploads/2026/02/20210805_191907-2.jpg
END:VEVENT
BEGIN:VEVENT
DTSTART;TZID=America/New_York:20260626T100000
DTEND;TZID=America/New_York:20260626T110000
DTSTAMP:20260420T001259
CREATED:20260304T223001Z
LAST-MODIFIED:20260304T223001Z
UID:990008215-1782468000-1782471600@monet.gipreview.com
SUMMARY:Water Aerobics
DESCRIPTION:Water Aerobics \nEnjoy a refreshing\, low-impact workout in the pool! Water Aerobics helps improve strength\, flexibility\, and cardiovascular health while being gentle on the joints. Perfect for all fitness levels\, this fun class combines movement\, music\, and the natural resistance of water for a great full-body workout.
URL:https://monet.gipreview.com/event/water-aerobics/2026-06-26/
LOCATION:Sandpiper West Side Pool
CATEGORIES:Community Activity
ATTACH;FMTTYPE=image/webp:https://monet.gipreview.com/wp-content/uploads/2026/01/Sandpiper-Swimming-Pool.webp
END:VEVENT
BEGIN:VEVENT
DTSTART;TZID=America/New_York:20260626T120000
DTEND;TZID=America/New_York:20260626T140000
DTSTAMP:20260420T001259
CREATED:20260301T023106Z
LAST-MODIFIED:20260310T135449Z
UID:990001886-1782475200-1782482400@monet.gipreview.com
SUMMARY:Water Volleyball
DESCRIPTION:Come join us in playing Water Volleyball at the West Side Pool. Be prepared to laugh and make new friends\, all while enjoying a great workout. We play as non-competitive teams and welcome anyone who wants to have a fun time. We are flexible on your arrival time; you can join in anytime. We will always have a place for you. Come and check us out!
URL:https://monet.gipreview.com/event/water-volleyball/2026-06-26/
LOCATION:Sandpiper West Side Pool
CATEGORIES:Community Activity
ATTACH;FMTTYPE=image/jpeg:https://monet.gipreview.com/wp-content/uploads/2026/02/20210805_191907-2.jpg
END:VEVENT
BEGIN:VEVENT
DTSTART;TZID=America/New_York:20260627T100000
DTEND;TZID=America/New_York:20260627T110000
DTSTAMP:20260420T001259
CREATED:20260304T223001Z
LAST-MODIFIED:20260304T223001Z
UID:990008216-1782554400-1782558000@monet.gipreview.com
SUMMARY:Water Aerobics
DESCRIPTION:Water Aerobics \nEnjoy a refreshing\, low-impact workout in the pool! Water Aerobics helps improve strength\, flexibility\, and cardiovascular health while being gentle on the joints. Perfect for all fitness levels\, this fun class combines movement\, music\, and the natural resistance of water for a great full-body workout.
URL:https://monet.gipreview.com/event/water-aerobics/2026-06-27/
LOCATION:Sandpiper West Side Pool
CATEGORIES:Community Activity
ATTACH;FMTTYPE=image/webp:https://monet.gipreview.com/wp-content/uploads/2026/01/Sandpiper-Swimming-Pool.webp
END:VEVENT
BEGIN:VEVENT
DTSTART;TZID=America/New_York:20260627T100000
DTEND;TZID=America/New_York:20260627T120000
DTSTAMP:20260420T001259
CREATED:20260310T134518Z
LAST-MODIFIED:20260321T214531Z
UID:990012379-1782554400-1782561600@monet.gipreview.com
SUMMARY:Water Volleyball
DESCRIPTION:
URL:https://monet.gipreview.com/event/water-volleyball-2/2026-06-27/
LOCATION:Sandpiper West Side Pool
CATEGORIES:Community Activity
ATTACH;FMTTYPE=image/jpeg:https://monet.gipreview.com/wp-content/uploads/2026/02/20210805_191907-2.jpg
END:VEVENT
BEGIN:VEVENT
DTSTART;TZID=America/New_York:20260628T100000
DTEND;TZID=America/New_York:20260628T110000
DTSTAMP:20260420T001259
CREATED:20260304T223001Z
LAST-MODIFIED:20260304T223001Z
UID:990008217-1782640800-1782644400@monet.gipreview.com
SUMMARY:Water Aerobics
DESCRIPTION:Water Aerobics \nEnjoy a refreshing\, low-impact workout in the pool! Water Aerobics helps improve strength\, flexibility\, and cardiovascular health while being gentle on the joints. Perfect for all fitness levels\, this fun class combines movement\, music\, and the natural resistance of water for a great full-body workout.
URL:https://monet.gipreview.com/event/water-aerobics/2026-06-28/
LOCATION:Sandpiper West Side Pool
CATEGORIES:Community Activity
ATTACH;FMTTYPE=image/webp:https://monet.gipreview.com/wp-content/uploads/2026/01/Sandpiper-Swimming-Pool.webp
END:VEVENT
BEGIN:VEVENT
DTSTART;TZID=America/New_York:20260629T100000
DTEND;TZID=America/New_York:20260629T110000
DTSTAMP:20260420T001259
CREATED:20260304T223001Z
LAST-MODIFIED:20260304T223001Z
UID:990008218-1782727200-1782730800@monet.gipreview.com
SUMMARY:Water Aerobics
DESCRIPTION:Water Aerobics \nEnjoy a refreshing\, low-impact workout in the pool! Water Aerobics helps improve strength\, flexibility\, and cardiovascular health while being gentle on the joints. Perfect for all fitness levels\, this fun class combines movement\, music\, and the natural resistance of water for a great full-body workout.
URL:https://monet.gipreview.com/event/water-aerobics/2026-06-29/
LOCATION:Sandpiper West Side Pool
CATEGORIES:Community Activity
ATTACH;FMTTYPE=image/webp:https://monet.gipreview.com/wp-content/uploads/2026/01/Sandpiper-Swimming-Pool.webp
END:VEVENT
BEGIN:VEVENT
DTSTART;TZID=America/New_York:20260629T180000
DTEND;TZID=America/New_York:20260629T200000
DTSTAMP:20260420T001259
CREATED:20260226T184953Z
LAST-MODIFIED:20260305T140443Z
UID:990001347-1782756000-1782763200@monet.gipreview.com
SUMMARY:Water Volleyball
DESCRIPTION:
URL:https://monet.gipreview.com/event/water-volleball/2026-06-29/
LOCATION:Sandpiper West Side Pool
CATEGORIES:Community Activity
ATTACH;FMTTYPE=image/jpeg:https://monet.gipreview.com/wp-content/uploads/2026/02/20210805_191907-2.jpg
END:VEVENT
BEGIN:VEVENT
DTSTART;TZID=America/New_York:20260630T100000
DTEND;TZID=America/New_York:20260630T110000
DTSTAMP:20260420T001259
CREATED:20260304T223001Z
LAST-MODIFIED:20260304T223001Z
UID:990008219-1782813600-1782817200@monet.gipreview.com
SUMMARY:Water Aerobics
DESCRIPTION:Water Aerobics \nEnjoy a refreshing\, low-impact workout in the pool! Water Aerobics helps improve strength\, flexibility\, and cardiovascular health while being gentle on the joints. Perfect for all fitness levels\, this fun class combines movement\, music\, and the natural resistance of water for a great full-body workout.
URL:https://monet.gipreview.com/event/water-aerobics/2026-06-30/
LOCATION:Sandpiper West Side Pool
CATEGORIES:Community Activity
ATTACH;FMTTYPE=image/webp:https://monet.gipreview.com/wp-content/uploads/2026/01/Sandpiper-Swimming-Pool.webp
END:VEVENT
BEGIN:VEVENT
DTSTART;TZID=America/New_York:20260630T120000
DTEND;TZID=America/New_York:20260630T140000
DTSTAMP:20260420T001259
CREATED:20260301T023106Z
LAST-MODIFIED:20260310T135449Z
UID:990001887-1782820800-1782828000@monet.gipreview.com
SUMMARY:Water Volleyball
DESCRIPTION:Come join us in playing Water Volleyball at the West Side Pool. Be prepared to laugh and make new friends\, all while enjoying a great workout. We play as non-competitive teams and welcome anyone who wants to have a fun time. We are flexible on your arrival time; you can join in anytime. We will always have a place for you. Come and check us out!
URL:https://monet.gipreview.com/event/water-volleyball/2026-06-30/
LOCATION:Sandpiper West Side Pool
CATEGORIES:Community Activity
ATTACH;FMTTYPE=image/jpeg:https://monet.gipreview.com/wp-content/uploads/2026/02/20210805_191907-2.jpg
END:VEVENT
BEGIN:VEVENT
DTSTART;TZID=America/New_York:20260701T100000
DTEND;TZID=America/New_York:20260701T110000
DTSTAMP:20260420T001259
CREATED:20260304T223001Z
LAST-MODIFIED:20260304T223001Z
UID:990008220-1782900000-1782903600@monet.gipreview.com
SUMMARY:Water Aerobics
DESCRIPTION:Water Aerobics \nEnjoy a refreshing\, low-impact workout in the pool! Water Aerobics helps improve strength\, flexibility\, and cardiovascular health while being gentle on the joints. Perfect for all fitness levels\, this fun class combines movement\, music\, and the natural resistance of water for a great full-body workout.
URL:https://monet.gipreview.com/event/water-aerobics/2026-07-01/
LOCATION:Sandpiper West Side Pool
CATEGORIES:Community Activity
ATTACH;FMTTYPE=image/webp:https://monet.gipreview.com/wp-content/uploads/2026/01/Sandpiper-Swimming-Pool.webp
END:VEVENT
BEGIN:VEVENT
DTSTART;TZID=America/New_York:20260701T120000
DTEND;TZID=America/New_York:20260701T140000
DTSTAMP:20260420T001259
CREATED:20260301T023106Z
LAST-MODIFIED:20260310T135449Z
UID:990001888-1782907200-1782914400@monet.gipreview.com
SUMMARY:Water Volleyball
DESCRIPTION:Come join us in playing Water Volleyball at the West Side Pool. Be prepared to laugh and make new friends\, all while enjoying a great workout. We play as non-competitive teams and welcome anyone who wants to have a fun time. We are flexible on your arrival time; you can join in anytime. We will always have a place for you. Come and check us out!
URL:https://monet.gipreview.com/event/water-volleyball/2026-07-01/
LOCATION:Sandpiper West Side Pool
CATEGORIES:Community Activity
ATTACH;FMTTYPE=image/jpeg:https://monet.gipreview.com/wp-content/uploads/2026/02/20210805_191907-2.jpg
END:VEVENT
BEGIN:VEVENT
DTSTART;TZID=America/New_York:20260702T100000
DTEND;TZID=America/New_York:20260702T110000
DTSTAMP:20260420T001259
CREATED:20260304T223001Z
LAST-MODIFIED:20260304T223001Z
UID:990008221-1782986400-1782990000@monet.gipreview.com
SUMMARY:Water Aerobics
DESCRIPTION:Water Aerobics \nEnjoy a refreshing\, low-impact workout in the pool! Water Aerobics helps improve strength\, flexibility\, and cardiovascular health while being gentle on the joints. Perfect for all fitness levels\, this fun class combines movement\, music\, and the natural resistance of water for a great full-body workout.
URL:https://monet.gipreview.com/event/water-aerobics/2026-07-02/
LOCATION:Sandpiper West Side Pool
CATEGORIES:Community Activity
ATTACH;FMTTYPE=image/webp:https://monet.gipreview.com/wp-content/uploads/2026/01/Sandpiper-Swimming-Pool.webp
END:VEVENT
BEGIN:VEVENT
DTSTART;TZID=America/New_York:20260702T180000
DTEND;TZID=America/New_York:20260702T200000
DTSTAMP:20260420T001259
CREATED:20260226T184953Z
LAST-MODIFIED:20260305T140443Z
UID:990001348-1783015200-1783022400@monet.gipreview.com
SUMMARY:Water Volleyball
DESCRIPTION:
URL:https://monet.gipreview.com/event/water-volleball/2026-07-02/
LOCATION:Sandpiper West Side Pool
CATEGORIES:Community Activity
ATTACH;FMTTYPE=image/jpeg:https://monet.gipreview.com/wp-content/uploads/2026/02/20210805_191907-2.jpg
END:VEVENT
BEGIN:VEVENT
DTSTART;TZID=America/New_York:20260703T100000
DTEND;TZID=America/New_York:20260703T110000
DTSTAMP:20260420T001259
CREATED:20260304T223001Z
LAST-MODIFIED:20260304T223001Z
UID:990008222-1783072800-1783076400@monet.gipreview.com
SUMMARY:Water Aerobics
DESCRIPTION:Water Aerobics \nEnjoy a refreshing\, low-impact workout in the pool! Water Aerobics helps improve strength\, flexibility\, and cardiovascular health while being gentle on the joints. Perfect for all fitness levels\, this fun class combines movement\, music\, and the natural resistance of water for a great full-body workout.
URL:https://monet.gipreview.com/event/water-aerobics/2026-07-03/
LOCATION:Sandpiper West Side Pool
CATEGORIES:Community Activity
ATTACH;FMTTYPE=image/webp:https://monet.gipreview.com/wp-content/uploads/2026/01/Sandpiper-Swimming-Pool.webp
END:VEVENT
BEGIN:VEVENT
DTSTART;TZID=America/New_York:20260703T120000
DTEND;TZID=America/New_York:20260703T140000
DTSTAMP:20260420T001259
CREATED:20260301T023106Z
LAST-MODIFIED:20260310T135449Z
UID:990001889-1783080000-1783087200@monet.gipreview.com
SUMMARY:Water Volleyball
DESCRIPTION:Come join us in playing Water Volleyball at the West Side Pool. Be prepared to laugh and make new friends\, all while enjoying a great workout. We play as non-competitive teams and welcome anyone who wants to have a fun time. We are flexible on your arrival time; you can join in anytime. We will always have a place for you. Come and check us out!
URL:https://monet.gipreview.com/event/water-volleyball/2026-07-03/
LOCATION:Sandpiper West Side Pool
CATEGORIES:Community Activity
ATTACH;FMTTYPE=image/jpeg:https://monet.gipreview.com/wp-content/uploads/2026/02/20210805_191907-2.jpg
END:VEVENT
BEGIN:VEVENT
DTSTART;TZID=America/New_York:20260704T100000
DTEND;TZID=America/New_York:20260704T110000
DTSTAMP:20260420T001259
CREATED:20260304T223001Z
LAST-MODIFIED:20260304T223001Z
UID:990008223-1783159200-1783162800@monet.gipreview.com
SUMMARY:Water Aerobics
DESCRIPTION:Water Aerobics \nEnjoy a refreshing\, low-impact workout in the pool! Water Aerobics helps improve strength\, flexibility\, and cardiovascular health while being gentle on the joints. Perfect for all fitness levels\, this fun class combines movement\, music\, and the natural resistance of water for a great full-body workout.
URL:https://monet.gipreview.com/event/water-aerobics/2026-07-04/
LOCATION:Sandpiper West Side Pool
CATEGORIES:Community Activity
ATTACH;FMTTYPE=image/webp:https://monet.gipreview.com/wp-content/uploads/2026/01/Sandpiper-Swimming-Pool.webp
END:VEVENT
END:VCALENDAR