BEGIN:VCALENDAR
VERSION:2.0
PRODID:-//Sandpiper - ECPv6.15.20//NONSGML v1.0//EN
CALSCALE:GREGORIAN
METHOD:PUBLISH
X-ORIGINAL-URL:https://monet.gipreview.com
X-WR-CALDESC:Events for Sandpiper
REFRESH-INTERVAL;VALUE=DURATION:PT1H
X-Robots-Tag:noindex
X-PUBLISHED-TTL:PT1H
BEGIN:VTIMEZONE
TZID:America/New_York
BEGIN:DAYLIGHT
TZOFFSETFROM:-0500
TZOFFSETTO:-0400
TZNAME:EDT
DTSTART:20250309T070000
END:DAYLIGHT
BEGIN:STANDARD
TZOFFSETFROM:-0400
TZOFFSETTO:-0500
TZNAME:EST
DTSTART:20251102T060000
END:STANDARD
BEGIN:DAYLIGHT
TZOFFSETFROM:-0500
TZOFFSETTO:-0400
TZNAME:EDT
DTSTART:20260308T070000
END:DAYLIGHT
BEGIN:STANDARD
TZOFFSETFROM:-0400
TZOFFSETTO:-0500
TZNAME:EST
DTSTART:20261101T060000
END:STANDARD
BEGIN:DAYLIGHT
TZOFFSETFROM:-0500
TZOFFSETTO:-0400
TZNAME:EDT
DTSTART:20270314T070000
END:DAYLIGHT
BEGIN:STANDARD
TZOFFSETFROM:-0400
TZOFFSETTO:-0500
TZNAME:EST
DTSTART:20271107T060000
END:STANDARD
END:VTIMEZONE
BEGIN:VEVENT
DTSTART;TZID=America/New_York:20260607T100000
DTEND;TZID=America/New_York:20260607T110000
DTSTAMP:20260419T133351
CREATED:20260304T223001Z
LAST-MODIFIED:20260304T223001Z
UID:990008196-1780826400-1780830000@monet.gipreview.com
SUMMARY:Water Aerobics
DESCRIPTION:Water Aerobics \nEnjoy a refreshing\, low-impact workout in the pool! Water Aerobics helps improve strength\, flexibility\, and cardiovascular health while being gentle on the joints. Perfect for all fitness levels\, this fun class combines movement\, music\, and the natural resistance of water for a great full-body workout.
URL:https://monet.gipreview.com/event/water-aerobics/2026-06-07/
LOCATION:Sandpiper West Side Pool
CATEGORIES:Community Activity
ATTACH;FMTTYPE=image/webp:https://monet.gipreview.com/wp-content/uploads/2026/01/Sandpiper-Swimming-Pool.webp
END:VEVENT
BEGIN:VEVENT
DTSTART;TZID=America/New_York:20260608T100000
DTEND;TZID=America/New_York:20260608T110000
DTSTAMP:20260419T133351
CREATED:20260304T223001Z
LAST-MODIFIED:20260304T223001Z
UID:990008197-1780912800-1780916400@monet.gipreview.com
SUMMARY:Water Aerobics
DESCRIPTION:Water Aerobics \nEnjoy a refreshing\, low-impact workout in the pool! Water Aerobics helps improve strength\, flexibility\, and cardiovascular health while being gentle on the joints. Perfect for all fitness levels\, this fun class combines movement\, music\, and the natural resistance of water for a great full-body workout.
URL:https://monet.gipreview.com/event/water-aerobics/2026-06-08/
LOCATION:Sandpiper West Side Pool
CATEGORIES:Community Activity
ATTACH;FMTTYPE=image/webp:https://monet.gipreview.com/wp-content/uploads/2026/01/Sandpiper-Swimming-Pool.webp
END:VEVENT
BEGIN:VEVENT
DTSTART;TZID=America/New_York:20260608T180000
DTEND;TZID=America/New_York:20260608T200000
DTSTAMP:20260419T133351
CREATED:20260226T184953Z
LAST-MODIFIED:20260305T140443Z
UID:990001341-1780941600-1780948800@monet.gipreview.com
SUMMARY:Water Volleyball
DESCRIPTION:
URL:https://monet.gipreview.com/event/water-volleball/2026-06-08/
LOCATION:Sandpiper West Side Pool
CATEGORIES:Community Activity
ATTACH;FMTTYPE=image/jpeg:https://monet.gipreview.com/wp-content/uploads/2026/02/20210805_191907-2.jpg
END:VEVENT
BEGIN:VEVENT
DTSTART;TZID=America/New_York:20260609T100000
DTEND;TZID=America/New_York:20260609T110000
DTSTAMP:20260419T133351
CREATED:20260304T223001Z
LAST-MODIFIED:20260304T223001Z
UID:990008198-1780999200-1781002800@monet.gipreview.com
SUMMARY:Water Aerobics
DESCRIPTION:Water Aerobics \nEnjoy a refreshing\, low-impact workout in the pool! Water Aerobics helps improve strength\, flexibility\, and cardiovascular health while being gentle on the joints. Perfect for all fitness levels\, this fun class combines movement\, music\, and the natural resistance of water for a great full-body workout.
URL:https://monet.gipreview.com/event/water-aerobics/2026-06-09/
LOCATION:Sandpiper West Side Pool
CATEGORIES:Community Activity
ATTACH;FMTTYPE=image/webp:https://monet.gipreview.com/wp-content/uploads/2026/01/Sandpiper-Swimming-Pool.webp
END:VEVENT
BEGIN:VEVENT
DTSTART;TZID=America/New_York:20260609T120000
DTEND;TZID=America/New_York:20260609T140000
DTSTAMP:20260419T133351
CREATED:20260301T023106Z
LAST-MODIFIED:20260310T135449Z
UID:990001878-1781006400-1781013600@monet.gipreview.com
SUMMARY:Water Volleyball
DESCRIPTION:Come join us in playing Water Volleyball at the West Side Pool. Be prepared to laugh and make new friends\, all while enjoying a great workout. We play as non-competitive teams and welcome anyone who wants to have a fun time. We are flexible on your arrival time; you can join in anytime. We will always have a place for you. Come and check us out!
URL:https://monet.gipreview.com/event/water-volleyball/2026-06-09/
LOCATION:Sandpiper West Side Pool
CATEGORIES:Community Activity
ATTACH;FMTTYPE=image/jpeg:https://monet.gipreview.com/wp-content/uploads/2026/02/20210805_191907-2.jpg
END:VEVENT
BEGIN:VEVENT
DTSTART;TZID=America/New_York:20260610T100000
DTEND;TZID=America/New_York:20260610T110000
DTSTAMP:20260419T133351
CREATED:20260304T223001Z
LAST-MODIFIED:20260304T223001Z
UID:990008199-1781085600-1781089200@monet.gipreview.com
SUMMARY:Water Aerobics
DESCRIPTION:Water Aerobics \nEnjoy a refreshing\, low-impact workout in the pool! Water Aerobics helps improve strength\, flexibility\, and cardiovascular health while being gentle on the joints. Perfect for all fitness levels\, this fun class combines movement\, music\, and the natural resistance of water for a great full-body workout.
URL:https://monet.gipreview.com/event/water-aerobics/2026-06-10/
LOCATION:Sandpiper West Side Pool
CATEGORIES:Community Activity
ATTACH;FMTTYPE=image/webp:https://monet.gipreview.com/wp-content/uploads/2026/01/Sandpiper-Swimming-Pool.webp
END:VEVENT
BEGIN:VEVENT
DTSTART;TZID=America/New_York:20260610T120000
DTEND;TZID=America/New_York:20260610T140000
DTSTAMP:20260419T133351
CREATED:20260301T023106Z
LAST-MODIFIED:20260310T135449Z
UID:990001879-1781092800-1781100000@monet.gipreview.com
SUMMARY:Water Volleyball
DESCRIPTION:Come join us in playing Water Volleyball at the West Side Pool. Be prepared to laugh and make new friends\, all while enjoying a great workout. We play as non-competitive teams and welcome anyone who wants to have a fun time. We are flexible on your arrival time; you can join in anytime. We will always have a place for you. Come and check us out!
URL:https://monet.gipreview.com/event/water-volleyball/2026-06-10/
LOCATION:Sandpiper West Side Pool
CATEGORIES:Community Activity
ATTACH;FMTTYPE=image/jpeg:https://monet.gipreview.com/wp-content/uploads/2026/02/20210805_191907-2.jpg
END:VEVENT
BEGIN:VEVENT
DTSTART;TZID=America/New_York:20260611T100000
DTEND;TZID=America/New_York:20260611T110000
DTSTAMP:20260419T133351
CREATED:20260304T223001Z
LAST-MODIFIED:20260304T223001Z
UID:990008200-1781172000-1781175600@monet.gipreview.com
SUMMARY:Water Aerobics
DESCRIPTION:Water Aerobics \nEnjoy a refreshing\, low-impact workout in the pool! Water Aerobics helps improve strength\, flexibility\, and cardiovascular health while being gentle on the joints. Perfect for all fitness levels\, this fun class combines movement\, music\, and the natural resistance of water for a great full-body workout.
URL:https://monet.gipreview.com/event/water-aerobics/2026-06-11/
LOCATION:Sandpiper West Side Pool
CATEGORIES:Community Activity
ATTACH;FMTTYPE=image/webp:https://monet.gipreview.com/wp-content/uploads/2026/01/Sandpiper-Swimming-Pool.webp
END:VEVENT
BEGIN:VEVENT
DTSTART;TZID=America/New_York:20260611T180000
DTEND;TZID=America/New_York:20260611T200000
DTSTAMP:20260419T133351
CREATED:20260226T184953Z
LAST-MODIFIED:20260305T140443Z
UID:990001342-1781200800-1781208000@monet.gipreview.com
SUMMARY:Water Volleyball
DESCRIPTION:
URL:https://monet.gipreview.com/event/water-volleball/2026-06-11/
LOCATION:Sandpiper West Side Pool
CATEGORIES:Community Activity
ATTACH;FMTTYPE=image/jpeg:https://monet.gipreview.com/wp-content/uploads/2026/02/20210805_191907-2.jpg
END:VEVENT
BEGIN:VEVENT
DTSTART;TZID=America/New_York:20260612T100000
DTEND;TZID=America/New_York:20260612T110000
DTSTAMP:20260419T133351
CREATED:20260304T223001Z
LAST-MODIFIED:20260304T223001Z
UID:990008201-1781258400-1781262000@monet.gipreview.com
SUMMARY:Water Aerobics
DESCRIPTION:Water Aerobics \nEnjoy a refreshing\, low-impact workout in the pool! Water Aerobics helps improve strength\, flexibility\, and cardiovascular health while being gentle on the joints. Perfect for all fitness levels\, this fun class combines movement\, music\, and the natural resistance of water for a great full-body workout.
URL:https://monet.gipreview.com/event/water-aerobics/2026-06-12/
LOCATION:Sandpiper West Side Pool
CATEGORIES:Community Activity
ATTACH;FMTTYPE=image/webp:https://monet.gipreview.com/wp-content/uploads/2026/01/Sandpiper-Swimming-Pool.webp
END:VEVENT
BEGIN:VEVENT
DTSTART;TZID=America/New_York:20260612T120000
DTEND;TZID=America/New_York:20260612T140000
DTSTAMP:20260419T133351
CREATED:20260301T023106Z
LAST-MODIFIED:20260310T135449Z
UID:990001880-1781265600-1781272800@monet.gipreview.com
SUMMARY:Water Volleyball
DESCRIPTION:Come join us in playing Water Volleyball at the West Side Pool. Be prepared to laugh and make new friends\, all while enjoying a great workout. We play as non-competitive teams and welcome anyone who wants to have a fun time. We are flexible on your arrival time; you can join in anytime. We will always have a place for you. Come and check us out!
URL:https://monet.gipreview.com/event/water-volleyball/2026-06-12/
LOCATION:Sandpiper West Side Pool
CATEGORIES:Community Activity
ATTACH;FMTTYPE=image/jpeg:https://monet.gipreview.com/wp-content/uploads/2026/02/20210805_191907-2.jpg
END:VEVENT
BEGIN:VEVENT
DTSTART;TZID=America/New_York:20260613T100000
DTEND;TZID=America/New_York:20260613T110000
DTSTAMP:20260419T133351
CREATED:20260304T223001Z
LAST-MODIFIED:20260304T223001Z
UID:990008202-1781344800-1781348400@monet.gipreview.com
SUMMARY:Water Aerobics
DESCRIPTION:Water Aerobics \nEnjoy a refreshing\, low-impact workout in the pool! Water Aerobics helps improve strength\, flexibility\, and cardiovascular health while being gentle on the joints. Perfect for all fitness levels\, this fun class combines movement\, music\, and the natural resistance of water for a great full-body workout.
URL:https://monet.gipreview.com/event/water-aerobics/2026-06-13/
LOCATION:Sandpiper West Side Pool
CATEGORIES:Community Activity
ATTACH;FMTTYPE=image/webp:https://monet.gipreview.com/wp-content/uploads/2026/01/Sandpiper-Swimming-Pool.webp
END:VEVENT
BEGIN:VEVENT
DTSTART;TZID=America/New_York:20260613T100000
DTEND;TZID=America/New_York:20260613T120000
DTSTAMP:20260419T133351
CREATED:20260310T134518Z
LAST-MODIFIED:20260321T214531Z
UID:990012377-1781344800-1781352000@monet.gipreview.com
SUMMARY:Water Volleyball
DESCRIPTION:
URL:https://monet.gipreview.com/event/water-volleyball-2/2026-06-13/
LOCATION:Sandpiper West Side Pool
CATEGORIES:Community Activity
ATTACH;FMTTYPE=image/jpeg:https://monet.gipreview.com/wp-content/uploads/2026/02/20210805_191907-2.jpg
END:VEVENT
BEGIN:VEVENT
DTSTART;TZID=America/New_York:20260614T100000
DTEND;TZID=America/New_York:20260614T110000
DTSTAMP:20260419T133351
CREATED:20260304T223001Z
LAST-MODIFIED:20260304T223001Z
UID:990008203-1781431200-1781434800@monet.gipreview.com
SUMMARY:Water Aerobics
DESCRIPTION:Water Aerobics \nEnjoy a refreshing\, low-impact workout in the pool! Water Aerobics helps improve strength\, flexibility\, and cardiovascular health while being gentle on the joints. Perfect for all fitness levels\, this fun class combines movement\, music\, and the natural resistance of water for a great full-body workout.
URL:https://monet.gipreview.com/event/water-aerobics/2026-06-14/
LOCATION:Sandpiper West Side Pool
CATEGORIES:Community Activity
ATTACH;FMTTYPE=image/webp:https://monet.gipreview.com/wp-content/uploads/2026/01/Sandpiper-Swimming-Pool.webp
END:VEVENT
BEGIN:VEVENT
DTSTART;TZID=America/New_York:20260615T100000
DTEND;TZID=America/New_York:20260615T110000
DTSTAMP:20260419T133351
CREATED:20260304T223001Z
LAST-MODIFIED:20260304T223001Z
UID:990008204-1781517600-1781521200@monet.gipreview.com
SUMMARY:Water Aerobics
DESCRIPTION:Water Aerobics \nEnjoy a refreshing\, low-impact workout in the pool! Water Aerobics helps improve strength\, flexibility\, and cardiovascular health while being gentle on the joints. Perfect for all fitness levels\, this fun class combines movement\, music\, and the natural resistance of water for a great full-body workout.
URL:https://monet.gipreview.com/event/water-aerobics/2026-06-15/
LOCATION:Sandpiper West Side Pool
CATEGORIES:Community Activity
ATTACH;FMTTYPE=image/webp:https://monet.gipreview.com/wp-content/uploads/2026/01/Sandpiper-Swimming-Pool.webp
END:VEVENT
BEGIN:VEVENT
DTSTART;TZID=America/New_York:20260615T180000
DTEND;TZID=America/New_York:20260615T200000
DTSTAMP:20260419T133351
CREATED:20260226T184953Z
LAST-MODIFIED:20260305T140443Z
UID:990001343-1781546400-1781553600@monet.gipreview.com
SUMMARY:Water Volleyball
DESCRIPTION:
URL:https://monet.gipreview.com/event/water-volleball/2026-06-15/
LOCATION:Sandpiper West Side Pool
CATEGORIES:Community Activity
ATTACH;FMTTYPE=image/jpeg:https://monet.gipreview.com/wp-content/uploads/2026/02/20210805_191907-2.jpg
END:VEVENT
BEGIN:VEVENT
DTSTART;TZID=America/New_York:20260616T100000
DTEND;TZID=America/New_York:20260616T110000
DTSTAMP:20260419T133351
CREATED:20260304T223001Z
LAST-MODIFIED:20260304T223001Z
UID:990008205-1781604000-1781607600@monet.gipreview.com
SUMMARY:Water Aerobics
DESCRIPTION:Water Aerobics \nEnjoy a refreshing\, low-impact workout in the pool! Water Aerobics helps improve strength\, flexibility\, and cardiovascular health while being gentle on the joints. Perfect for all fitness levels\, this fun class combines movement\, music\, and the natural resistance of water for a great full-body workout.
URL:https://monet.gipreview.com/event/water-aerobics/2026-06-16/
LOCATION:Sandpiper West Side Pool
CATEGORIES:Community Activity
ATTACH;FMTTYPE=image/webp:https://monet.gipreview.com/wp-content/uploads/2026/01/Sandpiper-Swimming-Pool.webp
END:VEVENT
BEGIN:VEVENT
DTSTART;TZID=America/New_York:20260616T120000
DTEND;TZID=America/New_York:20260616T140000
DTSTAMP:20260419T133351
CREATED:20260301T023106Z
LAST-MODIFIED:20260310T135449Z
UID:990001881-1781611200-1781618400@monet.gipreview.com
SUMMARY:Water Volleyball
DESCRIPTION:Come join us in playing Water Volleyball at the West Side Pool. Be prepared to laugh and make new friends\, all while enjoying a great workout. We play as non-competitive teams and welcome anyone who wants to have a fun time. We are flexible on your arrival time; you can join in anytime. We will always have a place for you. Come and check us out!
URL:https://monet.gipreview.com/event/water-volleyball/2026-06-16/
LOCATION:Sandpiper West Side Pool
CATEGORIES:Community Activity
ATTACH;FMTTYPE=image/jpeg:https://monet.gipreview.com/wp-content/uploads/2026/02/20210805_191907-2.jpg
END:VEVENT
BEGIN:VEVENT
DTSTART;TZID=America/New_York:20260617T100000
DTEND;TZID=America/New_York:20260617T110000
DTSTAMP:20260419T133351
CREATED:20260304T223001Z
LAST-MODIFIED:20260304T223001Z
UID:990008206-1781690400-1781694000@monet.gipreview.com
SUMMARY:Water Aerobics
DESCRIPTION:Water Aerobics \nEnjoy a refreshing\, low-impact workout in the pool! Water Aerobics helps improve strength\, flexibility\, and cardiovascular health while being gentle on the joints. Perfect for all fitness levels\, this fun class combines movement\, music\, and the natural resistance of water for a great full-body workout.
URL:https://monet.gipreview.com/event/water-aerobics/2026-06-17/
LOCATION:Sandpiper West Side Pool
CATEGORIES:Community Activity
ATTACH;FMTTYPE=image/webp:https://monet.gipreview.com/wp-content/uploads/2026/01/Sandpiper-Swimming-Pool.webp
END:VEVENT
BEGIN:VEVENT
DTSTART;TZID=America/New_York:20260617T120000
DTEND;TZID=America/New_York:20260617T140000
DTSTAMP:20260419T133351
CREATED:20260301T023106Z
LAST-MODIFIED:20260310T135449Z
UID:990001882-1781697600-1781704800@monet.gipreview.com
SUMMARY:Water Volleyball
DESCRIPTION:Come join us in playing Water Volleyball at the West Side Pool. Be prepared to laugh and make new friends\, all while enjoying a great workout. We play as non-competitive teams and welcome anyone who wants to have a fun time. We are flexible on your arrival time; you can join in anytime. We will always have a place for you. Come and check us out!
URL:https://monet.gipreview.com/event/water-volleyball/2026-06-17/
LOCATION:Sandpiper West Side Pool
CATEGORIES:Community Activity
ATTACH;FMTTYPE=image/jpeg:https://monet.gipreview.com/wp-content/uploads/2026/02/20210805_191907-2.jpg
END:VEVENT
BEGIN:VEVENT
DTSTART;TZID=America/New_York:20260618T100000
DTEND;TZID=America/New_York:20260618T110000
DTSTAMP:20260419T133351
CREATED:20260304T223001Z
LAST-MODIFIED:20260304T223001Z
UID:990008207-1781776800-1781780400@monet.gipreview.com
SUMMARY:Water Aerobics
DESCRIPTION:Water Aerobics \nEnjoy a refreshing\, low-impact workout in the pool! Water Aerobics helps improve strength\, flexibility\, and cardiovascular health while being gentle on the joints. Perfect for all fitness levels\, this fun class combines movement\, music\, and the natural resistance of water for a great full-body workout.
URL:https://monet.gipreview.com/event/water-aerobics/2026-06-18/
LOCATION:Sandpiper West Side Pool
CATEGORIES:Community Activity
ATTACH;FMTTYPE=image/webp:https://monet.gipreview.com/wp-content/uploads/2026/01/Sandpiper-Swimming-Pool.webp
END:VEVENT
BEGIN:VEVENT
DTSTART;TZID=America/New_York:20260618T180000
DTEND;TZID=America/New_York:20260618T200000
DTSTAMP:20260419T133351
CREATED:20260226T184953Z
LAST-MODIFIED:20260305T140443Z
UID:990001344-1781805600-1781812800@monet.gipreview.com
SUMMARY:Water Volleyball
DESCRIPTION:
URL:https://monet.gipreview.com/event/water-volleball/2026-06-18/
LOCATION:Sandpiper West Side Pool
CATEGORIES:Community Activity
ATTACH;FMTTYPE=image/jpeg:https://monet.gipreview.com/wp-content/uploads/2026/02/20210805_191907-2.jpg
END:VEVENT
BEGIN:VEVENT
DTSTART;TZID=America/New_York:20260619T100000
DTEND;TZID=America/New_York:20260619T110000
DTSTAMP:20260419T133351
CREATED:20260304T223001Z
LAST-MODIFIED:20260304T223001Z
UID:990008208-1781863200-1781866800@monet.gipreview.com
SUMMARY:Water Aerobics
DESCRIPTION:Water Aerobics \nEnjoy a refreshing\, low-impact workout in the pool! Water Aerobics helps improve strength\, flexibility\, and cardiovascular health while being gentle on the joints. Perfect for all fitness levels\, this fun class combines movement\, music\, and the natural resistance of water for a great full-body workout.
URL:https://monet.gipreview.com/event/water-aerobics/2026-06-19/
LOCATION:Sandpiper West Side Pool
CATEGORIES:Community Activity
ATTACH;FMTTYPE=image/webp:https://monet.gipreview.com/wp-content/uploads/2026/01/Sandpiper-Swimming-Pool.webp
END:VEVENT
BEGIN:VEVENT
DTSTART;TZID=America/New_York:20260619T120000
DTEND;TZID=America/New_York:20260619T140000
DTSTAMP:20260419T133351
CREATED:20260301T023106Z
LAST-MODIFIED:20260310T135449Z
UID:990001883-1781870400-1781877600@monet.gipreview.com
SUMMARY:Water Volleyball
DESCRIPTION:Come join us in playing Water Volleyball at the West Side Pool. Be prepared to laugh and make new friends\, all while enjoying a great workout. We play as non-competitive teams and welcome anyone who wants to have a fun time. We are flexible on your arrival time; you can join in anytime. We will always have a place for you. Come and check us out!
URL:https://monet.gipreview.com/event/water-volleyball/2026-06-19/
LOCATION:Sandpiper West Side Pool
CATEGORIES:Community Activity
ATTACH;FMTTYPE=image/jpeg:https://monet.gipreview.com/wp-content/uploads/2026/02/20210805_191907-2.jpg
END:VEVENT
BEGIN:VEVENT
DTSTART;TZID=America/New_York:20260620T100000
DTEND;TZID=America/New_York:20260620T110000
DTSTAMP:20260419T133351
CREATED:20260304T223001Z
LAST-MODIFIED:20260304T223001Z
UID:990008209-1781949600-1781953200@monet.gipreview.com
SUMMARY:Water Aerobics
DESCRIPTION:Water Aerobics \nEnjoy a refreshing\, low-impact workout in the pool! Water Aerobics helps improve strength\, flexibility\, and cardiovascular health while being gentle on the joints. Perfect for all fitness levels\, this fun class combines movement\, music\, and the natural resistance of water for a great full-body workout.
URL:https://monet.gipreview.com/event/water-aerobics/2026-06-20/
LOCATION:Sandpiper West Side Pool
CATEGORIES:Community Activity
ATTACH;FMTTYPE=image/webp:https://monet.gipreview.com/wp-content/uploads/2026/01/Sandpiper-Swimming-Pool.webp
END:VEVENT
BEGIN:VEVENT
DTSTART;TZID=America/New_York:20260620T100000
DTEND;TZID=America/New_York:20260620T120000
DTSTAMP:20260419T133351
CREATED:20260310T134518Z
LAST-MODIFIED:20260321T214531Z
UID:990012378-1781949600-1781956800@monet.gipreview.com
SUMMARY:Water Volleyball
DESCRIPTION:
URL:https://monet.gipreview.com/event/water-volleyball-2/2026-06-20/
LOCATION:Sandpiper West Side Pool
CATEGORIES:Community Activity
ATTACH;FMTTYPE=image/jpeg:https://monet.gipreview.com/wp-content/uploads/2026/02/20210805_191907-2.jpg
END:VEVENT
BEGIN:VEVENT
DTSTART;TZID=America/New_York:20260621T100000
DTEND;TZID=America/New_York:20260621T110000
DTSTAMP:20260419T133351
CREATED:20260304T223001Z
LAST-MODIFIED:20260304T223001Z
UID:990008210-1782036000-1782039600@monet.gipreview.com
SUMMARY:Water Aerobics
DESCRIPTION:Water Aerobics \nEnjoy a refreshing\, low-impact workout in the pool! Water Aerobics helps improve strength\, flexibility\, and cardiovascular health while being gentle on the joints. Perfect for all fitness levels\, this fun class combines movement\, music\, and the natural resistance of water for a great full-body workout.
URL:https://monet.gipreview.com/event/water-aerobics/2026-06-21/
LOCATION:Sandpiper West Side Pool
CATEGORIES:Community Activity
ATTACH;FMTTYPE=image/webp:https://monet.gipreview.com/wp-content/uploads/2026/01/Sandpiper-Swimming-Pool.webp
END:VEVENT
BEGIN:VEVENT
DTSTART;TZID=America/New_York:20260622T100000
DTEND;TZID=America/New_York:20260622T110000
DTSTAMP:20260419T133351
CREATED:20260304T223001Z
LAST-MODIFIED:20260304T223001Z
UID:990008211-1782122400-1782126000@monet.gipreview.com
SUMMARY:Water Aerobics
DESCRIPTION:Water Aerobics \nEnjoy a refreshing\, low-impact workout in the pool! Water Aerobics helps improve strength\, flexibility\, and cardiovascular health while being gentle on the joints. Perfect for all fitness levels\, this fun class combines movement\, music\, and the natural resistance of water for a great full-body workout.
URL:https://monet.gipreview.com/event/water-aerobics/2026-06-22/
LOCATION:Sandpiper West Side Pool
CATEGORIES:Community Activity
ATTACH;FMTTYPE=image/webp:https://monet.gipreview.com/wp-content/uploads/2026/01/Sandpiper-Swimming-Pool.webp
END:VEVENT
BEGIN:VEVENT
DTSTART;TZID=America/New_York:20260622T180000
DTEND;TZID=America/New_York:20260622T200000
DTSTAMP:20260419T133351
CREATED:20260226T184953Z
LAST-MODIFIED:20260305T140443Z
UID:990001345-1782151200-1782158400@monet.gipreview.com
SUMMARY:Water Volleyball
DESCRIPTION:
URL:https://monet.gipreview.com/event/water-volleball/2026-06-22/
LOCATION:Sandpiper West Side Pool
CATEGORIES:Community Activity
ATTACH;FMTTYPE=image/jpeg:https://monet.gipreview.com/wp-content/uploads/2026/02/20210805_191907-2.jpg
END:VEVENT
BEGIN:VEVENT
DTSTART;TZID=America/New_York:20260623T100000
DTEND;TZID=America/New_York:20260623T110000
DTSTAMP:20260419T133351
CREATED:20260304T223001Z
LAST-MODIFIED:20260304T223001Z
UID:990008212-1782208800-1782212400@monet.gipreview.com
SUMMARY:Water Aerobics
DESCRIPTION:Water Aerobics \nEnjoy a refreshing\, low-impact workout in the pool! Water Aerobics helps improve strength\, flexibility\, and cardiovascular health while being gentle on the joints. Perfect for all fitness levels\, this fun class combines movement\, music\, and the natural resistance of water for a great full-body workout.
URL:https://monet.gipreview.com/event/water-aerobics/2026-06-23/
LOCATION:Sandpiper West Side Pool
CATEGORIES:Community Activity
ATTACH;FMTTYPE=image/webp:https://monet.gipreview.com/wp-content/uploads/2026/01/Sandpiper-Swimming-Pool.webp
END:VEVENT
END:VCALENDAR