BEGIN:VCALENDAR
VERSION:2.0
PRODID:-//Sandpiper - ECPv6.15.20//NONSGML v1.0//EN
CALSCALE:GREGORIAN
METHOD:PUBLISH
X-WR-CALNAME:Sandpiper
X-ORIGINAL-URL:https://monet.gipreview.com
X-WR-CALDESC:Events for Sandpiper
REFRESH-INTERVAL;VALUE=DURATION:PT1H
X-Robots-Tag:noindex
X-PUBLISHED-TTL:PT1H
BEGIN:VTIMEZONE
TZID:America/New_York
BEGIN:DAYLIGHT
TZOFFSETFROM:-0500
TZOFFSETTO:-0400
TZNAME:EDT
DTSTART:20270314T070000
END:DAYLIGHT
BEGIN:STANDARD
TZOFFSETFROM:-0400
TZOFFSETTO:-0500
TZNAME:EST
DTSTART:20271107T060000
END:STANDARD
BEGIN:DAYLIGHT
TZOFFSETFROM:-0500
TZOFFSETTO:-0400
TZNAME:EDT
DTSTART:20280312T070000
END:DAYLIGHT
BEGIN:STANDARD
TZOFFSETFROM:-0400
TZOFFSETTO:-0500
TZNAME:EST
DTSTART:20281105T060000
END:STANDARD
BEGIN:DAYLIGHT
TZOFFSETFROM:-0500
TZOFFSETTO:-0400
TZNAME:EDT
DTSTART:20290311T070000
END:DAYLIGHT
BEGIN:STANDARD
TZOFFSETFROM:-0400
TZOFFSETTO:-0500
TZNAME:EST
DTSTART:20291104T060000
END:STANDARD
END:VTIMEZONE
BEGIN:VEVENT
DTSTART;TZID=America/New_York:20280711T100000
DTEND;TZID=America/New_York:20280711T110000
DTSTAMP:20260423T072624
CREATED:20260304T225246Z
LAST-MODIFIED:20260304T225246Z
UID:990010051-1846922400-1846926000@monet.gipreview.com
SUMMARY:Senior Chair Yoga & Strength
DESCRIPTION:Chair Yoga & Strength \nA gentle\, low-impact class designed to improve flexibility\, balance\, and strength while using a chair for support. Participants will enjoy simple yoga stretches combined with light strength exercises to help build muscle\, enhance mobility\, and support overall wellness. Perfect for all fitness levels and ideal for seniors looking to stay active in a safe and comfortable way.
URL:https://monet.gipreview.com/event/senior-chair-yoga-strength/2028-07-11/
LOCATION:Eastside Tennis Courts
CATEGORIES:Community Activity
ATTACH;FMTTYPE=image/png:https://monet.gipreview.com/wp-content/uploads/2026/03/Chair-yoga-for-seniors-in-session.png
END:VEVENT
BEGIN:VEVENT
DTSTART;TZID=America/New_York:20280717T080000
DTEND;TZID=America/New_York:20280717T100000
DTSTAMP:20260423T072624
CREATED:20260304T230635Z
LAST-MODIFIED:20260304T230635Z
UID:990010313-1847433600-1847440800@monet.gipreview.com
SUMMARY:Tennis
DESCRIPTION:Tennis is a fun and engaging sport that promotes fitness\, coordination\, and social interaction. Players use a racket to hit a ball over a net\, improving balance\, agility\, and cardiovascular health while enjoying friendly competition. Whether played for exercise or recreation\, tennis is a great way to stay active and have fun outdoors. 🎾
URL:https://monet.gipreview.com/event/tennis/2028-07-17/
LOCATION:Eastside Tennis Courts
CATEGORIES:Community Activity
ATTACH;FMTTYPE=image/webp:https://monet.gipreview.com/wp-content/uploads/2026/03/Sandpiper-East-Side-Tennis-Courts.webp
END:VEVENT
BEGIN:VEVENT
DTSTART;TZID=America/New_York:20280718T100000
DTEND;TZID=America/New_York:20280718T110000
DTSTAMP:20260423T072624
CREATED:20260304T225246Z
LAST-MODIFIED:20260304T225246Z
UID:990010052-1847527200-1847530800@monet.gipreview.com
SUMMARY:Senior Chair Yoga & Strength
DESCRIPTION:Chair Yoga & Strength \nA gentle\, low-impact class designed to improve flexibility\, balance\, and strength while using a chair for support. Participants will enjoy simple yoga stretches combined with light strength exercises to help build muscle\, enhance mobility\, and support overall wellness. Perfect for all fitness levels and ideal for seniors looking to stay active in a safe and comfortable way.
URL:https://monet.gipreview.com/event/senior-chair-yoga-strength/2028-07-18/
LOCATION:Eastside Tennis Courts
CATEGORIES:Community Activity
ATTACH;FMTTYPE=image/png:https://monet.gipreview.com/wp-content/uploads/2026/03/Chair-yoga-for-seniors-in-session.png
END:VEVENT
BEGIN:VEVENT
DTSTART;TZID=America/New_York:20280724T080000
DTEND;TZID=America/New_York:20280724T100000
DTSTAMP:20260423T072624
CREATED:20260304T230635Z
LAST-MODIFIED:20260304T230635Z
UID:990010314-1848038400-1848045600@monet.gipreview.com
SUMMARY:Tennis
DESCRIPTION:Tennis is a fun and engaging sport that promotes fitness\, coordination\, and social interaction. Players use a racket to hit a ball over a net\, improving balance\, agility\, and cardiovascular health while enjoying friendly competition. Whether played for exercise or recreation\, tennis is a great way to stay active and have fun outdoors. 🎾
URL:https://monet.gipreview.com/event/tennis/2028-07-24/
LOCATION:Eastside Tennis Courts
CATEGORIES:Community Activity
ATTACH;FMTTYPE=image/webp:https://monet.gipreview.com/wp-content/uploads/2026/03/Sandpiper-East-Side-Tennis-Courts.webp
END:VEVENT
BEGIN:VEVENT
DTSTART;TZID=America/New_York:20280725T100000
DTEND;TZID=America/New_York:20280725T110000
DTSTAMP:20260423T072624
CREATED:20260304T225246Z
LAST-MODIFIED:20260304T225246Z
UID:990010053-1848132000-1848135600@monet.gipreview.com
SUMMARY:Senior Chair Yoga & Strength
DESCRIPTION:Chair Yoga & Strength \nA gentle\, low-impact class designed to improve flexibility\, balance\, and strength while using a chair for support. Participants will enjoy simple yoga stretches combined with light strength exercises to help build muscle\, enhance mobility\, and support overall wellness. Perfect for all fitness levels and ideal for seniors looking to stay active in a safe and comfortable way.
URL:https://monet.gipreview.com/event/senior-chair-yoga-strength/2028-07-25/
LOCATION:Eastside Tennis Courts
CATEGORIES:Community Activity
ATTACH;FMTTYPE=image/png:https://monet.gipreview.com/wp-content/uploads/2026/03/Chair-yoga-for-seniors-in-session.png
END:VEVENT
BEGIN:VEVENT
DTSTART;TZID=America/New_York:20280731T080000
DTEND;TZID=America/New_York:20280731T100000
DTSTAMP:20260423T072624
CREATED:20260304T230635Z
LAST-MODIFIED:20260304T230635Z
UID:990010315-1848643200-1848650400@monet.gipreview.com
SUMMARY:Tennis
DESCRIPTION:Tennis is a fun and engaging sport that promotes fitness\, coordination\, and social interaction. Players use a racket to hit a ball over a net\, improving balance\, agility\, and cardiovascular health while enjoying friendly competition. Whether played for exercise or recreation\, tennis is a great way to stay active and have fun outdoors. 🎾
URL:https://monet.gipreview.com/event/tennis/2028-07-31/
LOCATION:Eastside Tennis Courts
CATEGORIES:Community Activity
ATTACH;FMTTYPE=image/webp:https://monet.gipreview.com/wp-content/uploads/2026/03/Sandpiper-East-Side-Tennis-Courts.webp
END:VEVENT
BEGIN:VEVENT
DTSTART;TZID=America/New_York:20280801T100000
DTEND;TZID=America/New_York:20280801T110000
DTSTAMP:20260423T072624
CREATED:20260304T225246Z
LAST-MODIFIED:20260304T225246Z
UID:990010054-1848736800-1848740400@monet.gipreview.com
SUMMARY:Senior Chair Yoga & Strength
DESCRIPTION:Chair Yoga & Strength \nA gentle\, low-impact class designed to improve flexibility\, balance\, and strength while using a chair for support. Participants will enjoy simple yoga stretches combined with light strength exercises to help build muscle\, enhance mobility\, and support overall wellness. Perfect for all fitness levels and ideal for seniors looking to stay active in a safe and comfortable way.
URL:https://monet.gipreview.com/event/senior-chair-yoga-strength/2028-08-01/
LOCATION:Eastside Tennis Courts
CATEGORIES:Community Activity
ATTACH;FMTTYPE=image/png:https://monet.gipreview.com/wp-content/uploads/2026/03/Chair-yoga-for-seniors-in-session.png
END:VEVENT
BEGIN:VEVENT
DTSTART;TZID=America/New_York:20280807T080000
DTEND;TZID=America/New_York:20280807T100000
DTSTAMP:20260423T072624
CREATED:20260304T230635Z
LAST-MODIFIED:20260304T230635Z
UID:990010316-1849248000-1849255200@monet.gipreview.com
SUMMARY:Tennis
DESCRIPTION:Tennis is a fun and engaging sport that promotes fitness\, coordination\, and social interaction. Players use a racket to hit a ball over a net\, improving balance\, agility\, and cardiovascular health while enjoying friendly competition. Whether played for exercise or recreation\, tennis is a great way to stay active and have fun outdoors. 🎾
URL:https://monet.gipreview.com/event/tennis/2028-08-07/
LOCATION:Eastside Tennis Courts
CATEGORIES:Community Activity
ATTACH;FMTTYPE=image/webp:https://monet.gipreview.com/wp-content/uploads/2026/03/Sandpiper-East-Side-Tennis-Courts.webp
END:VEVENT
BEGIN:VEVENT
DTSTART;TZID=America/New_York:20280808T100000
DTEND;TZID=America/New_York:20280808T110000
DTSTAMP:20260423T072624
CREATED:20260304T225246Z
LAST-MODIFIED:20260304T225246Z
UID:990010055-1849341600-1849345200@monet.gipreview.com
SUMMARY:Senior Chair Yoga & Strength
DESCRIPTION:Chair Yoga & Strength \nA gentle\, low-impact class designed to improve flexibility\, balance\, and strength while using a chair for support. Participants will enjoy simple yoga stretches combined with light strength exercises to help build muscle\, enhance mobility\, and support overall wellness. Perfect for all fitness levels and ideal for seniors looking to stay active in a safe and comfortable way.
URL:https://monet.gipreview.com/event/senior-chair-yoga-strength/2028-08-08/
LOCATION:Eastside Tennis Courts
CATEGORIES:Community Activity
ATTACH;FMTTYPE=image/png:https://monet.gipreview.com/wp-content/uploads/2026/03/Chair-yoga-for-seniors-in-session.png
END:VEVENT
BEGIN:VEVENT
DTSTART;TZID=America/New_York:20280814T080000
DTEND;TZID=America/New_York:20280814T100000
DTSTAMP:20260423T072624
CREATED:20260304T230635Z
LAST-MODIFIED:20260304T230635Z
UID:990010317-1849852800-1849860000@monet.gipreview.com
SUMMARY:Tennis
DESCRIPTION:Tennis is a fun and engaging sport that promotes fitness\, coordination\, and social interaction. Players use a racket to hit a ball over a net\, improving balance\, agility\, and cardiovascular health while enjoying friendly competition. Whether played for exercise or recreation\, tennis is a great way to stay active and have fun outdoors. 🎾
URL:https://monet.gipreview.com/event/tennis/2028-08-14/
LOCATION:Eastside Tennis Courts
CATEGORIES:Community Activity
ATTACH;FMTTYPE=image/webp:https://monet.gipreview.com/wp-content/uploads/2026/03/Sandpiper-East-Side-Tennis-Courts.webp
END:VEVENT
BEGIN:VEVENT
DTSTART;TZID=America/New_York:20280815T100000
DTEND;TZID=America/New_York:20280815T110000
DTSTAMP:20260423T072624
CREATED:20260304T225246Z
LAST-MODIFIED:20260304T225246Z
UID:990010056-1849946400-1849950000@monet.gipreview.com
SUMMARY:Senior Chair Yoga & Strength
DESCRIPTION:Chair Yoga & Strength \nA gentle\, low-impact class designed to improve flexibility\, balance\, and strength while using a chair for support. Participants will enjoy simple yoga stretches combined with light strength exercises to help build muscle\, enhance mobility\, and support overall wellness. Perfect for all fitness levels and ideal for seniors looking to stay active in a safe and comfortable way.
URL:https://monet.gipreview.com/event/senior-chair-yoga-strength/2028-08-15/
LOCATION:Eastside Tennis Courts
CATEGORIES:Community Activity
ATTACH;FMTTYPE=image/png:https://monet.gipreview.com/wp-content/uploads/2026/03/Chair-yoga-for-seniors-in-session.png
END:VEVENT
BEGIN:VEVENT
DTSTART;TZID=America/New_York:20280821T080000
DTEND;TZID=America/New_York:20280821T100000
DTSTAMP:20260423T072624
CREATED:20260304T230635Z
LAST-MODIFIED:20260304T230635Z
UID:990010318-1850457600-1850464800@monet.gipreview.com
SUMMARY:Tennis
DESCRIPTION:Tennis is a fun and engaging sport that promotes fitness\, coordination\, and social interaction. Players use a racket to hit a ball over a net\, improving balance\, agility\, and cardiovascular health while enjoying friendly competition. Whether played for exercise or recreation\, tennis is a great way to stay active and have fun outdoors. 🎾
URL:https://monet.gipreview.com/event/tennis/2028-08-21/
LOCATION:Eastside Tennis Courts
CATEGORIES:Community Activity
ATTACH;FMTTYPE=image/webp:https://monet.gipreview.com/wp-content/uploads/2026/03/Sandpiper-East-Side-Tennis-Courts.webp
END:VEVENT
BEGIN:VEVENT
DTSTART;TZID=America/New_York:20280822T100000
DTEND;TZID=America/New_York:20280822T110000
DTSTAMP:20260423T072624
CREATED:20260304T225246Z
LAST-MODIFIED:20260304T225246Z
UID:990010057-1850551200-1850554800@monet.gipreview.com
SUMMARY:Senior Chair Yoga & Strength
DESCRIPTION:Chair Yoga & Strength \nA gentle\, low-impact class designed to improve flexibility\, balance\, and strength while using a chair for support. Participants will enjoy simple yoga stretches combined with light strength exercises to help build muscle\, enhance mobility\, and support overall wellness. Perfect for all fitness levels and ideal for seniors looking to stay active in a safe and comfortable way.
URL:https://monet.gipreview.com/event/senior-chair-yoga-strength/2028-08-22/
LOCATION:Eastside Tennis Courts
CATEGORIES:Community Activity
ATTACH;FMTTYPE=image/png:https://monet.gipreview.com/wp-content/uploads/2026/03/Chair-yoga-for-seniors-in-session.png
END:VEVENT
BEGIN:VEVENT
DTSTART;TZID=America/New_York:20280828T080000
DTEND;TZID=America/New_York:20280828T100000
DTSTAMP:20260423T072624
CREATED:20260304T230635Z
LAST-MODIFIED:20260304T230635Z
UID:990010319-1851062400-1851069600@monet.gipreview.com
SUMMARY:Tennis
DESCRIPTION:Tennis is a fun and engaging sport that promotes fitness\, coordination\, and social interaction. Players use a racket to hit a ball over a net\, improving balance\, agility\, and cardiovascular health while enjoying friendly competition. Whether played for exercise or recreation\, tennis is a great way to stay active and have fun outdoors. 🎾
URL:https://monet.gipreview.com/event/tennis/2028-08-28/
LOCATION:Eastside Tennis Courts
CATEGORIES:Community Activity
ATTACH;FMTTYPE=image/webp:https://monet.gipreview.com/wp-content/uploads/2026/03/Sandpiper-East-Side-Tennis-Courts.webp
END:VEVENT
BEGIN:VEVENT
DTSTART;TZID=America/New_York:20280829T100000
DTEND;TZID=America/New_York:20280829T110000
DTSTAMP:20260423T072624
CREATED:20260304T225246Z
LAST-MODIFIED:20260304T225246Z
UID:990010058-1851156000-1851159600@monet.gipreview.com
SUMMARY:Senior Chair Yoga & Strength
DESCRIPTION:Chair Yoga & Strength \nA gentle\, low-impact class designed to improve flexibility\, balance\, and strength while using a chair for support. Participants will enjoy simple yoga stretches combined with light strength exercises to help build muscle\, enhance mobility\, and support overall wellness. Perfect for all fitness levels and ideal for seniors looking to stay active in a safe and comfortable way.
URL:https://monet.gipreview.com/event/senior-chair-yoga-strength/2028-08-29/
LOCATION:Eastside Tennis Courts
CATEGORIES:Community Activity
ATTACH;FMTTYPE=image/png:https://monet.gipreview.com/wp-content/uploads/2026/03/Chair-yoga-for-seniors-in-session.png
END:VEVENT
BEGIN:VEVENT
DTSTART;TZID=America/New_York:20280904T080000
DTEND;TZID=America/New_York:20280904T100000
DTSTAMP:20260423T072624
CREATED:20260304T230635Z
LAST-MODIFIED:20260304T230635Z
UID:990010320-1851667200-1851674400@monet.gipreview.com
SUMMARY:Tennis
DESCRIPTION:Tennis is a fun and engaging sport that promotes fitness\, coordination\, and social interaction. Players use a racket to hit a ball over a net\, improving balance\, agility\, and cardiovascular health while enjoying friendly competition. Whether played for exercise or recreation\, tennis is a great way to stay active and have fun outdoors. 🎾
URL:https://monet.gipreview.com/event/tennis/2028-09-04/
LOCATION:Eastside Tennis Courts
CATEGORIES:Community Activity
ATTACH;FMTTYPE=image/webp:https://monet.gipreview.com/wp-content/uploads/2026/03/Sandpiper-East-Side-Tennis-Courts.webp
END:VEVENT
BEGIN:VEVENT
DTSTART;TZID=America/New_York:20280905T100000
DTEND;TZID=America/New_York:20280905T110000
DTSTAMP:20260423T072624
CREATED:20260304T225246Z
LAST-MODIFIED:20260304T225246Z
UID:990010059-1851760800-1851764400@monet.gipreview.com
SUMMARY:Senior Chair Yoga & Strength
DESCRIPTION:Chair Yoga & Strength \nA gentle\, low-impact class designed to improve flexibility\, balance\, and strength while using a chair for support. Participants will enjoy simple yoga stretches combined with light strength exercises to help build muscle\, enhance mobility\, and support overall wellness. Perfect for all fitness levels and ideal for seniors looking to stay active in a safe and comfortable way.
URL:https://monet.gipreview.com/event/senior-chair-yoga-strength/2028-09-05/
LOCATION:Eastside Tennis Courts
CATEGORIES:Community Activity
ATTACH;FMTTYPE=image/png:https://monet.gipreview.com/wp-content/uploads/2026/03/Chair-yoga-for-seniors-in-session.png
END:VEVENT
BEGIN:VEVENT
DTSTART;TZID=America/New_York:20280911T080000
DTEND;TZID=America/New_York:20280911T100000
DTSTAMP:20260423T072624
CREATED:20260304T230635Z
LAST-MODIFIED:20260304T230635Z
UID:990010321-1852272000-1852279200@monet.gipreview.com
SUMMARY:Tennis
DESCRIPTION:Tennis is a fun and engaging sport that promotes fitness\, coordination\, and social interaction. Players use a racket to hit a ball over a net\, improving balance\, agility\, and cardiovascular health while enjoying friendly competition. Whether played for exercise or recreation\, tennis is a great way to stay active and have fun outdoors. 🎾
URL:https://monet.gipreview.com/event/tennis/2028-09-11/
LOCATION:Eastside Tennis Courts
CATEGORIES:Community Activity
ATTACH;FMTTYPE=image/webp:https://monet.gipreview.com/wp-content/uploads/2026/03/Sandpiper-East-Side-Tennis-Courts.webp
END:VEVENT
BEGIN:VEVENT
DTSTART;TZID=America/New_York:20280912T100000
DTEND;TZID=America/New_York:20280912T110000
DTSTAMP:20260423T072624
CREATED:20260304T225246Z
LAST-MODIFIED:20260304T225246Z
UID:990010060-1852365600-1852369200@monet.gipreview.com
SUMMARY:Senior Chair Yoga & Strength
DESCRIPTION:Chair Yoga & Strength \nA gentle\, low-impact class designed to improve flexibility\, balance\, and strength while using a chair for support. Participants will enjoy simple yoga stretches combined with light strength exercises to help build muscle\, enhance mobility\, and support overall wellness. Perfect for all fitness levels and ideal for seniors looking to stay active in a safe and comfortable way.
URL:https://monet.gipreview.com/event/senior-chair-yoga-strength/2028-09-12/
LOCATION:Eastside Tennis Courts
CATEGORIES:Community Activity
ATTACH;FMTTYPE=image/png:https://monet.gipreview.com/wp-content/uploads/2026/03/Chair-yoga-for-seniors-in-session.png
END:VEVENT
BEGIN:VEVENT
DTSTART;TZID=America/New_York:20280918T080000
DTEND;TZID=America/New_York:20280918T100000
DTSTAMP:20260423T072624
CREATED:20260304T230635Z
LAST-MODIFIED:20260304T230635Z
UID:990010322-1852876800-1852884000@monet.gipreview.com
SUMMARY:Tennis
DESCRIPTION:Tennis is a fun and engaging sport that promotes fitness\, coordination\, and social interaction. Players use a racket to hit a ball over a net\, improving balance\, agility\, and cardiovascular health while enjoying friendly competition. Whether played for exercise or recreation\, tennis is a great way to stay active and have fun outdoors. 🎾
URL:https://monet.gipreview.com/event/tennis/2028-09-18/
LOCATION:Eastside Tennis Courts
CATEGORIES:Community Activity
ATTACH;FMTTYPE=image/webp:https://monet.gipreview.com/wp-content/uploads/2026/03/Sandpiper-East-Side-Tennis-Courts.webp
END:VEVENT
BEGIN:VEVENT
DTSTART;TZID=America/New_York:20280919T100000
DTEND;TZID=America/New_York:20280919T110000
DTSTAMP:20260423T072624
CREATED:20260304T225246Z
LAST-MODIFIED:20260304T225246Z
UID:990010061-1852970400-1852974000@monet.gipreview.com
SUMMARY:Senior Chair Yoga & Strength
DESCRIPTION:Chair Yoga & Strength \nA gentle\, low-impact class designed to improve flexibility\, balance\, and strength while using a chair for support. Participants will enjoy simple yoga stretches combined with light strength exercises to help build muscle\, enhance mobility\, and support overall wellness. Perfect for all fitness levels and ideal for seniors looking to stay active in a safe and comfortable way.
URL:https://monet.gipreview.com/event/senior-chair-yoga-strength/2028-09-19/
LOCATION:Eastside Tennis Courts
CATEGORIES:Community Activity
ATTACH;FMTTYPE=image/png:https://monet.gipreview.com/wp-content/uploads/2026/03/Chair-yoga-for-seniors-in-session.png
END:VEVENT
BEGIN:VEVENT
DTSTART;TZID=America/New_York:20280925T080000
DTEND;TZID=America/New_York:20280925T100000
DTSTAMP:20260423T072624
CREATED:20260304T230635Z
LAST-MODIFIED:20260304T230635Z
UID:990010323-1853481600-1853488800@monet.gipreview.com
SUMMARY:Tennis
DESCRIPTION:Tennis is a fun and engaging sport that promotes fitness\, coordination\, and social interaction. Players use a racket to hit a ball over a net\, improving balance\, agility\, and cardiovascular health while enjoying friendly competition. Whether played for exercise or recreation\, tennis is a great way to stay active and have fun outdoors. 🎾
URL:https://monet.gipreview.com/event/tennis/2028-09-25/
LOCATION:Eastside Tennis Courts
CATEGORIES:Community Activity
ATTACH;FMTTYPE=image/webp:https://monet.gipreview.com/wp-content/uploads/2026/03/Sandpiper-East-Side-Tennis-Courts.webp
END:VEVENT
BEGIN:VEVENT
DTSTART;TZID=America/New_York:20280926T100000
DTEND;TZID=America/New_York:20280926T110000
DTSTAMP:20260423T072624
CREATED:20260304T225246Z
LAST-MODIFIED:20260304T225246Z
UID:990010062-1853575200-1853578800@monet.gipreview.com
SUMMARY:Senior Chair Yoga & Strength
DESCRIPTION:Chair Yoga & Strength \nA gentle\, low-impact class designed to improve flexibility\, balance\, and strength while using a chair for support. Participants will enjoy simple yoga stretches combined with light strength exercises to help build muscle\, enhance mobility\, and support overall wellness. Perfect for all fitness levels and ideal for seniors looking to stay active in a safe and comfortable way.
URL:https://monet.gipreview.com/event/senior-chair-yoga-strength/2028-09-26/
LOCATION:Eastside Tennis Courts
CATEGORIES:Community Activity
ATTACH;FMTTYPE=image/png:https://monet.gipreview.com/wp-content/uploads/2026/03/Chair-yoga-for-seniors-in-session.png
END:VEVENT
BEGIN:VEVENT
DTSTART;TZID=America/New_York:20281002T080000
DTEND;TZID=America/New_York:20281002T100000
DTSTAMP:20260423T072624
CREATED:20260304T230635Z
LAST-MODIFIED:20260304T230635Z
UID:990010324-1854086400-1854093600@monet.gipreview.com
SUMMARY:Tennis
DESCRIPTION:Tennis is a fun and engaging sport that promotes fitness\, coordination\, and social interaction. Players use a racket to hit a ball over a net\, improving balance\, agility\, and cardiovascular health while enjoying friendly competition. Whether played for exercise or recreation\, tennis is a great way to stay active and have fun outdoors. 🎾
URL:https://monet.gipreview.com/event/tennis/2028-10-02/
LOCATION:Eastside Tennis Courts
CATEGORIES:Community Activity
ATTACH;FMTTYPE=image/webp:https://monet.gipreview.com/wp-content/uploads/2026/03/Sandpiper-East-Side-Tennis-Courts.webp
END:VEVENT
BEGIN:VEVENT
DTSTART;TZID=America/New_York:20281003T100000
DTEND;TZID=America/New_York:20281003T110000
DTSTAMP:20260423T072624
CREATED:20260304T225246Z
LAST-MODIFIED:20260304T225246Z
UID:990010063-1854180000-1854183600@monet.gipreview.com
SUMMARY:Senior Chair Yoga & Strength
DESCRIPTION:Chair Yoga & Strength \nA gentle\, low-impact class designed to improve flexibility\, balance\, and strength while using a chair for support. Participants will enjoy simple yoga stretches combined with light strength exercises to help build muscle\, enhance mobility\, and support overall wellness. Perfect for all fitness levels and ideal for seniors looking to stay active in a safe and comfortable way.
URL:https://monet.gipreview.com/event/senior-chair-yoga-strength/2028-10-03/
LOCATION:Eastside Tennis Courts
CATEGORIES:Community Activity
ATTACH;FMTTYPE=image/png:https://monet.gipreview.com/wp-content/uploads/2026/03/Chair-yoga-for-seniors-in-session.png
END:VEVENT
BEGIN:VEVENT
DTSTART;TZID=America/New_York:20281009T080000
DTEND;TZID=America/New_York:20281009T100000
DTSTAMP:20260423T072624
CREATED:20260304T230635Z
LAST-MODIFIED:20260304T230635Z
UID:990010325-1854691200-1854698400@monet.gipreview.com
SUMMARY:Tennis
DESCRIPTION:Tennis is a fun and engaging sport that promotes fitness\, coordination\, and social interaction. Players use a racket to hit a ball over a net\, improving balance\, agility\, and cardiovascular health while enjoying friendly competition. Whether played for exercise or recreation\, tennis is a great way to stay active and have fun outdoors. 🎾
URL:https://monet.gipreview.com/event/tennis/2028-10-09/
LOCATION:Eastside Tennis Courts
CATEGORIES:Community Activity
ATTACH;FMTTYPE=image/webp:https://monet.gipreview.com/wp-content/uploads/2026/03/Sandpiper-East-Side-Tennis-Courts.webp
END:VEVENT
BEGIN:VEVENT
DTSTART;TZID=America/New_York:20281010T100000
DTEND;TZID=America/New_York:20281010T110000
DTSTAMP:20260423T072624
CREATED:20260304T225246Z
LAST-MODIFIED:20260304T225246Z
UID:990010064-1854784800-1854788400@monet.gipreview.com
SUMMARY:Senior Chair Yoga & Strength
DESCRIPTION:Chair Yoga & Strength \nA gentle\, low-impact class designed to improve flexibility\, balance\, and strength while using a chair for support. Participants will enjoy simple yoga stretches combined with light strength exercises to help build muscle\, enhance mobility\, and support overall wellness. Perfect for all fitness levels and ideal for seniors looking to stay active in a safe and comfortable way.
URL:https://monet.gipreview.com/event/senior-chair-yoga-strength/2028-10-10/
LOCATION:Eastside Tennis Courts
CATEGORIES:Community Activity
ATTACH;FMTTYPE=image/png:https://monet.gipreview.com/wp-content/uploads/2026/03/Chair-yoga-for-seniors-in-session.png
END:VEVENT
BEGIN:VEVENT
DTSTART;TZID=America/New_York:20281016T080000
DTEND;TZID=America/New_York:20281016T100000
DTSTAMP:20260423T072624
CREATED:20260304T230635Z
LAST-MODIFIED:20260304T230635Z
UID:990010326-1855296000-1855303200@monet.gipreview.com
SUMMARY:Tennis
DESCRIPTION:Tennis is a fun and engaging sport that promotes fitness\, coordination\, and social interaction. Players use a racket to hit a ball over a net\, improving balance\, agility\, and cardiovascular health while enjoying friendly competition. Whether played for exercise or recreation\, tennis is a great way to stay active and have fun outdoors. 🎾
URL:https://monet.gipreview.com/event/tennis/2028-10-16/
LOCATION:Eastside Tennis Courts
CATEGORIES:Community Activity
ATTACH;FMTTYPE=image/webp:https://monet.gipreview.com/wp-content/uploads/2026/03/Sandpiper-East-Side-Tennis-Courts.webp
END:VEVENT
BEGIN:VEVENT
DTSTART;TZID=America/New_York:20281017T100000
DTEND;TZID=America/New_York:20281017T110000
DTSTAMP:20260423T072624
CREATED:20260304T225246Z
LAST-MODIFIED:20260304T225246Z
UID:990010065-1855389600-1855393200@monet.gipreview.com
SUMMARY:Senior Chair Yoga & Strength
DESCRIPTION:Chair Yoga & Strength \nA gentle\, low-impact class designed to improve flexibility\, balance\, and strength while using a chair for support. Participants will enjoy simple yoga stretches combined with light strength exercises to help build muscle\, enhance mobility\, and support overall wellness. Perfect for all fitness levels and ideal for seniors looking to stay active in a safe and comfortable way.
URL:https://monet.gipreview.com/event/senior-chair-yoga-strength/2028-10-17/
LOCATION:Eastside Tennis Courts
CATEGORIES:Community Activity
ATTACH;FMTTYPE=image/png:https://monet.gipreview.com/wp-content/uploads/2026/03/Chair-yoga-for-seniors-in-session.png
END:VEVENT
BEGIN:VEVENT
DTSTART;TZID=America/New_York:20281023T080000
DTEND;TZID=America/New_York:20281023T100000
DTSTAMP:20260423T072624
CREATED:20260304T230635Z
LAST-MODIFIED:20260304T230635Z
UID:990010327-1855900800-1855908000@monet.gipreview.com
SUMMARY:Tennis
DESCRIPTION:Tennis is a fun and engaging sport that promotes fitness\, coordination\, and social interaction. Players use a racket to hit a ball over a net\, improving balance\, agility\, and cardiovascular health while enjoying friendly competition. Whether played for exercise or recreation\, tennis is a great way to stay active and have fun outdoors. 🎾
URL:https://monet.gipreview.com/event/tennis/2028-10-23/
LOCATION:Eastside Tennis Courts
CATEGORIES:Community Activity
ATTACH;FMTTYPE=image/webp:https://monet.gipreview.com/wp-content/uploads/2026/03/Sandpiper-East-Side-Tennis-Courts.webp
END:VEVENT
END:VCALENDAR