BEGIN:VCALENDAR
VERSION:2.0
PRODID:-//Sandpiper - ECPv6.15.20//NONSGML v1.0//EN
CALSCALE:GREGORIAN
METHOD:PUBLISH
X-ORIGINAL-URL:https://monet.gipreview.com
X-WR-CALDESC:Events for Sandpiper
REFRESH-INTERVAL;VALUE=DURATION:PT1H
X-Robots-Tag:noindex
X-PUBLISHED-TTL:PT1H
BEGIN:VTIMEZONE
TZID:America/New_York
BEGIN:DAYLIGHT
TZOFFSETFROM:-0500
TZOFFSETTO:-0400
TZNAME:EDT
DTSTART:20270314T070000
END:DAYLIGHT
BEGIN:STANDARD
TZOFFSETFROM:-0400
TZOFFSETTO:-0500
TZNAME:EST
DTSTART:20271107T060000
END:STANDARD
BEGIN:DAYLIGHT
TZOFFSETFROM:-0500
TZOFFSETTO:-0400
TZNAME:EDT
DTSTART:20280312T070000
END:DAYLIGHT
BEGIN:STANDARD
TZOFFSETFROM:-0400
TZOFFSETTO:-0500
TZNAME:EST
DTSTART:20281105T060000
END:STANDARD
BEGIN:DAYLIGHT
TZOFFSETFROM:-0500
TZOFFSETTO:-0400
TZNAME:EDT
DTSTART:20290311T070000
END:DAYLIGHT
BEGIN:STANDARD
TZOFFSETFROM:-0400
TZOFFSETTO:-0500
TZNAME:EST
DTSTART:20291104T060000
END:STANDARD
END:VTIMEZONE
BEGIN:VEVENT
DTSTART;TZID=America/New_York:20280125T100000
DTEND;TZID=America/New_York:20280125T110000
DTSTAMP:20260421T115620
CREATED:20260304T225246Z
LAST-MODIFIED:20260304T225246Z
UID:990010027-1832407200-1832410800@monet.gipreview.com
SUMMARY:Senior Chair Yoga & Strength
DESCRIPTION:Chair Yoga & Strength \nA gentle\, low-impact class designed to improve flexibility\, balance\, and strength while using a chair for support. Participants will enjoy simple yoga stretches combined with light strength exercises to help build muscle\, enhance mobility\, and support overall wellness. Perfect for all fitness levels and ideal for seniors looking to stay active in a safe and comfortable way.
URL:https://monet.gipreview.com/event/senior-chair-yoga-strength/2028-01-25/
LOCATION:Eastside Tennis Courts
CATEGORIES:Community Activity
ATTACH;FMTTYPE=image/png:https://monet.gipreview.com/wp-content/uploads/2026/03/Chair-yoga-for-seniors-in-session.png
END:VEVENT
BEGIN:VEVENT
DTSTART;TZID=America/New_York:20280131T080000
DTEND;TZID=America/New_York:20280131T100000
DTSTAMP:20260421T115620
CREATED:20260304T230635Z
LAST-MODIFIED:20260304T230635Z
UID:990010289-1832918400-1832925600@monet.gipreview.com
SUMMARY:Tennis
DESCRIPTION:Tennis is a fun and engaging sport that promotes fitness\, coordination\, and social interaction. Players use a racket to hit a ball over a net\, improving balance\, agility\, and cardiovascular health while enjoying friendly competition. Whether played for exercise or recreation\, tennis is a great way to stay active and have fun outdoors. 🎾
URL:https://monet.gipreview.com/event/tennis/2028-01-31/
LOCATION:Eastside Tennis Courts
CATEGORIES:Community Activity
ATTACH;FMTTYPE=image/webp:https://monet.gipreview.com/wp-content/uploads/2026/03/Sandpiper-East-Side-Tennis-Courts.webp
END:VEVENT
BEGIN:VEVENT
DTSTART;TZID=America/New_York:20280201T100000
DTEND;TZID=America/New_York:20280201T110000
DTSTAMP:20260421T115620
CREATED:20260304T225246Z
LAST-MODIFIED:20260304T225246Z
UID:990010028-1833012000-1833015600@monet.gipreview.com
SUMMARY:Senior Chair Yoga & Strength
DESCRIPTION:Chair Yoga & Strength \nA gentle\, low-impact class designed to improve flexibility\, balance\, and strength while using a chair for support. Participants will enjoy simple yoga stretches combined with light strength exercises to help build muscle\, enhance mobility\, and support overall wellness. Perfect for all fitness levels and ideal for seniors looking to stay active in a safe and comfortable way.
URL:https://monet.gipreview.com/event/senior-chair-yoga-strength/2028-02-01/
LOCATION:Eastside Tennis Courts
CATEGORIES:Community Activity
ATTACH;FMTTYPE=image/png:https://monet.gipreview.com/wp-content/uploads/2026/03/Chair-yoga-for-seniors-in-session.png
END:VEVENT
BEGIN:VEVENT
DTSTART;TZID=America/New_York:20280207T080000
DTEND;TZID=America/New_York:20280207T100000
DTSTAMP:20260421T115620
CREATED:20260304T230635Z
LAST-MODIFIED:20260304T230635Z
UID:990010290-1833523200-1833530400@monet.gipreview.com
SUMMARY:Tennis
DESCRIPTION:Tennis is a fun and engaging sport that promotes fitness\, coordination\, and social interaction. Players use a racket to hit a ball over a net\, improving balance\, agility\, and cardiovascular health while enjoying friendly competition. Whether played for exercise or recreation\, tennis is a great way to stay active and have fun outdoors. 🎾
URL:https://monet.gipreview.com/event/tennis/2028-02-07/
LOCATION:Eastside Tennis Courts
CATEGORIES:Community Activity
ATTACH;FMTTYPE=image/webp:https://monet.gipreview.com/wp-content/uploads/2026/03/Sandpiper-East-Side-Tennis-Courts.webp
END:VEVENT
BEGIN:VEVENT
DTSTART;TZID=America/New_York:20280208T100000
DTEND;TZID=America/New_York:20280208T110000
DTSTAMP:20260421T115620
CREATED:20260304T225246Z
LAST-MODIFIED:20260304T225246Z
UID:990010029-1833616800-1833620400@monet.gipreview.com
SUMMARY:Senior Chair Yoga & Strength
DESCRIPTION:Chair Yoga & Strength \nA gentle\, low-impact class designed to improve flexibility\, balance\, and strength while using a chair for support. Participants will enjoy simple yoga stretches combined with light strength exercises to help build muscle\, enhance mobility\, and support overall wellness. Perfect for all fitness levels and ideal for seniors looking to stay active in a safe and comfortable way.
URL:https://monet.gipreview.com/event/senior-chair-yoga-strength/2028-02-08/
LOCATION:Eastside Tennis Courts
CATEGORIES:Community Activity
ATTACH;FMTTYPE=image/png:https://monet.gipreview.com/wp-content/uploads/2026/03/Chair-yoga-for-seniors-in-session.png
END:VEVENT
BEGIN:VEVENT
DTSTART;TZID=America/New_York:20280214T080000
DTEND;TZID=America/New_York:20280214T100000
DTSTAMP:20260421T115620
CREATED:20260304T230635Z
LAST-MODIFIED:20260304T230635Z
UID:990010291-1834128000-1834135200@monet.gipreview.com
SUMMARY:Tennis
DESCRIPTION:Tennis is a fun and engaging sport that promotes fitness\, coordination\, and social interaction. Players use a racket to hit a ball over a net\, improving balance\, agility\, and cardiovascular health while enjoying friendly competition. Whether played for exercise or recreation\, tennis is a great way to stay active and have fun outdoors. 🎾
URL:https://monet.gipreview.com/event/tennis/2028-02-14/
LOCATION:Eastside Tennis Courts
CATEGORIES:Community Activity
ATTACH;FMTTYPE=image/webp:https://monet.gipreview.com/wp-content/uploads/2026/03/Sandpiper-East-Side-Tennis-Courts.webp
END:VEVENT
BEGIN:VEVENT
DTSTART;TZID=America/New_York:20280215T100000
DTEND;TZID=America/New_York:20280215T110000
DTSTAMP:20260421T115620
CREATED:20260304T225246Z
LAST-MODIFIED:20260304T225246Z
UID:990010030-1834221600-1834225200@monet.gipreview.com
SUMMARY:Senior Chair Yoga & Strength
DESCRIPTION:Chair Yoga & Strength \nA gentle\, low-impact class designed to improve flexibility\, balance\, and strength while using a chair for support. Participants will enjoy simple yoga stretches combined with light strength exercises to help build muscle\, enhance mobility\, and support overall wellness. Perfect for all fitness levels and ideal for seniors looking to stay active in a safe and comfortable way.
URL:https://monet.gipreview.com/event/senior-chair-yoga-strength/2028-02-15/
LOCATION:Eastside Tennis Courts
CATEGORIES:Community Activity
ATTACH;FMTTYPE=image/png:https://monet.gipreview.com/wp-content/uploads/2026/03/Chair-yoga-for-seniors-in-session.png
END:VEVENT
BEGIN:VEVENT
DTSTART;TZID=America/New_York:20280221T080000
DTEND;TZID=America/New_York:20280221T100000
DTSTAMP:20260421T115620
CREATED:20260304T230635Z
LAST-MODIFIED:20260304T230635Z
UID:990010292-1834732800-1834740000@monet.gipreview.com
SUMMARY:Tennis
DESCRIPTION:Tennis is a fun and engaging sport that promotes fitness\, coordination\, and social interaction. Players use a racket to hit a ball over a net\, improving balance\, agility\, and cardiovascular health while enjoying friendly competition. Whether played for exercise or recreation\, tennis is a great way to stay active and have fun outdoors. 🎾
URL:https://monet.gipreview.com/event/tennis/2028-02-21/
LOCATION:Eastside Tennis Courts
CATEGORIES:Community Activity
ATTACH;FMTTYPE=image/webp:https://monet.gipreview.com/wp-content/uploads/2026/03/Sandpiper-East-Side-Tennis-Courts.webp
END:VEVENT
BEGIN:VEVENT
DTSTART;TZID=America/New_York:20280222T100000
DTEND;TZID=America/New_York:20280222T110000
DTSTAMP:20260421T115620
CREATED:20260304T225246Z
LAST-MODIFIED:20260304T225246Z
UID:990010031-1834826400-1834830000@monet.gipreview.com
SUMMARY:Senior Chair Yoga & Strength
DESCRIPTION:Chair Yoga & Strength \nA gentle\, low-impact class designed to improve flexibility\, balance\, and strength while using a chair for support. Participants will enjoy simple yoga stretches combined with light strength exercises to help build muscle\, enhance mobility\, and support overall wellness. Perfect for all fitness levels and ideal for seniors looking to stay active in a safe and comfortable way.
URL:https://monet.gipreview.com/event/senior-chair-yoga-strength/2028-02-22/
LOCATION:Eastside Tennis Courts
CATEGORIES:Community Activity
ATTACH;FMTTYPE=image/png:https://monet.gipreview.com/wp-content/uploads/2026/03/Chair-yoga-for-seniors-in-session.png
END:VEVENT
BEGIN:VEVENT
DTSTART;TZID=America/New_York:20280228T080000
DTEND;TZID=America/New_York:20280228T100000
DTSTAMP:20260421T115620
CREATED:20260304T230635Z
LAST-MODIFIED:20260304T230635Z
UID:990010293-1835337600-1835344800@monet.gipreview.com
SUMMARY:Tennis
DESCRIPTION:Tennis is a fun and engaging sport that promotes fitness\, coordination\, and social interaction. Players use a racket to hit a ball over a net\, improving balance\, agility\, and cardiovascular health while enjoying friendly competition. Whether played for exercise or recreation\, tennis is a great way to stay active and have fun outdoors. 🎾
URL:https://monet.gipreview.com/event/tennis/2028-02-28/
LOCATION:Eastside Tennis Courts
CATEGORIES:Community Activity
ATTACH;FMTTYPE=image/webp:https://monet.gipreview.com/wp-content/uploads/2026/03/Sandpiper-East-Side-Tennis-Courts.webp
END:VEVENT
BEGIN:VEVENT
DTSTART;TZID=America/New_York:20280229T100000
DTEND;TZID=America/New_York:20280229T110000
DTSTAMP:20260421T115620
CREATED:20260304T225246Z
LAST-MODIFIED:20260304T225246Z
UID:990010032-1835431200-1835434800@monet.gipreview.com
SUMMARY:Senior Chair Yoga & Strength
DESCRIPTION:Chair Yoga & Strength \nA gentle\, low-impact class designed to improve flexibility\, balance\, and strength while using a chair for support. Participants will enjoy simple yoga stretches combined with light strength exercises to help build muscle\, enhance mobility\, and support overall wellness. Perfect for all fitness levels and ideal for seniors looking to stay active in a safe and comfortable way.
URL:https://monet.gipreview.com/event/senior-chair-yoga-strength/2028-02-29/
LOCATION:Eastside Tennis Courts
CATEGORIES:Community Activity
ATTACH;FMTTYPE=image/png:https://monet.gipreview.com/wp-content/uploads/2026/03/Chair-yoga-for-seniors-in-session.png
END:VEVENT
BEGIN:VEVENT
DTSTART;TZID=America/New_York:20280306T080000
DTEND;TZID=America/New_York:20280306T100000
DTSTAMP:20260421T115620
CREATED:20260304T230635Z
LAST-MODIFIED:20260304T230635Z
UID:990010294-1835942400-1835949600@monet.gipreview.com
SUMMARY:Tennis
DESCRIPTION:Tennis is a fun and engaging sport that promotes fitness\, coordination\, and social interaction. Players use a racket to hit a ball over a net\, improving balance\, agility\, and cardiovascular health while enjoying friendly competition. Whether played for exercise or recreation\, tennis is a great way to stay active and have fun outdoors. 🎾
URL:https://monet.gipreview.com/event/tennis/2028-03-06/
LOCATION:Eastside Tennis Courts
CATEGORIES:Community Activity
ATTACH;FMTTYPE=image/webp:https://monet.gipreview.com/wp-content/uploads/2026/03/Sandpiper-East-Side-Tennis-Courts.webp
END:VEVENT
BEGIN:VEVENT
DTSTART;TZID=America/New_York:20280307T100000
DTEND;TZID=America/New_York:20280307T110000
DTSTAMP:20260421T115620
CREATED:20260304T225246Z
LAST-MODIFIED:20260304T225246Z
UID:990010033-1836036000-1836039600@monet.gipreview.com
SUMMARY:Senior Chair Yoga & Strength
DESCRIPTION:Chair Yoga & Strength \nA gentle\, low-impact class designed to improve flexibility\, balance\, and strength while using a chair for support. Participants will enjoy simple yoga stretches combined with light strength exercises to help build muscle\, enhance mobility\, and support overall wellness. Perfect for all fitness levels and ideal for seniors looking to stay active in a safe and comfortable way.
URL:https://monet.gipreview.com/event/senior-chair-yoga-strength/2028-03-07/
LOCATION:Eastside Tennis Courts
CATEGORIES:Community Activity
ATTACH;FMTTYPE=image/png:https://monet.gipreview.com/wp-content/uploads/2026/03/Chair-yoga-for-seniors-in-session.png
END:VEVENT
BEGIN:VEVENT
DTSTART;TZID=America/New_York:20280313T080000
DTEND;TZID=America/New_York:20280313T100000
DTSTAMP:20260421T115621
CREATED:20260304T230635Z
LAST-MODIFIED:20260304T230635Z
UID:990010295-1836547200-1836554400@monet.gipreview.com
SUMMARY:Tennis
DESCRIPTION:Tennis is a fun and engaging sport that promotes fitness\, coordination\, and social interaction. Players use a racket to hit a ball over a net\, improving balance\, agility\, and cardiovascular health while enjoying friendly competition. Whether played for exercise or recreation\, tennis is a great way to stay active and have fun outdoors. 🎾
URL:https://monet.gipreview.com/event/tennis/2028-03-13/
LOCATION:Eastside Tennis Courts
CATEGORIES:Community Activity
ATTACH;FMTTYPE=image/webp:https://monet.gipreview.com/wp-content/uploads/2026/03/Sandpiper-East-Side-Tennis-Courts.webp
END:VEVENT
BEGIN:VEVENT
DTSTART;TZID=America/New_York:20280314T100000
DTEND;TZID=America/New_York:20280314T110000
DTSTAMP:20260421T115621
CREATED:20260304T225246Z
LAST-MODIFIED:20260304T225246Z
UID:990010034-1836640800-1836644400@monet.gipreview.com
SUMMARY:Senior Chair Yoga & Strength
DESCRIPTION:Chair Yoga & Strength \nA gentle\, low-impact class designed to improve flexibility\, balance\, and strength while using a chair for support. Participants will enjoy simple yoga stretches combined with light strength exercises to help build muscle\, enhance mobility\, and support overall wellness. Perfect for all fitness levels and ideal for seniors looking to stay active in a safe and comfortable way.
URL:https://monet.gipreview.com/event/senior-chair-yoga-strength/2028-03-14/
LOCATION:Eastside Tennis Courts
CATEGORIES:Community Activity
ATTACH;FMTTYPE=image/png:https://monet.gipreview.com/wp-content/uploads/2026/03/Chair-yoga-for-seniors-in-session.png
END:VEVENT
BEGIN:VEVENT
DTSTART;TZID=America/New_York:20280320T080000
DTEND;TZID=America/New_York:20280320T100000
DTSTAMP:20260421T115621
CREATED:20260304T230635Z
LAST-MODIFIED:20260304T230635Z
UID:990010296-1837152000-1837159200@monet.gipreview.com
SUMMARY:Tennis
DESCRIPTION:Tennis is a fun and engaging sport that promotes fitness\, coordination\, and social interaction. Players use a racket to hit a ball over a net\, improving balance\, agility\, and cardiovascular health while enjoying friendly competition. Whether played for exercise or recreation\, tennis is a great way to stay active and have fun outdoors. 🎾
URL:https://monet.gipreview.com/event/tennis/2028-03-20/
LOCATION:Eastside Tennis Courts
CATEGORIES:Community Activity
ATTACH;FMTTYPE=image/webp:https://monet.gipreview.com/wp-content/uploads/2026/03/Sandpiper-East-Side-Tennis-Courts.webp
END:VEVENT
BEGIN:VEVENT
DTSTART;TZID=America/New_York:20280321T100000
DTEND;TZID=America/New_York:20280321T110000
DTSTAMP:20260421T115621
CREATED:20260304T225246Z
LAST-MODIFIED:20260304T225246Z
UID:990010035-1837245600-1837249200@monet.gipreview.com
SUMMARY:Senior Chair Yoga & Strength
DESCRIPTION:Chair Yoga & Strength \nA gentle\, low-impact class designed to improve flexibility\, balance\, and strength while using a chair for support. Participants will enjoy simple yoga stretches combined with light strength exercises to help build muscle\, enhance mobility\, and support overall wellness. Perfect for all fitness levels and ideal for seniors looking to stay active in a safe and comfortable way.
URL:https://monet.gipreview.com/event/senior-chair-yoga-strength/2028-03-21/
LOCATION:Eastside Tennis Courts
CATEGORIES:Community Activity
ATTACH;FMTTYPE=image/png:https://monet.gipreview.com/wp-content/uploads/2026/03/Chair-yoga-for-seniors-in-session.png
END:VEVENT
BEGIN:VEVENT
DTSTART;TZID=America/New_York:20280327T080000
DTEND;TZID=America/New_York:20280327T100000
DTSTAMP:20260421T115621
CREATED:20260304T230635Z
LAST-MODIFIED:20260304T230635Z
UID:990010297-1837756800-1837764000@monet.gipreview.com
SUMMARY:Tennis
DESCRIPTION:Tennis is a fun and engaging sport that promotes fitness\, coordination\, and social interaction. Players use a racket to hit a ball over a net\, improving balance\, agility\, and cardiovascular health while enjoying friendly competition. Whether played for exercise or recreation\, tennis is a great way to stay active and have fun outdoors. 🎾
URL:https://monet.gipreview.com/event/tennis/2028-03-27/
LOCATION:Eastside Tennis Courts
CATEGORIES:Community Activity
ATTACH;FMTTYPE=image/webp:https://monet.gipreview.com/wp-content/uploads/2026/03/Sandpiper-East-Side-Tennis-Courts.webp
END:VEVENT
BEGIN:VEVENT
DTSTART;TZID=America/New_York:20280328T100000
DTEND;TZID=America/New_York:20280328T110000
DTSTAMP:20260421T115621
CREATED:20260304T225246Z
LAST-MODIFIED:20260304T225246Z
UID:990010036-1837850400-1837854000@monet.gipreview.com
SUMMARY:Senior Chair Yoga & Strength
DESCRIPTION:Chair Yoga & Strength \nA gentle\, low-impact class designed to improve flexibility\, balance\, and strength while using a chair for support. Participants will enjoy simple yoga stretches combined with light strength exercises to help build muscle\, enhance mobility\, and support overall wellness. Perfect for all fitness levels and ideal for seniors looking to stay active in a safe and comfortable way.
URL:https://monet.gipreview.com/event/senior-chair-yoga-strength/2028-03-28/
LOCATION:Eastside Tennis Courts
CATEGORIES:Community Activity
ATTACH;FMTTYPE=image/png:https://monet.gipreview.com/wp-content/uploads/2026/03/Chair-yoga-for-seniors-in-session.png
END:VEVENT
BEGIN:VEVENT
DTSTART;TZID=America/New_York:20280403T080000
DTEND;TZID=America/New_York:20280403T100000
DTSTAMP:20260421T115621
CREATED:20260304T230635Z
LAST-MODIFIED:20260304T230635Z
UID:990010298-1838361600-1838368800@monet.gipreview.com
SUMMARY:Tennis
DESCRIPTION:Tennis is a fun and engaging sport that promotes fitness\, coordination\, and social interaction. Players use a racket to hit a ball over a net\, improving balance\, agility\, and cardiovascular health while enjoying friendly competition. Whether played for exercise or recreation\, tennis is a great way to stay active and have fun outdoors. 🎾
URL:https://monet.gipreview.com/event/tennis/2028-04-03/
LOCATION:Eastside Tennis Courts
CATEGORIES:Community Activity
ATTACH;FMTTYPE=image/webp:https://monet.gipreview.com/wp-content/uploads/2026/03/Sandpiper-East-Side-Tennis-Courts.webp
END:VEVENT
BEGIN:VEVENT
DTSTART;TZID=America/New_York:20280404T100000
DTEND;TZID=America/New_York:20280404T110000
DTSTAMP:20260421T115621
CREATED:20260304T225246Z
LAST-MODIFIED:20260304T225246Z
UID:990010037-1838455200-1838458800@monet.gipreview.com
SUMMARY:Senior Chair Yoga & Strength
DESCRIPTION:Chair Yoga & Strength \nA gentle\, low-impact class designed to improve flexibility\, balance\, and strength while using a chair for support. Participants will enjoy simple yoga stretches combined with light strength exercises to help build muscle\, enhance mobility\, and support overall wellness. Perfect for all fitness levels and ideal for seniors looking to stay active in a safe and comfortable way.
URL:https://monet.gipreview.com/event/senior-chair-yoga-strength/2028-04-04/
LOCATION:Eastside Tennis Courts
CATEGORIES:Community Activity
ATTACH;FMTTYPE=image/png:https://monet.gipreview.com/wp-content/uploads/2026/03/Chair-yoga-for-seniors-in-session.png
END:VEVENT
BEGIN:VEVENT
DTSTART;TZID=America/New_York:20280410T080000
DTEND;TZID=America/New_York:20280410T100000
DTSTAMP:20260421T115621
CREATED:20260304T230635Z
LAST-MODIFIED:20260304T230635Z
UID:990010299-1838966400-1838973600@monet.gipreview.com
SUMMARY:Tennis
DESCRIPTION:Tennis is a fun and engaging sport that promotes fitness\, coordination\, and social interaction. Players use a racket to hit a ball over a net\, improving balance\, agility\, and cardiovascular health while enjoying friendly competition. Whether played for exercise or recreation\, tennis is a great way to stay active and have fun outdoors. 🎾
URL:https://monet.gipreview.com/event/tennis/2028-04-10/
LOCATION:Eastside Tennis Courts
CATEGORIES:Community Activity
ATTACH;FMTTYPE=image/webp:https://monet.gipreview.com/wp-content/uploads/2026/03/Sandpiper-East-Side-Tennis-Courts.webp
END:VEVENT
BEGIN:VEVENT
DTSTART;TZID=America/New_York:20280411T100000
DTEND;TZID=America/New_York:20280411T110000
DTSTAMP:20260421T115621
CREATED:20260304T225246Z
LAST-MODIFIED:20260304T225246Z
UID:990010038-1839060000-1839063600@monet.gipreview.com
SUMMARY:Senior Chair Yoga & Strength
DESCRIPTION:Chair Yoga & Strength \nA gentle\, low-impact class designed to improve flexibility\, balance\, and strength while using a chair for support. Participants will enjoy simple yoga stretches combined with light strength exercises to help build muscle\, enhance mobility\, and support overall wellness. Perfect for all fitness levels and ideal for seniors looking to stay active in a safe and comfortable way.
URL:https://monet.gipreview.com/event/senior-chair-yoga-strength/2028-04-11/
LOCATION:Eastside Tennis Courts
CATEGORIES:Community Activity
ATTACH;FMTTYPE=image/png:https://monet.gipreview.com/wp-content/uploads/2026/03/Chair-yoga-for-seniors-in-session.png
END:VEVENT
BEGIN:VEVENT
DTSTART;TZID=America/New_York:20280417T080000
DTEND;TZID=America/New_York:20280417T100000
DTSTAMP:20260421T115621
CREATED:20260304T230635Z
LAST-MODIFIED:20260304T230635Z
UID:990010300-1839571200-1839578400@monet.gipreview.com
SUMMARY:Tennis
DESCRIPTION:Tennis is a fun and engaging sport that promotes fitness\, coordination\, and social interaction. Players use a racket to hit a ball over a net\, improving balance\, agility\, and cardiovascular health while enjoying friendly competition. Whether played for exercise or recreation\, tennis is a great way to stay active and have fun outdoors. 🎾
URL:https://monet.gipreview.com/event/tennis/2028-04-17/
LOCATION:Eastside Tennis Courts
CATEGORIES:Community Activity
ATTACH;FMTTYPE=image/webp:https://monet.gipreview.com/wp-content/uploads/2026/03/Sandpiper-East-Side-Tennis-Courts.webp
END:VEVENT
BEGIN:VEVENT
DTSTART;TZID=America/New_York:20280418T100000
DTEND;TZID=America/New_York:20280418T110000
DTSTAMP:20260421T115621
CREATED:20260304T225246Z
LAST-MODIFIED:20260304T225246Z
UID:990010039-1839664800-1839668400@monet.gipreview.com
SUMMARY:Senior Chair Yoga & Strength
DESCRIPTION:Chair Yoga & Strength \nA gentle\, low-impact class designed to improve flexibility\, balance\, and strength while using a chair for support. Participants will enjoy simple yoga stretches combined with light strength exercises to help build muscle\, enhance mobility\, and support overall wellness. Perfect for all fitness levels and ideal for seniors looking to stay active in a safe and comfortable way.
URL:https://monet.gipreview.com/event/senior-chair-yoga-strength/2028-04-18/
LOCATION:Eastside Tennis Courts
CATEGORIES:Community Activity
ATTACH;FMTTYPE=image/png:https://monet.gipreview.com/wp-content/uploads/2026/03/Chair-yoga-for-seniors-in-session.png
END:VEVENT
BEGIN:VEVENT
DTSTART;TZID=America/New_York:20280424T080000
DTEND;TZID=America/New_York:20280424T100000
DTSTAMP:20260421T115621
CREATED:20260304T230635Z
LAST-MODIFIED:20260304T230635Z
UID:990010301-1840176000-1840183200@monet.gipreview.com
SUMMARY:Tennis
DESCRIPTION:Tennis is a fun and engaging sport that promotes fitness\, coordination\, and social interaction. Players use a racket to hit a ball over a net\, improving balance\, agility\, and cardiovascular health while enjoying friendly competition. Whether played for exercise or recreation\, tennis is a great way to stay active and have fun outdoors. 🎾
URL:https://monet.gipreview.com/event/tennis/2028-04-24/
LOCATION:Eastside Tennis Courts
CATEGORIES:Community Activity
ATTACH;FMTTYPE=image/webp:https://monet.gipreview.com/wp-content/uploads/2026/03/Sandpiper-East-Side-Tennis-Courts.webp
END:VEVENT
BEGIN:VEVENT
DTSTART;TZID=America/New_York:20280425T100000
DTEND;TZID=America/New_York:20280425T110000
DTSTAMP:20260421T115621
CREATED:20260304T225246Z
LAST-MODIFIED:20260304T225246Z
UID:990010040-1840269600-1840273200@monet.gipreview.com
SUMMARY:Senior Chair Yoga & Strength
DESCRIPTION:Chair Yoga & Strength \nA gentle\, low-impact class designed to improve flexibility\, balance\, and strength while using a chair for support. Participants will enjoy simple yoga stretches combined with light strength exercises to help build muscle\, enhance mobility\, and support overall wellness. Perfect for all fitness levels and ideal for seniors looking to stay active in a safe and comfortable way.
URL:https://monet.gipreview.com/event/senior-chair-yoga-strength/2028-04-25/
LOCATION:Eastside Tennis Courts
CATEGORIES:Community Activity
ATTACH;FMTTYPE=image/png:https://monet.gipreview.com/wp-content/uploads/2026/03/Chair-yoga-for-seniors-in-session.png
END:VEVENT
BEGIN:VEVENT
DTSTART;TZID=America/New_York:20280501T080000
DTEND;TZID=America/New_York:20280501T100000
DTSTAMP:20260421T115621
CREATED:20260304T230635Z
LAST-MODIFIED:20260304T230635Z
UID:990010302-1840780800-1840788000@monet.gipreview.com
SUMMARY:Tennis
DESCRIPTION:Tennis is a fun and engaging sport that promotes fitness\, coordination\, and social interaction. Players use a racket to hit a ball over a net\, improving balance\, agility\, and cardiovascular health while enjoying friendly competition. Whether played for exercise or recreation\, tennis is a great way to stay active and have fun outdoors. 🎾
URL:https://monet.gipreview.com/event/tennis/2028-05-01/
LOCATION:Eastside Tennis Courts
CATEGORIES:Community Activity
ATTACH;FMTTYPE=image/webp:https://monet.gipreview.com/wp-content/uploads/2026/03/Sandpiper-East-Side-Tennis-Courts.webp
END:VEVENT
BEGIN:VEVENT
DTSTART;TZID=America/New_York:20280502T100000
DTEND;TZID=America/New_York:20280502T110000
DTSTAMP:20260421T115621
CREATED:20260304T225246Z
LAST-MODIFIED:20260304T225246Z
UID:990010041-1840874400-1840878000@monet.gipreview.com
SUMMARY:Senior Chair Yoga & Strength
DESCRIPTION:Chair Yoga & Strength \nA gentle\, low-impact class designed to improve flexibility\, balance\, and strength while using a chair for support. Participants will enjoy simple yoga stretches combined with light strength exercises to help build muscle\, enhance mobility\, and support overall wellness. Perfect for all fitness levels and ideal for seniors looking to stay active in a safe and comfortable way.
URL:https://monet.gipreview.com/event/senior-chair-yoga-strength/2028-05-02/
LOCATION:Eastside Tennis Courts
CATEGORIES:Community Activity
ATTACH;FMTTYPE=image/png:https://monet.gipreview.com/wp-content/uploads/2026/03/Chair-yoga-for-seniors-in-session.png
END:VEVENT
BEGIN:VEVENT
DTSTART;TZID=America/New_York:20280508T080000
DTEND;TZID=America/New_York:20280508T100000
DTSTAMP:20260421T115621
CREATED:20260304T230635Z
LAST-MODIFIED:20260304T230635Z
UID:990010303-1841385600-1841392800@monet.gipreview.com
SUMMARY:Tennis
DESCRIPTION:Tennis is a fun and engaging sport that promotes fitness\, coordination\, and social interaction. Players use a racket to hit a ball over a net\, improving balance\, agility\, and cardiovascular health while enjoying friendly competition. Whether played for exercise or recreation\, tennis is a great way to stay active and have fun outdoors. 🎾
URL:https://monet.gipreview.com/event/tennis/2028-05-08/
LOCATION:Eastside Tennis Courts
CATEGORIES:Community Activity
ATTACH;FMTTYPE=image/webp:https://monet.gipreview.com/wp-content/uploads/2026/03/Sandpiper-East-Side-Tennis-Courts.webp
END:VEVENT
END:VCALENDAR