BEGIN:VCALENDAR
VERSION:2.0
PRODID:-//Sandpiper - ECPv6.15.20//NONSGML v1.0//EN
CALSCALE:GREGORIAN
METHOD:PUBLISH
X-ORIGINAL-URL:https://monet.gipreview.com
X-WR-CALDESC:Events for Sandpiper
REFRESH-INTERVAL;VALUE=DURATION:PT1H
X-Robots-Tag:noindex
X-PUBLISHED-TTL:PT1H
BEGIN:VTIMEZONE
TZID:America/New_York
BEGIN:DAYLIGHT
TZOFFSETFROM:-0500
TZOFFSETTO:-0400
TZNAME:EDT
DTSTART:20280312T070000
END:DAYLIGHT
BEGIN:STANDARD
TZOFFSETFROM:-0400
TZOFFSETTO:-0500
TZNAME:EST
DTSTART:20281105T060000
END:STANDARD
BEGIN:DAYLIGHT
TZOFFSETFROM:-0500
TZOFFSETTO:-0400
TZNAME:EDT
DTSTART:20290311T070000
END:DAYLIGHT
BEGIN:STANDARD
TZOFFSETFROM:-0400
TZOFFSETTO:-0500
TZNAME:EST
DTSTART:20291104T060000
END:STANDARD
BEGIN:DAYLIGHT
TZOFFSETFROM:-0500
TZOFFSETTO:-0400
TZNAME:EDT
DTSTART:20300310T070000
END:DAYLIGHT
BEGIN:STANDARD
TZOFFSETFROM:-0400
TZOFFSETTO:-0500
TZNAME:EST
DTSTART:20301103T060000
END:STANDARD
END:VTIMEZONE
BEGIN:VEVENT
DTSTART;TZID=America/New_York:20290423T080000
DTEND;TZID=America/New_York:20290423T100000
DTSTAMP:20260425T230716
CREATED:20260304T230635Z
LAST-MODIFIED:20260304T230635Z
UID:990010353-1871625600-1871632800@monet.gipreview.com
SUMMARY:Tennis
DESCRIPTION:Tennis is a fun and engaging sport that promotes fitness\, coordination\, and social interaction. Players use a racket to hit a ball over a net\, improving balance\, agility\, and cardiovascular health while enjoying friendly competition. Whether played for exercise or recreation\, tennis is a great way to stay active and have fun outdoors. 🎾
URL:https://monet.gipreview.com/event/tennis/2029-04-23/
LOCATION:Eastside Tennis Courts
CATEGORIES:Community Activity
ATTACH;FMTTYPE=image/webp:https://monet.gipreview.com/wp-content/uploads/2026/03/Sandpiper-East-Side-Tennis-Courts.webp
END:VEVENT
BEGIN:VEVENT
DTSTART;TZID=America/New_York:20290424T100000
DTEND;TZID=America/New_York:20290424T110000
DTSTAMP:20260425T230716
CREATED:20260304T225246Z
LAST-MODIFIED:20260304T225246Z
UID:990010092-1871719200-1871722800@monet.gipreview.com
SUMMARY:Senior Chair Yoga & Strength
DESCRIPTION:Chair Yoga & Strength \nA gentle\, low-impact class designed to improve flexibility\, balance\, and strength while using a chair for support. Participants will enjoy simple yoga stretches combined with light strength exercises to help build muscle\, enhance mobility\, and support overall wellness. Perfect for all fitness levels and ideal for seniors looking to stay active in a safe and comfortable way.
URL:https://monet.gipreview.com/event/senior-chair-yoga-strength/2029-04-24/
LOCATION:Eastside Tennis Courts
CATEGORIES:Community Activity
ATTACH;FMTTYPE=image/png:https://monet.gipreview.com/wp-content/uploads/2026/03/Chair-yoga-for-seniors-in-session.png
END:VEVENT
BEGIN:VEVENT
DTSTART;TZID=America/New_York:20290430T080000
DTEND;TZID=America/New_York:20290430T100000
DTSTAMP:20260425T230716
CREATED:20260304T230635Z
LAST-MODIFIED:20260304T230635Z
UID:990010354-1872230400-1872237600@monet.gipreview.com
SUMMARY:Tennis
DESCRIPTION:Tennis is a fun and engaging sport that promotes fitness\, coordination\, and social interaction. Players use a racket to hit a ball over a net\, improving balance\, agility\, and cardiovascular health while enjoying friendly competition. Whether played for exercise or recreation\, tennis is a great way to stay active and have fun outdoors. 🎾
URL:https://monet.gipreview.com/event/tennis/2029-04-30/
LOCATION:Eastside Tennis Courts
CATEGORIES:Community Activity
ATTACH;FMTTYPE=image/webp:https://monet.gipreview.com/wp-content/uploads/2026/03/Sandpiper-East-Side-Tennis-Courts.webp
END:VEVENT
BEGIN:VEVENT
DTSTART;TZID=America/New_York:20290501T100000
DTEND;TZID=America/New_York:20290501T110000
DTSTAMP:20260425T230716
CREATED:20260304T225246Z
LAST-MODIFIED:20260304T225246Z
UID:990010093-1872324000-1872327600@monet.gipreview.com
SUMMARY:Senior Chair Yoga & Strength
DESCRIPTION:Chair Yoga & Strength \nA gentle\, low-impact class designed to improve flexibility\, balance\, and strength while using a chair for support. Participants will enjoy simple yoga stretches combined with light strength exercises to help build muscle\, enhance mobility\, and support overall wellness. Perfect for all fitness levels and ideal for seniors looking to stay active in a safe and comfortable way.
URL:https://monet.gipreview.com/event/senior-chair-yoga-strength/2029-05-01/
LOCATION:Eastside Tennis Courts
CATEGORIES:Community Activity
ATTACH;FMTTYPE=image/png:https://monet.gipreview.com/wp-content/uploads/2026/03/Chair-yoga-for-seniors-in-session.png
END:VEVENT
BEGIN:VEVENT
DTSTART;TZID=America/New_York:20290507T080000
DTEND;TZID=America/New_York:20290507T100000
DTSTAMP:20260425T230716
CREATED:20260304T230635Z
LAST-MODIFIED:20260304T230635Z
UID:990010355-1872835200-1872842400@monet.gipreview.com
SUMMARY:Tennis
DESCRIPTION:Tennis is a fun and engaging sport that promotes fitness\, coordination\, and social interaction. Players use a racket to hit a ball over a net\, improving balance\, agility\, and cardiovascular health while enjoying friendly competition. Whether played for exercise or recreation\, tennis is a great way to stay active and have fun outdoors. 🎾
URL:https://monet.gipreview.com/event/tennis/2029-05-07/
LOCATION:Eastside Tennis Courts
CATEGORIES:Community Activity
ATTACH;FMTTYPE=image/webp:https://monet.gipreview.com/wp-content/uploads/2026/03/Sandpiper-East-Side-Tennis-Courts.webp
END:VEVENT
BEGIN:VEVENT
DTSTART;TZID=America/New_York:20290508T100000
DTEND;TZID=America/New_York:20290508T110000
DTSTAMP:20260425T230716
CREATED:20260304T225246Z
LAST-MODIFIED:20260304T225246Z
UID:990010094-1872928800-1872932400@monet.gipreview.com
SUMMARY:Senior Chair Yoga & Strength
DESCRIPTION:Chair Yoga & Strength \nA gentle\, low-impact class designed to improve flexibility\, balance\, and strength while using a chair for support. Participants will enjoy simple yoga stretches combined with light strength exercises to help build muscle\, enhance mobility\, and support overall wellness. Perfect for all fitness levels and ideal for seniors looking to stay active in a safe and comfortable way.
URL:https://monet.gipreview.com/event/senior-chair-yoga-strength/2029-05-08/
LOCATION:Eastside Tennis Courts
CATEGORIES:Community Activity
ATTACH;FMTTYPE=image/png:https://monet.gipreview.com/wp-content/uploads/2026/03/Chair-yoga-for-seniors-in-session.png
END:VEVENT
BEGIN:VEVENT
DTSTART;TZID=America/New_York:20290514T080000
DTEND;TZID=America/New_York:20290514T100000
DTSTAMP:20260425T230716
CREATED:20260304T230635Z
LAST-MODIFIED:20260304T230635Z
UID:990010356-1873440000-1873447200@monet.gipreview.com
SUMMARY:Tennis
DESCRIPTION:Tennis is a fun and engaging sport that promotes fitness\, coordination\, and social interaction. Players use a racket to hit a ball over a net\, improving balance\, agility\, and cardiovascular health while enjoying friendly competition. Whether played for exercise or recreation\, tennis is a great way to stay active and have fun outdoors. 🎾
URL:https://monet.gipreview.com/event/tennis/2029-05-14/
LOCATION:Eastside Tennis Courts
CATEGORIES:Community Activity
ATTACH;FMTTYPE=image/webp:https://monet.gipreview.com/wp-content/uploads/2026/03/Sandpiper-East-Side-Tennis-Courts.webp
END:VEVENT
BEGIN:VEVENT
DTSTART;TZID=America/New_York:20290515T100000
DTEND;TZID=America/New_York:20290515T110000
DTSTAMP:20260425T230716
CREATED:20260304T225246Z
LAST-MODIFIED:20260304T225246Z
UID:990010095-1873533600-1873537200@monet.gipreview.com
SUMMARY:Senior Chair Yoga & Strength
DESCRIPTION:Chair Yoga & Strength \nA gentle\, low-impact class designed to improve flexibility\, balance\, and strength while using a chair for support. Participants will enjoy simple yoga stretches combined with light strength exercises to help build muscle\, enhance mobility\, and support overall wellness. Perfect for all fitness levels and ideal for seniors looking to stay active in a safe and comfortable way.
URL:https://monet.gipreview.com/event/senior-chair-yoga-strength/2029-05-15/
LOCATION:Eastside Tennis Courts
CATEGORIES:Community Activity
ATTACH;FMTTYPE=image/png:https://monet.gipreview.com/wp-content/uploads/2026/03/Chair-yoga-for-seniors-in-session.png
END:VEVENT
BEGIN:VEVENT
DTSTART;TZID=America/New_York:20290521T080000
DTEND;TZID=America/New_York:20290521T100000
DTSTAMP:20260425T230716
CREATED:20260304T230635Z
LAST-MODIFIED:20260304T230635Z
UID:990010357-1874044800-1874052000@monet.gipreview.com
SUMMARY:Tennis
DESCRIPTION:Tennis is a fun and engaging sport that promotes fitness\, coordination\, and social interaction. Players use a racket to hit a ball over a net\, improving balance\, agility\, and cardiovascular health while enjoying friendly competition. Whether played for exercise or recreation\, tennis is a great way to stay active and have fun outdoors. 🎾
URL:https://monet.gipreview.com/event/tennis/2029-05-21/
LOCATION:Eastside Tennis Courts
CATEGORIES:Community Activity
ATTACH;FMTTYPE=image/webp:https://monet.gipreview.com/wp-content/uploads/2026/03/Sandpiper-East-Side-Tennis-Courts.webp
END:VEVENT
BEGIN:VEVENT
DTSTART;TZID=America/New_York:20290522T100000
DTEND;TZID=America/New_York:20290522T110000
DTSTAMP:20260425T230716
CREATED:20260304T225246Z
LAST-MODIFIED:20260304T225246Z
UID:990010096-1874138400-1874142000@monet.gipreview.com
SUMMARY:Senior Chair Yoga & Strength
DESCRIPTION:Chair Yoga & Strength \nA gentle\, low-impact class designed to improve flexibility\, balance\, and strength while using a chair for support. Participants will enjoy simple yoga stretches combined with light strength exercises to help build muscle\, enhance mobility\, and support overall wellness. Perfect for all fitness levels and ideal for seniors looking to stay active in a safe and comfortable way.
URL:https://monet.gipreview.com/event/senior-chair-yoga-strength/2029-05-22/
LOCATION:Eastside Tennis Courts
CATEGORIES:Community Activity
ATTACH;FMTTYPE=image/png:https://monet.gipreview.com/wp-content/uploads/2026/03/Chair-yoga-for-seniors-in-session.png
END:VEVENT
BEGIN:VEVENT
DTSTART;TZID=America/New_York:20290528T080000
DTEND;TZID=America/New_York:20290528T100000
DTSTAMP:20260425T230716
CREATED:20260304T230635Z
LAST-MODIFIED:20260304T230635Z
UID:990010358-1874649600-1874656800@monet.gipreview.com
SUMMARY:Tennis
DESCRIPTION:Tennis is a fun and engaging sport that promotes fitness\, coordination\, and social interaction. Players use a racket to hit a ball over a net\, improving balance\, agility\, and cardiovascular health while enjoying friendly competition. Whether played for exercise or recreation\, tennis is a great way to stay active and have fun outdoors. 🎾
URL:https://monet.gipreview.com/event/tennis/2029-05-28/
LOCATION:Eastside Tennis Courts
CATEGORIES:Community Activity
ATTACH;FMTTYPE=image/webp:https://monet.gipreview.com/wp-content/uploads/2026/03/Sandpiper-East-Side-Tennis-Courts.webp
END:VEVENT
BEGIN:VEVENT
DTSTART;TZID=America/New_York:20290529T100000
DTEND;TZID=America/New_York:20290529T110000
DTSTAMP:20260425T230716
CREATED:20260304T225246Z
LAST-MODIFIED:20260304T225246Z
UID:990010097-1874743200-1874746800@monet.gipreview.com
SUMMARY:Senior Chair Yoga & Strength
DESCRIPTION:Chair Yoga & Strength \nA gentle\, low-impact class designed to improve flexibility\, balance\, and strength while using a chair for support. Participants will enjoy simple yoga stretches combined with light strength exercises to help build muscle\, enhance mobility\, and support overall wellness. Perfect for all fitness levels and ideal for seniors looking to stay active in a safe and comfortable way.
URL:https://monet.gipreview.com/event/senior-chair-yoga-strength/2029-05-29/
LOCATION:Eastside Tennis Courts
CATEGORIES:Community Activity
ATTACH;FMTTYPE=image/png:https://monet.gipreview.com/wp-content/uploads/2026/03/Chair-yoga-for-seniors-in-session.png
END:VEVENT
BEGIN:VEVENT
DTSTART;TZID=America/New_York:20290604T080000
DTEND;TZID=America/New_York:20290604T100000
DTSTAMP:20260425T230716
CREATED:20260304T230635Z
LAST-MODIFIED:20260304T230635Z
UID:990010359-1875254400-1875261600@monet.gipreview.com
SUMMARY:Tennis
DESCRIPTION:Tennis is a fun and engaging sport that promotes fitness\, coordination\, and social interaction. Players use a racket to hit a ball over a net\, improving balance\, agility\, and cardiovascular health while enjoying friendly competition. Whether played for exercise or recreation\, tennis is a great way to stay active and have fun outdoors. 🎾
URL:https://monet.gipreview.com/event/tennis/2029-06-04/
LOCATION:Eastside Tennis Courts
CATEGORIES:Community Activity
ATTACH;FMTTYPE=image/webp:https://monet.gipreview.com/wp-content/uploads/2026/03/Sandpiper-East-Side-Tennis-Courts.webp
END:VEVENT
BEGIN:VEVENT
DTSTART;TZID=America/New_York:20290605T100000
DTEND;TZID=America/New_York:20290605T110000
DTSTAMP:20260425T230716
CREATED:20260304T225246Z
LAST-MODIFIED:20260304T225246Z
UID:990010098-1875348000-1875351600@monet.gipreview.com
SUMMARY:Senior Chair Yoga & Strength
DESCRIPTION:Chair Yoga & Strength \nA gentle\, low-impact class designed to improve flexibility\, balance\, and strength while using a chair for support. Participants will enjoy simple yoga stretches combined with light strength exercises to help build muscle\, enhance mobility\, and support overall wellness. Perfect for all fitness levels and ideal for seniors looking to stay active in a safe and comfortable way.
URL:https://monet.gipreview.com/event/senior-chair-yoga-strength/2029-06-05/
LOCATION:Eastside Tennis Courts
CATEGORIES:Community Activity
ATTACH;FMTTYPE=image/png:https://monet.gipreview.com/wp-content/uploads/2026/03/Chair-yoga-for-seniors-in-session.png
END:VEVENT
BEGIN:VEVENT
DTSTART;TZID=America/New_York:20290611T080000
DTEND;TZID=America/New_York:20290611T100000
DTSTAMP:20260425T230716
CREATED:20260304T230635Z
LAST-MODIFIED:20260304T230635Z
UID:990010360-1875859200-1875866400@monet.gipreview.com
SUMMARY:Tennis
DESCRIPTION:Tennis is a fun and engaging sport that promotes fitness\, coordination\, and social interaction. Players use a racket to hit a ball over a net\, improving balance\, agility\, and cardiovascular health while enjoying friendly competition. Whether played for exercise or recreation\, tennis is a great way to stay active and have fun outdoors. 🎾
URL:https://monet.gipreview.com/event/tennis/2029-06-11/
LOCATION:Eastside Tennis Courts
CATEGORIES:Community Activity
ATTACH;FMTTYPE=image/webp:https://monet.gipreview.com/wp-content/uploads/2026/03/Sandpiper-East-Side-Tennis-Courts.webp
END:VEVENT
BEGIN:VEVENT
DTSTART;TZID=America/New_York:20290612T100000
DTEND;TZID=America/New_York:20290612T110000
DTSTAMP:20260425T230716
CREATED:20260304T225246Z
LAST-MODIFIED:20260304T225246Z
UID:990010099-1875952800-1875956400@monet.gipreview.com
SUMMARY:Senior Chair Yoga & Strength
DESCRIPTION:Chair Yoga & Strength \nA gentle\, low-impact class designed to improve flexibility\, balance\, and strength while using a chair for support. Participants will enjoy simple yoga stretches combined with light strength exercises to help build muscle\, enhance mobility\, and support overall wellness. Perfect for all fitness levels and ideal for seniors looking to stay active in a safe and comfortable way.
URL:https://monet.gipreview.com/event/senior-chair-yoga-strength/2029-06-12/
LOCATION:Eastside Tennis Courts
CATEGORIES:Community Activity
ATTACH;FMTTYPE=image/png:https://monet.gipreview.com/wp-content/uploads/2026/03/Chair-yoga-for-seniors-in-session.png
END:VEVENT
BEGIN:VEVENT
DTSTART;TZID=America/New_York:20290618T080000
DTEND;TZID=America/New_York:20290618T100000
DTSTAMP:20260425T230716
CREATED:20260304T230635Z
LAST-MODIFIED:20260304T230635Z
UID:990010361-1876464000-1876471200@monet.gipreview.com
SUMMARY:Tennis
DESCRIPTION:Tennis is a fun and engaging sport that promotes fitness\, coordination\, and social interaction. Players use a racket to hit a ball over a net\, improving balance\, agility\, and cardiovascular health while enjoying friendly competition. Whether played for exercise or recreation\, tennis is a great way to stay active and have fun outdoors. 🎾
URL:https://monet.gipreview.com/event/tennis/2029-06-18/
LOCATION:Eastside Tennis Courts
CATEGORIES:Community Activity
ATTACH;FMTTYPE=image/webp:https://monet.gipreview.com/wp-content/uploads/2026/03/Sandpiper-East-Side-Tennis-Courts.webp
END:VEVENT
BEGIN:VEVENT
DTSTART;TZID=America/New_York:20290619T100000
DTEND;TZID=America/New_York:20290619T110000
DTSTAMP:20260425T230716
CREATED:20260304T225246Z
LAST-MODIFIED:20260304T225246Z
UID:990010100-1876557600-1876561200@monet.gipreview.com
SUMMARY:Senior Chair Yoga & Strength
DESCRIPTION:Chair Yoga & Strength \nA gentle\, low-impact class designed to improve flexibility\, balance\, and strength while using a chair for support. Participants will enjoy simple yoga stretches combined with light strength exercises to help build muscle\, enhance mobility\, and support overall wellness. Perfect for all fitness levels and ideal for seniors looking to stay active in a safe and comfortable way.
URL:https://monet.gipreview.com/event/senior-chair-yoga-strength/2029-06-19/
LOCATION:Eastside Tennis Courts
CATEGORIES:Community Activity
ATTACH;FMTTYPE=image/png:https://monet.gipreview.com/wp-content/uploads/2026/03/Chair-yoga-for-seniors-in-session.png
END:VEVENT
BEGIN:VEVENT
DTSTART;TZID=America/New_York:20290625T080000
DTEND;TZID=America/New_York:20290625T100000
DTSTAMP:20260425T230716
CREATED:20260304T230635Z
LAST-MODIFIED:20260304T230635Z
UID:990010362-1877068800-1877076000@monet.gipreview.com
SUMMARY:Tennis
DESCRIPTION:Tennis is a fun and engaging sport that promotes fitness\, coordination\, and social interaction. Players use a racket to hit a ball over a net\, improving balance\, agility\, and cardiovascular health while enjoying friendly competition. Whether played for exercise or recreation\, tennis is a great way to stay active and have fun outdoors. 🎾
URL:https://monet.gipreview.com/event/tennis/2029-06-25/
LOCATION:Eastside Tennis Courts
CATEGORIES:Community Activity
ATTACH;FMTTYPE=image/webp:https://monet.gipreview.com/wp-content/uploads/2026/03/Sandpiper-East-Side-Tennis-Courts.webp
END:VEVENT
BEGIN:VEVENT
DTSTART;TZID=America/New_York:20290626T100000
DTEND;TZID=America/New_York:20290626T110000
DTSTAMP:20260425T230716
CREATED:20260304T225246Z
LAST-MODIFIED:20260304T225246Z
UID:990010101-1877162400-1877166000@monet.gipreview.com
SUMMARY:Senior Chair Yoga & Strength
DESCRIPTION:Chair Yoga & Strength \nA gentle\, low-impact class designed to improve flexibility\, balance\, and strength while using a chair for support. Participants will enjoy simple yoga stretches combined with light strength exercises to help build muscle\, enhance mobility\, and support overall wellness. Perfect for all fitness levels and ideal for seniors looking to stay active in a safe and comfortable way.
URL:https://monet.gipreview.com/event/senior-chair-yoga-strength/2029-06-26/
LOCATION:Eastside Tennis Courts
CATEGORIES:Community Activity
ATTACH;FMTTYPE=image/png:https://monet.gipreview.com/wp-content/uploads/2026/03/Chair-yoga-for-seniors-in-session.png
END:VEVENT
BEGIN:VEVENT
DTSTART;TZID=America/New_York:20290702T080000
DTEND;TZID=America/New_York:20290702T100000
DTSTAMP:20260425T230716
CREATED:20260304T230635Z
LAST-MODIFIED:20260304T230635Z
UID:990010363-1877673600-1877680800@monet.gipreview.com
SUMMARY:Tennis
DESCRIPTION:Tennis is a fun and engaging sport that promotes fitness\, coordination\, and social interaction. Players use a racket to hit a ball over a net\, improving balance\, agility\, and cardiovascular health while enjoying friendly competition. Whether played for exercise or recreation\, tennis is a great way to stay active and have fun outdoors. 🎾
URL:https://monet.gipreview.com/event/tennis/2029-07-02/
LOCATION:Eastside Tennis Courts
CATEGORIES:Community Activity
ATTACH;FMTTYPE=image/webp:https://monet.gipreview.com/wp-content/uploads/2026/03/Sandpiper-East-Side-Tennis-Courts.webp
END:VEVENT
BEGIN:VEVENT
DTSTART;TZID=America/New_York:20290703T100000
DTEND;TZID=America/New_York:20290703T110000
DTSTAMP:20260425T230716
CREATED:20260304T225246Z
LAST-MODIFIED:20260304T225246Z
UID:990010102-1877767200-1877770800@monet.gipreview.com
SUMMARY:Senior Chair Yoga & Strength
DESCRIPTION:Chair Yoga & Strength \nA gentle\, low-impact class designed to improve flexibility\, balance\, and strength while using a chair for support. Participants will enjoy simple yoga stretches combined with light strength exercises to help build muscle\, enhance mobility\, and support overall wellness. Perfect for all fitness levels and ideal for seniors looking to stay active in a safe and comfortable way.
URL:https://monet.gipreview.com/event/senior-chair-yoga-strength/2029-07-03/
LOCATION:Eastside Tennis Courts
CATEGORIES:Community Activity
ATTACH;FMTTYPE=image/png:https://monet.gipreview.com/wp-content/uploads/2026/03/Chair-yoga-for-seniors-in-session.png
END:VEVENT
BEGIN:VEVENT
DTSTART;TZID=America/New_York:20290709T080000
DTEND;TZID=America/New_York:20290709T100000
DTSTAMP:20260425T230716
CREATED:20260304T230635Z
LAST-MODIFIED:20260304T230635Z
UID:990010364-1878278400-1878285600@monet.gipreview.com
SUMMARY:Tennis
DESCRIPTION:Tennis is a fun and engaging sport that promotes fitness\, coordination\, and social interaction. Players use a racket to hit a ball over a net\, improving balance\, agility\, and cardiovascular health while enjoying friendly competition. Whether played for exercise or recreation\, tennis is a great way to stay active and have fun outdoors. 🎾
URL:https://monet.gipreview.com/event/tennis/2029-07-09/
LOCATION:Eastside Tennis Courts
CATEGORIES:Community Activity
ATTACH;FMTTYPE=image/webp:https://monet.gipreview.com/wp-content/uploads/2026/03/Sandpiper-East-Side-Tennis-Courts.webp
END:VEVENT
BEGIN:VEVENT
DTSTART;TZID=America/New_York:20290710T100000
DTEND;TZID=America/New_York:20290710T110000
DTSTAMP:20260425T230716
CREATED:20260304T225246Z
LAST-MODIFIED:20260304T225246Z
UID:990010103-1878372000-1878375600@monet.gipreview.com
SUMMARY:Senior Chair Yoga & Strength
DESCRIPTION:Chair Yoga & Strength \nA gentle\, low-impact class designed to improve flexibility\, balance\, and strength while using a chair for support. Participants will enjoy simple yoga stretches combined with light strength exercises to help build muscle\, enhance mobility\, and support overall wellness. Perfect for all fitness levels and ideal for seniors looking to stay active in a safe and comfortable way.
URL:https://monet.gipreview.com/event/senior-chair-yoga-strength/2029-07-10/
LOCATION:Eastside Tennis Courts
CATEGORIES:Community Activity
ATTACH;FMTTYPE=image/png:https://monet.gipreview.com/wp-content/uploads/2026/03/Chair-yoga-for-seniors-in-session.png
END:VEVENT
BEGIN:VEVENT
DTSTART;TZID=America/New_York:20290716T080000
DTEND;TZID=America/New_York:20290716T100000
DTSTAMP:20260425T230716
CREATED:20260304T230635Z
LAST-MODIFIED:20260304T230635Z
UID:990010365-1878883200-1878890400@monet.gipreview.com
SUMMARY:Tennis
DESCRIPTION:Tennis is a fun and engaging sport that promotes fitness\, coordination\, and social interaction. Players use a racket to hit a ball over a net\, improving balance\, agility\, and cardiovascular health while enjoying friendly competition. Whether played for exercise or recreation\, tennis is a great way to stay active and have fun outdoors. 🎾
URL:https://monet.gipreview.com/event/tennis/2029-07-16/
LOCATION:Eastside Tennis Courts
CATEGORIES:Community Activity
ATTACH;FMTTYPE=image/webp:https://monet.gipreview.com/wp-content/uploads/2026/03/Sandpiper-East-Side-Tennis-Courts.webp
END:VEVENT
BEGIN:VEVENT
DTSTART;TZID=America/New_York:20290717T100000
DTEND;TZID=America/New_York:20290717T110000
DTSTAMP:20260425T230716
CREATED:20260304T225246Z
LAST-MODIFIED:20260304T225246Z
UID:990010104-1878976800-1878980400@monet.gipreview.com
SUMMARY:Senior Chair Yoga & Strength
DESCRIPTION:Chair Yoga & Strength \nA gentle\, low-impact class designed to improve flexibility\, balance\, and strength while using a chair for support. Participants will enjoy simple yoga stretches combined with light strength exercises to help build muscle\, enhance mobility\, and support overall wellness. Perfect for all fitness levels and ideal for seniors looking to stay active in a safe and comfortable way.
URL:https://monet.gipreview.com/event/senior-chair-yoga-strength/2029-07-17/
LOCATION:Eastside Tennis Courts
CATEGORIES:Community Activity
ATTACH;FMTTYPE=image/png:https://monet.gipreview.com/wp-content/uploads/2026/03/Chair-yoga-for-seniors-in-session.png
END:VEVENT
BEGIN:VEVENT
DTSTART;TZID=America/New_York:20290723T080000
DTEND;TZID=America/New_York:20290723T100000
DTSTAMP:20260425T230716
CREATED:20260304T230635Z
LAST-MODIFIED:20260304T230635Z
UID:990010366-1879488000-1879495200@monet.gipreview.com
SUMMARY:Tennis
DESCRIPTION:Tennis is a fun and engaging sport that promotes fitness\, coordination\, and social interaction. Players use a racket to hit a ball over a net\, improving balance\, agility\, and cardiovascular health while enjoying friendly competition. Whether played for exercise or recreation\, tennis is a great way to stay active and have fun outdoors. 🎾
URL:https://monet.gipreview.com/event/tennis/2029-07-23/
LOCATION:Eastside Tennis Courts
CATEGORIES:Community Activity
ATTACH;FMTTYPE=image/webp:https://monet.gipreview.com/wp-content/uploads/2026/03/Sandpiper-East-Side-Tennis-Courts.webp
END:VEVENT
BEGIN:VEVENT
DTSTART;TZID=America/New_York:20290724T100000
DTEND;TZID=America/New_York:20290724T110000
DTSTAMP:20260425T230716
CREATED:20260304T225246Z
LAST-MODIFIED:20260304T225246Z
UID:990010105-1879581600-1879585200@monet.gipreview.com
SUMMARY:Senior Chair Yoga & Strength
DESCRIPTION:Chair Yoga & Strength \nA gentle\, low-impact class designed to improve flexibility\, balance\, and strength while using a chair for support. Participants will enjoy simple yoga stretches combined with light strength exercises to help build muscle\, enhance mobility\, and support overall wellness. Perfect for all fitness levels and ideal for seniors looking to stay active in a safe and comfortable way.
URL:https://monet.gipreview.com/event/senior-chair-yoga-strength/2029-07-24/
LOCATION:Eastside Tennis Courts
CATEGORIES:Community Activity
ATTACH;FMTTYPE=image/png:https://monet.gipreview.com/wp-content/uploads/2026/03/Chair-yoga-for-seniors-in-session.png
END:VEVENT
BEGIN:VEVENT
DTSTART;TZID=America/New_York:20290730T080000
DTEND;TZID=America/New_York:20290730T100000
DTSTAMP:20260425T230716
CREATED:20260304T230635Z
LAST-MODIFIED:20260304T230635Z
UID:990010367-1880092800-1880100000@monet.gipreview.com
SUMMARY:Tennis
DESCRIPTION:Tennis is a fun and engaging sport that promotes fitness\, coordination\, and social interaction. Players use a racket to hit a ball over a net\, improving balance\, agility\, and cardiovascular health while enjoying friendly competition. Whether played for exercise or recreation\, tennis is a great way to stay active and have fun outdoors. 🎾
URL:https://monet.gipreview.com/event/tennis/2029-07-30/
LOCATION:Eastside Tennis Courts
CATEGORIES:Community Activity
ATTACH;FMTTYPE=image/webp:https://monet.gipreview.com/wp-content/uploads/2026/03/Sandpiper-East-Side-Tennis-Courts.webp
END:VEVENT
BEGIN:VEVENT
DTSTART;TZID=America/New_York:20290731T100000
DTEND;TZID=America/New_York:20290731T110000
DTSTAMP:20260425T230716
CREATED:20260304T225246Z
LAST-MODIFIED:20260304T225246Z
UID:990010106-1880186400-1880190000@monet.gipreview.com
SUMMARY:Senior Chair Yoga & Strength
DESCRIPTION:Chair Yoga & Strength \nA gentle\, low-impact class designed to improve flexibility\, balance\, and strength while using a chair for support. Participants will enjoy simple yoga stretches combined with light strength exercises to help build muscle\, enhance mobility\, and support overall wellness. Perfect for all fitness levels and ideal for seniors looking to stay active in a safe and comfortable way.
URL:https://monet.gipreview.com/event/senior-chair-yoga-strength/2029-07-31/
LOCATION:Eastside Tennis Courts
CATEGORIES:Community Activity
ATTACH;FMTTYPE=image/png:https://monet.gipreview.com/wp-content/uploads/2026/03/Chair-yoga-for-seniors-in-session.png
END:VEVENT
END:VCALENDAR