BEGIN:VCALENDAR
VERSION:2.0
PRODID:-//Sandpiper - ECPv6.15.20//NONSGML v1.0//EN
CALSCALE:GREGORIAN
METHOD:PUBLISH
X-WR-CALNAME:Sandpiper
X-ORIGINAL-URL:https://monet.gipreview.com
X-WR-CALDESC:Events for Sandpiper
REFRESH-INTERVAL;VALUE=DURATION:PT1H
X-Robots-Tag:noindex
X-PUBLISHED-TTL:PT1H
BEGIN:VTIMEZONE
TZID:America/New_York
BEGIN:DAYLIGHT
TZOFFSETFROM:-0500
TZOFFSETTO:-0400
TZNAME:EDT
DTSTART:20260308T070000
END:DAYLIGHT
BEGIN:STANDARD
TZOFFSETFROM:-0400
TZOFFSETTO:-0500
TZNAME:EST
DTSTART:20261101T060000
END:STANDARD
BEGIN:DAYLIGHT
TZOFFSETFROM:-0500
TZOFFSETTO:-0400
TZNAME:EDT
DTSTART:20270314T070000
END:DAYLIGHT
BEGIN:STANDARD
TZOFFSETFROM:-0400
TZOFFSETTO:-0500
TZNAME:EST
DTSTART:20271107T060000
END:STANDARD
BEGIN:DAYLIGHT
TZOFFSETFROM:-0500
TZOFFSETTO:-0400
TZNAME:EDT
DTSTART:20280312T070000
END:DAYLIGHT
BEGIN:STANDARD
TZOFFSETFROM:-0400
TZOFFSETTO:-0500
TZNAME:EST
DTSTART:20281105T060000
END:STANDARD
END:VTIMEZONE
BEGIN:VEVENT
DTSTART;TZID=America/New_York:20270816T080000
DTEND;TZID=America/New_York:20270816T100000
DTSTAMP:20260423T022924
CREATED:20260317T175803Z
LAST-MODIFIED:20260317T175803Z
UID:990011095-1818403200-1818410400@monet.gipreview.com
SUMMARY:Tennis
DESCRIPTION:Tennis is a fun\, fast paced sport that builds skill\, coordination and fitness!  For all levels! \nMonday – Wednesday – Saturday at 8:00 am
URL:https://monet.gipreview.com/event/tennis-2/2027-08-16/
LOCATION:SANDPIPER\, 5883 Mallard Drive\, Lakeland\, United States
CATEGORIES:Community Activity
ATTACH;FMTTYPE=image/png:https://monet.gipreview.com/wp-content/uploads/2026/03/Tennis-courts-open-play-invitation.png
END:VEVENT
BEGIN:VEVENT
DTSTART;TZID=America/New_York:20270817T080000
DTEND;TZID=America/New_York:20270817T100000
DTSTAMP:20260423T022924
CREATED:20260317T175803Z
LAST-MODIFIED:20260317T175803Z
UID:990011096-1818489600-1818496800@monet.gipreview.com
SUMMARY:Tennis
DESCRIPTION:Tennis is a fun\, fast paced sport that builds skill\, coordination and fitness!  For all levels! \nMonday – Wednesday – Saturday at 8:00 am
URL:https://monet.gipreview.com/event/tennis-2/2027-08-17/
LOCATION:SANDPIPER\, 5883 Mallard Drive\, Lakeland\, United States
CATEGORIES:Community Activity
ATTACH;FMTTYPE=image/png:https://monet.gipreview.com/wp-content/uploads/2026/03/Tennis-courts-open-play-invitation.png
END:VEVENT
BEGIN:VEVENT
DTSTART;TZID=America/New_York:20270818T080000
DTEND;TZID=America/New_York:20270818T100000
DTSTAMP:20260423T022924
CREATED:20260317T175803Z
LAST-MODIFIED:20260317T175803Z
UID:990011097-1818576000-1818583200@monet.gipreview.com
SUMMARY:Tennis
DESCRIPTION:Tennis is a fun\, fast paced sport that builds skill\, coordination and fitness!  For all levels! \nMonday – Wednesday – Saturday at 8:00 am
URL:https://monet.gipreview.com/event/tennis-2/2027-08-18/
LOCATION:SANDPIPER\, 5883 Mallard Drive\, Lakeland\, United States
CATEGORIES:Community Activity
ATTACH;FMTTYPE=image/png:https://monet.gipreview.com/wp-content/uploads/2026/03/Tennis-courts-open-play-invitation.png
END:VEVENT
BEGIN:VEVENT
DTSTART;TZID=America/New_York:20270821T080000
DTEND;TZID=America/New_York:20270821T100000
DTSTAMP:20260423T022924
CREATED:20260317T175803Z
LAST-MODIFIED:20260317T175803Z
UID:990011098-1818835200-1818842400@monet.gipreview.com
SUMMARY:Tennis
DESCRIPTION:Tennis is a fun\, fast paced sport that builds skill\, coordination and fitness!  For all levels! \nMonday – Wednesday – Saturday at 8:00 am
URL:https://monet.gipreview.com/event/tennis-2/2027-08-21/
LOCATION:SANDPIPER\, 5883 Mallard Drive\, Lakeland\, United States
CATEGORIES:Community Activity
ATTACH;FMTTYPE=image/png:https://monet.gipreview.com/wp-content/uploads/2026/03/Tennis-courts-open-play-invitation.png
END:VEVENT
BEGIN:VEVENT
DTSTART;TZID=America/New_York:20270823T080000
DTEND;TZID=America/New_York:20270823T100000
DTSTAMP:20260423T022924
CREATED:20260317T175803Z
LAST-MODIFIED:20260317T175803Z
UID:990011099-1819008000-1819015200@monet.gipreview.com
SUMMARY:Tennis
DESCRIPTION:Tennis is a fun\, fast paced sport that builds skill\, coordination and fitness!  For all levels! \nMonday – Wednesday – Saturday at 8:00 am
URL:https://monet.gipreview.com/event/tennis-2/2027-08-23/
LOCATION:SANDPIPER\, 5883 Mallard Drive\, Lakeland\, United States
CATEGORIES:Community Activity
ATTACH;FMTTYPE=image/png:https://monet.gipreview.com/wp-content/uploads/2026/03/Tennis-courts-open-play-invitation.png
END:VEVENT
BEGIN:VEVENT
DTSTART;TZID=America/New_York:20270824T080000
DTEND;TZID=America/New_York:20270824T100000
DTSTAMP:20260423T022924
CREATED:20260317T175803Z
LAST-MODIFIED:20260317T175803Z
UID:990011100-1819094400-1819101600@monet.gipreview.com
SUMMARY:Tennis
DESCRIPTION:Tennis is a fun\, fast paced sport that builds skill\, coordination and fitness!  For all levels! \nMonday – Wednesday – Saturday at 8:00 am
URL:https://monet.gipreview.com/event/tennis-2/2027-08-24/
LOCATION:SANDPIPER\, 5883 Mallard Drive\, Lakeland\, United States
CATEGORIES:Community Activity
ATTACH;FMTTYPE=image/png:https://monet.gipreview.com/wp-content/uploads/2026/03/Tennis-courts-open-play-invitation.png
END:VEVENT
BEGIN:VEVENT
DTSTART;TZID=America/New_York:20270825T080000
DTEND;TZID=America/New_York:20270825T100000
DTSTAMP:20260423T022924
CREATED:20260317T175803Z
LAST-MODIFIED:20260317T175803Z
UID:990011101-1819180800-1819188000@monet.gipreview.com
SUMMARY:Tennis
DESCRIPTION:Tennis is a fun\, fast paced sport that builds skill\, coordination and fitness!  For all levels! \nMonday – Wednesday – Saturday at 8:00 am
URL:https://monet.gipreview.com/event/tennis-2/2027-08-25/
LOCATION:SANDPIPER\, 5883 Mallard Drive\, Lakeland\, United States
CATEGORIES:Community Activity
ATTACH;FMTTYPE=image/png:https://monet.gipreview.com/wp-content/uploads/2026/03/Tennis-courts-open-play-invitation.png
END:VEVENT
BEGIN:VEVENT
DTSTART;TZID=America/New_York:20270828T080000
DTEND;TZID=America/New_York:20270828T100000
DTSTAMP:20260423T022924
CREATED:20260317T175803Z
LAST-MODIFIED:20260317T175803Z
UID:990011102-1819440000-1819447200@monet.gipreview.com
SUMMARY:Tennis
DESCRIPTION:Tennis is a fun\, fast paced sport that builds skill\, coordination and fitness!  For all levels! \nMonday – Wednesday – Saturday at 8:00 am
URL:https://monet.gipreview.com/event/tennis-2/2027-08-28/
LOCATION:SANDPIPER\, 5883 Mallard Drive\, Lakeland\, United States
CATEGORIES:Community Activity
ATTACH;FMTTYPE=image/png:https://monet.gipreview.com/wp-content/uploads/2026/03/Tennis-courts-open-play-invitation.png
END:VEVENT
BEGIN:VEVENT
DTSTART;TZID=America/New_York:20270830T080000
DTEND;TZID=America/New_York:20270830T100000
DTSTAMP:20260423T022924
CREATED:20260317T175803Z
LAST-MODIFIED:20260317T175803Z
UID:990011103-1819612800-1819620000@monet.gipreview.com
SUMMARY:Tennis
DESCRIPTION:Tennis is a fun\, fast paced sport that builds skill\, coordination and fitness!  For all levels! \nMonday – Wednesday – Saturday at 8:00 am
URL:https://monet.gipreview.com/event/tennis-2/2027-08-30/
LOCATION:SANDPIPER\, 5883 Mallard Drive\, Lakeland\, United States
CATEGORIES:Community Activity
ATTACH;FMTTYPE=image/png:https://monet.gipreview.com/wp-content/uploads/2026/03/Tennis-courts-open-play-invitation.png
END:VEVENT
BEGIN:VEVENT
DTSTART;TZID=America/New_York:20270831T080000
DTEND;TZID=America/New_York:20270831T100000
DTSTAMP:20260423T022924
CREATED:20260317T175803Z
LAST-MODIFIED:20260317T175803Z
UID:990011104-1819699200-1819706400@monet.gipreview.com
SUMMARY:Tennis
DESCRIPTION:Tennis is a fun\, fast paced sport that builds skill\, coordination and fitness!  For all levels! \nMonday – Wednesday – Saturday at 8:00 am
URL:https://monet.gipreview.com/event/tennis-2/2027-08-31/
LOCATION:SANDPIPER\, 5883 Mallard Drive\, Lakeland\, United States
CATEGORIES:Community Activity
ATTACH;FMTTYPE=image/png:https://monet.gipreview.com/wp-content/uploads/2026/03/Tennis-courts-open-play-invitation.png
END:VEVENT
BEGIN:VEVENT
DTSTART;TZID=America/New_York:20270901T080000
DTEND;TZID=America/New_York:20270901T100000
DTSTAMP:20260423T022924
CREATED:20260317T175803Z
LAST-MODIFIED:20260317T175803Z
UID:990011105-1819785600-1819792800@monet.gipreview.com
SUMMARY:Tennis
DESCRIPTION:Tennis is a fun\, fast paced sport that builds skill\, coordination and fitness!  For all levels! \nMonday – Wednesday – Saturday at 8:00 am
URL:https://monet.gipreview.com/event/tennis-2/2027-09-01/
LOCATION:SANDPIPER\, 5883 Mallard Drive\, Lakeland\, United States
CATEGORIES:Community Activity
ATTACH;FMTTYPE=image/png:https://monet.gipreview.com/wp-content/uploads/2026/03/Tennis-courts-open-play-invitation.png
END:VEVENT
BEGIN:VEVENT
DTSTART;TZID=America/New_York:20270904T080000
DTEND;TZID=America/New_York:20270904T100000
DTSTAMP:20260423T022924
CREATED:20260317T175803Z
LAST-MODIFIED:20260317T175803Z
UID:990011106-1820044800-1820052000@monet.gipreview.com
SUMMARY:Tennis
DESCRIPTION:Tennis is a fun\, fast paced sport that builds skill\, coordination and fitness!  For all levels! \nMonday – Wednesday – Saturday at 8:00 am
URL:https://monet.gipreview.com/event/tennis-2/2027-09-04/
LOCATION:SANDPIPER\, 5883 Mallard Drive\, Lakeland\, United States
CATEGORIES:Community Activity
ATTACH;FMTTYPE=image/png:https://monet.gipreview.com/wp-content/uploads/2026/03/Tennis-courts-open-play-invitation.png
END:VEVENT
BEGIN:VEVENT
DTSTART;TZID=America/New_York:20270906T080000
DTEND;TZID=America/New_York:20270906T100000
DTSTAMP:20260423T022924
CREATED:20260317T175803Z
LAST-MODIFIED:20260317T175803Z
UID:990011107-1820217600-1820224800@monet.gipreview.com
SUMMARY:Tennis
DESCRIPTION:Tennis is a fun\, fast paced sport that builds skill\, coordination and fitness!  For all levels! \nMonday – Wednesday – Saturday at 8:00 am
URL:https://monet.gipreview.com/event/tennis-2/2027-09-06/
LOCATION:SANDPIPER\, 5883 Mallard Drive\, Lakeland\, United States
CATEGORIES:Community Activity
ATTACH;FMTTYPE=image/png:https://monet.gipreview.com/wp-content/uploads/2026/03/Tennis-courts-open-play-invitation.png
END:VEVENT
BEGIN:VEVENT
DTSTART;TZID=America/New_York:20270907T080000
DTEND;TZID=America/New_York:20270907T100000
DTSTAMP:20260423T022924
CREATED:20260317T175803Z
LAST-MODIFIED:20260317T175803Z
UID:990011108-1820304000-1820311200@monet.gipreview.com
SUMMARY:Tennis
DESCRIPTION:Tennis is a fun\, fast paced sport that builds skill\, coordination and fitness!  For all levels! \nMonday – Wednesday – Saturday at 8:00 am
URL:https://monet.gipreview.com/event/tennis-2/2027-09-07/
LOCATION:SANDPIPER\, 5883 Mallard Drive\, Lakeland\, United States
CATEGORIES:Community Activity
ATTACH;FMTTYPE=image/png:https://monet.gipreview.com/wp-content/uploads/2026/03/Tennis-courts-open-play-invitation.png
END:VEVENT
BEGIN:VEVENT
DTSTART;TZID=America/New_York:20270908T080000
DTEND;TZID=America/New_York:20270908T100000
DTSTAMP:20260423T022924
CREATED:20260317T175803Z
LAST-MODIFIED:20260317T175803Z
UID:990011109-1820390400-1820397600@monet.gipreview.com
SUMMARY:Tennis
DESCRIPTION:Tennis is a fun\, fast paced sport that builds skill\, coordination and fitness!  For all levels! \nMonday – Wednesday – Saturday at 8:00 am
URL:https://monet.gipreview.com/event/tennis-2/2027-09-08/
LOCATION:SANDPIPER\, 5883 Mallard Drive\, Lakeland\, United States
CATEGORIES:Community Activity
ATTACH;FMTTYPE=image/png:https://monet.gipreview.com/wp-content/uploads/2026/03/Tennis-courts-open-play-invitation.png
END:VEVENT
BEGIN:VEVENT
DTSTART;TZID=America/New_York:20270911T080000
DTEND;TZID=America/New_York:20270911T100000
DTSTAMP:20260423T022925
CREATED:20260317T175803Z
LAST-MODIFIED:20260317T175803Z
UID:990011110-1820649600-1820656800@monet.gipreview.com
SUMMARY:Tennis
DESCRIPTION:Tennis is a fun\, fast paced sport that builds skill\, coordination and fitness!  For all levels! \nMonday – Wednesday – Saturday at 8:00 am
URL:https://monet.gipreview.com/event/tennis-2/2027-09-11/
LOCATION:SANDPIPER\, 5883 Mallard Drive\, Lakeland\, United States
CATEGORIES:Community Activity
ATTACH;FMTTYPE=image/png:https://monet.gipreview.com/wp-content/uploads/2026/03/Tennis-courts-open-play-invitation.png
END:VEVENT
BEGIN:VEVENT
DTSTART;TZID=America/New_York:20270913T080000
DTEND;TZID=America/New_York:20270913T100000
DTSTAMP:20260423T022925
CREATED:20260317T175803Z
LAST-MODIFIED:20260317T175803Z
UID:990011111-1820822400-1820829600@monet.gipreview.com
SUMMARY:Tennis
DESCRIPTION:Tennis is a fun\, fast paced sport that builds skill\, coordination and fitness!  For all levels! \nMonday – Wednesday – Saturday at 8:00 am
URL:https://monet.gipreview.com/event/tennis-2/2027-09-13/
LOCATION:SANDPIPER\, 5883 Mallard Drive\, Lakeland\, United States
CATEGORIES:Community Activity
ATTACH;FMTTYPE=image/png:https://monet.gipreview.com/wp-content/uploads/2026/03/Tennis-courts-open-play-invitation.png
END:VEVENT
BEGIN:VEVENT
DTSTART;TZID=America/New_York:20270914T080000
DTEND;TZID=America/New_York:20270914T100000
DTSTAMP:20260423T022925
CREATED:20260317T175803Z
LAST-MODIFIED:20260317T175803Z
UID:990011112-1820908800-1820916000@monet.gipreview.com
SUMMARY:Tennis
DESCRIPTION:Tennis is a fun\, fast paced sport that builds skill\, coordination and fitness!  For all levels! \nMonday – Wednesday – Saturday at 8:00 am
URL:https://monet.gipreview.com/event/tennis-2/2027-09-14/
LOCATION:SANDPIPER\, 5883 Mallard Drive\, Lakeland\, United States
CATEGORIES:Community Activity
ATTACH;FMTTYPE=image/png:https://monet.gipreview.com/wp-content/uploads/2026/03/Tennis-courts-open-play-invitation.png
END:VEVENT
BEGIN:VEVENT
DTSTART;TZID=America/New_York:20270915T080000
DTEND;TZID=America/New_York:20270915T100000
DTSTAMP:20260423T022925
CREATED:20260317T175803Z
LAST-MODIFIED:20260317T175803Z
UID:990011113-1820995200-1821002400@monet.gipreview.com
SUMMARY:Tennis
DESCRIPTION:Tennis is a fun\, fast paced sport that builds skill\, coordination and fitness!  For all levels! \nMonday – Wednesday – Saturday at 8:00 am
URL:https://monet.gipreview.com/event/tennis-2/2027-09-15/
LOCATION:SANDPIPER\, 5883 Mallard Drive\, Lakeland\, United States
CATEGORIES:Community Activity
ATTACH;FMTTYPE=image/png:https://monet.gipreview.com/wp-content/uploads/2026/03/Tennis-courts-open-play-invitation.png
END:VEVENT
BEGIN:VEVENT
DTSTART;TZID=America/New_York:20270918T080000
DTEND;TZID=America/New_York:20270918T100000
DTSTAMP:20260423T022925
CREATED:20260317T175803Z
LAST-MODIFIED:20260317T175803Z
UID:990011114-1821254400-1821261600@monet.gipreview.com
SUMMARY:Tennis
DESCRIPTION:Tennis is a fun\, fast paced sport that builds skill\, coordination and fitness!  For all levels! \nMonday – Wednesday – Saturday at 8:00 am
URL:https://monet.gipreview.com/event/tennis-2/2027-09-18/
LOCATION:SANDPIPER\, 5883 Mallard Drive\, Lakeland\, United States
CATEGORIES:Community Activity
ATTACH;FMTTYPE=image/png:https://monet.gipreview.com/wp-content/uploads/2026/03/Tennis-courts-open-play-invitation.png
END:VEVENT
BEGIN:VEVENT
DTSTART;TZID=America/New_York:20270920T080000
DTEND;TZID=America/New_York:20270920T100000
DTSTAMP:20260423T022925
CREATED:20260317T175803Z
LAST-MODIFIED:20260317T175803Z
UID:990011115-1821427200-1821434400@monet.gipreview.com
SUMMARY:Tennis
DESCRIPTION:Tennis is a fun\, fast paced sport that builds skill\, coordination and fitness!  For all levels! \nMonday – Wednesday – Saturday at 8:00 am
URL:https://monet.gipreview.com/event/tennis-2/2027-09-20/
LOCATION:SANDPIPER\, 5883 Mallard Drive\, Lakeland\, United States
CATEGORIES:Community Activity
ATTACH;FMTTYPE=image/png:https://monet.gipreview.com/wp-content/uploads/2026/03/Tennis-courts-open-play-invitation.png
END:VEVENT
BEGIN:VEVENT
DTSTART;TZID=America/New_York:20270921T080000
DTEND;TZID=America/New_York:20270921T100000
DTSTAMP:20260423T022925
CREATED:20260317T175803Z
LAST-MODIFIED:20260317T175803Z
UID:990011116-1821513600-1821520800@monet.gipreview.com
SUMMARY:Tennis
DESCRIPTION:Tennis is a fun\, fast paced sport that builds skill\, coordination and fitness!  For all levels! \nMonday – Wednesday – Saturday at 8:00 am
URL:https://monet.gipreview.com/event/tennis-2/2027-09-21/
LOCATION:SANDPIPER\, 5883 Mallard Drive\, Lakeland\, United States
CATEGORIES:Community Activity
ATTACH;FMTTYPE=image/png:https://monet.gipreview.com/wp-content/uploads/2026/03/Tennis-courts-open-play-invitation.png
END:VEVENT
BEGIN:VEVENT
DTSTART;TZID=America/New_York:20270922T080000
DTEND;TZID=America/New_York:20270922T100000
DTSTAMP:20260423T022925
CREATED:20260317T175803Z
LAST-MODIFIED:20260317T175803Z
UID:990011117-1821600000-1821607200@monet.gipreview.com
SUMMARY:Tennis
DESCRIPTION:Tennis is a fun\, fast paced sport that builds skill\, coordination and fitness!  For all levels! \nMonday – Wednesday – Saturday at 8:00 am
URL:https://monet.gipreview.com/event/tennis-2/2027-09-22/
LOCATION:SANDPIPER\, 5883 Mallard Drive\, Lakeland\, United States
CATEGORIES:Community Activity
ATTACH;FMTTYPE=image/png:https://monet.gipreview.com/wp-content/uploads/2026/03/Tennis-courts-open-play-invitation.png
END:VEVENT
BEGIN:VEVENT
DTSTART;TZID=America/New_York:20270925T080000
DTEND;TZID=America/New_York:20270925T100000
DTSTAMP:20260423T022925
CREATED:20260317T175803Z
LAST-MODIFIED:20260317T175803Z
UID:990011118-1821859200-1821866400@monet.gipreview.com
SUMMARY:Tennis
DESCRIPTION:Tennis is a fun\, fast paced sport that builds skill\, coordination and fitness!  For all levels! \nMonday – Wednesday – Saturday at 8:00 am
URL:https://monet.gipreview.com/event/tennis-2/2027-09-25/
LOCATION:SANDPIPER\, 5883 Mallard Drive\, Lakeland\, United States
CATEGORIES:Community Activity
ATTACH;FMTTYPE=image/png:https://monet.gipreview.com/wp-content/uploads/2026/03/Tennis-courts-open-play-invitation.png
END:VEVENT
BEGIN:VEVENT
DTSTART;TZID=America/New_York:20270927T080000
DTEND;TZID=America/New_York:20270927T100000
DTSTAMP:20260423T022925
CREATED:20260317T175803Z
LAST-MODIFIED:20260317T175803Z
UID:990011119-1822032000-1822039200@monet.gipreview.com
SUMMARY:Tennis
DESCRIPTION:Tennis is a fun\, fast paced sport that builds skill\, coordination and fitness!  For all levels! \nMonday – Wednesday – Saturday at 8:00 am
URL:https://monet.gipreview.com/event/tennis-2/2027-09-27/
LOCATION:SANDPIPER\, 5883 Mallard Drive\, Lakeland\, United States
CATEGORIES:Community Activity
ATTACH;FMTTYPE=image/png:https://monet.gipreview.com/wp-content/uploads/2026/03/Tennis-courts-open-play-invitation.png
END:VEVENT
BEGIN:VEVENT
DTSTART;TZID=America/New_York:20270928T080000
DTEND;TZID=America/New_York:20270928T100000
DTSTAMP:20260423T022925
CREATED:20260317T175803Z
LAST-MODIFIED:20260317T175803Z
UID:990011120-1822118400-1822125600@monet.gipreview.com
SUMMARY:Tennis
DESCRIPTION:Tennis is a fun\, fast paced sport that builds skill\, coordination and fitness!  For all levels! \nMonday – Wednesday – Saturday at 8:00 am
URL:https://monet.gipreview.com/event/tennis-2/2027-09-28/
LOCATION:SANDPIPER\, 5883 Mallard Drive\, Lakeland\, United States
CATEGORIES:Community Activity
ATTACH;FMTTYPE=image/png:https://monet.gipreview.com/wp-content/uploads/2026/03/Tennis-courts-open-play-invitation.png
END:VEVENT
BEGIN:VEVENT
DTSTART;TZID=America/New_York:20270929T080000
DTEND;TZID=America/New_York:20270929T100000
DTSTAMP:20260423T022925
CREATED:20260317T175803Z
LAST-MODIFIED:20260317T175803Z
UID:990011121-1822204800-1822212000@monet.gipreview.com
SUMMARY:Tennis
DESCRIPTION:Tennis is a fun\, fast paced sport that builds skill\, coordination and fitness!  For all levels! \nMonday – Wednesday – Saturday at 8:00 am
URL:https://monet.gipreview.com/event/tennis-2/2027-09-29/
LOCATION:SANDPIPER\, 5883 Mallard Drive\, Lakeland\, United States
CATEGORIES:Community Activity
ATTACH;FMTTYPE=image/png:https://monet.gipreview.com/wp-content/uploads/2026/03/Tennis-courts-open-play-invitation.png
END:VEVENT
BEGIN:VEVENT
DTSTART;TZID=America/New_York:20271002T080000
DTEND;TZID=America/New_York:20271002T100000
DTSTAMP:20260423T022925
CREATED:20260317T175803Z
LAST-MODIFIED:20260317T175803Z
UID:990011122-1822464000-1822471200@monet.gipreview.com
SUMMARY:Tennis
DESCRIPTION:Tennis is a fun\, fast paced sport that builds skill\, coordination and fitness!  For all levels! \nMonday – Wednesday – Saturday at 8:00 am
URL:https://monet.gipreview.com/event/tennis-2/2027-10-02/
LOCATION:SANDPIPER\, 5883 Mallard Drive\, Lakeland\, United States
CATEGORIES:Community Activity
ATTACH;FMTTYPE=image/png:https://monet.gipreview.com/wp-content/uploads/2026/03/Tennis-courts-open-play-invitation.png
END:VEVENT
BEGIN:VEVENT
DTSTART;TZID=America/New_York:20271004T080000
DTEND;TZID=America/New_York:20271004T100000
DTSTAMP:20260423T022925
CREATED:20260317T175803Z
LAST-MODIFIED:20260317T175803Z
UID:990011123-1822636800-1822644000@monet.gipreview.com
SUMMARY:Tennis
DESCRIPTION:Tennis is a fun\, fast paced sport that builds skill\, coordination and fitness!  For all levels! \nMonday – Wednesday – Saturday at 8:00 am
URL:https://monet.gipreview.com/event/tennis-2/2027-10-04/
LOCATION:SANDPIPER\, 5883 Mallard Drive\, Lakeland\, United States
CATEGORIES:Community Activity
ATTACH;FMTTYPE=image/png:https://monet.gipreview.com/wp-content/uploads/2026/03/Tennis-courts-open-play-invitation.png
END:VEVENT
BEGIN:VEVENT
DTSTART;TZID=America/New_York:20271005T080000
DTEND;TZID=America/New_York:20271005T100000
DTSTAMP:20260423T022925
CREATED:20260317T175803Z
LAST-MODIFIED:20260317T175803Z
UID:990011124-1822723200-1822730400@monet.gipreview.com
SUMMARY:Tennis
DESCRIPTION:Tennis is a fun\, fast paced sport that builds skill\, coordination and fitness!  For all levels! \nMonday – Wednesday – Saturday at 8:00 am
URL:https://monet.gipreview.com/event/tennis-2/2027-10-05/
LOCATION:SANDPIPER\, 5883 Mallard Drive\, Lakeland\, United States
CATEGORIES:Community Activity
ATTACH;FMTTYPE=image/png:https://monet.gipreview.com/wp-content/uploads/2026/03/Tennis-courts-open-play-invitation.png
END:VEVENT
END:VCALENDAR