BEGIN:VCALENDAR
VERSION:2.0
PRODID:-//Sandpiper - ECPv6.15.20//NONSGML v1.0//EN
CALSCALE:GREGORIAN
METHOD:PUBLISH
X-ORIGINAL-URL:https://monet.gipreview.com
X-WR-CALDESC:Events for Sandpiper
REFRESH-INTERVAL;VALUE=DURATION:PT1H
X-Robots-Tag:noindex
X-PUBLISHED-TTL:PT1H
BEGIN:VTIMEZONE
TZID:America/New_York
BEGIN:DAYLIGHT
TZOFFSETFROM:-0500
TZOFFSETTO:-0400
TZNAME:EDT
DTSTART:20260308T070000
END:DAYLIGHT
BEGIN:STANDARD
TZOFFSETFROM:-0400
TZOFFSETTO:-0500
TZNAME:EST
DTSTART:20261101T060000
END:STANDARD
BEGIN:DAYLIGHT
TZOFFSETFROM:-0500
TZOFFSETTO:-0400
TZNAME:EDT
DTSTART:20270314T070000
END:DAYLIGHT
BEGIN:STANDARD
TZOFFSETFROM:-0400
TZOFFSETTO:-0500
TZNAME:EST
DTSTART:20271107T060000
END:STANDARD
BEGIN:DAYLIGHT
TZOFFSETFROM:-0500
TZOFFSETTO:-0400
TZNAME:EDT
DTSTART:20280312T070000
END:DAYLIGHT
BEGIN:STANDARD
TZOFFSETFROM:-0400
TZOFFSETTO:-0500
TZNAME:EST
DTSTART:20281105T060000
END:STANDARD
END:VTIMEZONE
BEGIN:VEVENT
DTSTART;TZID=America/New_York:20270703T080000
DTEND;TZID=America/New_York:20270703T100000
DTSTAMP:20260422T055908
CREATED:20260317T175803Z
LAST-MODIFIED:20260317T175803Z
UID:990011070-1814601600-1814608800@monet.gipreview.com
SUMMARY:Tennis
DESCRIPTION:Tennis is a fun\, fast paced sport that builds skill\, coordination and fitness!  For all levels! \nMonday – Wednesday – Saturday at 8:00 am
URL:https://monet.gipreview.com/event/tennis-2/2027-07-03/
LOCATION:SANDPIPER\, 5883 Mallard Drive\, Lakeland\, United States
CATEGORIES:Community Activity
ATTACH;FMTTYPE=image/png:https://monet.gipreview.com/wp-content/uploads/2026/03/Tennis-courts-open-play-invitation.png
END:VEVENT
BEGIN:VEVENT
DTSTART;TZID=America/New_York:20270705T080000
DTEND;TZID=America/New_York:20270705T100000
DTSTAMP:20260422T055908
CREATED:20260317T175803Z
LAST-MODIFIED:20260317T175803Z
UID:990011071-1814774400-1814781600@monet.gipreview.com
SUMMARY:Tennis
DESCRIPTION:Tennis is a fun\, fast paced sport that builds skill\, coordination and fitness!  For all levels! \nMonday – Wednesday – Saturday at 8:00 am
URL:https://monet.gipreview.com/event/tennis-2/2027-07-05/
LOCATION:SANDPIPER\, 5883 Mallard Drive\, Lakeland\, United States
CATEGORIES:Community Activity
ATTACH;FMTTYPE=image/png:https://monet.gipreview.com/wp-content/uploads/2026/03/Tennis-courts-open-play-invitation.png
END:VEVENT
BEGIN:VEVENT
DTSTART;TZID=America/New_York:20270706T080000
DTEND;TZID=America/New_York:20270706T100000
DTSTAMP:20260422T055908
CREATED:20260317T175803Z
LAST-MODIFIED:20260317T175803Z
UID:990011072-1814860800-1814868000@monet.gipreview.com
SUMMARY:Tennis
DESCRIPTION:Tennis is a fun\, fast paced sport that builds skill\, coordination and fitness!  For all levels! \nMonday – Wednesday – Saturday at 8:00 am
URL:https://monet.gipreview.com/event/tennis-2/2027-07-06/
LOCATION:SANDPIPER\, 5883 Mallard Drive\, Lakeland\, United States
CATEGORIES:Community Activity
ATTACH;FMTTYPE=image/png:https://monet.gipreview.com/wp-content/uploads/2026/03/Tennis-courts-open-play-invitation.png
END:VEVENT
BEGIN:VEVENT
DTSTART;TZID=America/New_York:20270707T080000
DTEND;TZID=America/New_York:20270707T100000
DTSTAMP:20260422T055908
CREATED:20260317T175803Z
LAST-MODIFIED:20260317T175803Z
UID:990011073-1814947200-1814954400@monet.gipreview.com
SUMMARY:Tennis
DESCRIPTION:Tennis is a fun\, fast paced sport that builds skill\, coordination and fitness!  For all levels! \nMonday – Wednesday – Saturday at 8:00 am
URL:https://monet.gipreview.com/event/tennis-2/2027-07-07/
LOCATION:SANDPIPER\, 5883 Mallard Drive\, Lakeland\, United States
CATEGORIES:Community Activity
ATTACH;FMTTYPE=image/png:https://monet.gipreview.com/wp-content/uploads/2026/03/Tennis-courts-open-play-invitation.png
END:VEVENT
BEGIN:VEVENT
DTSTART;TZID=America/New_York:20270710T080000
DTEND;TZID=America/New_York:20270710T100000
DTSTAMP:20260422T055908
CREATED:20260317T175803Z
LAST-MODIFIED:20260317T175803Z
UID:990011074-1815206400-1815213600@monet.gipreview.com
SUMMARY:Tennis
DESCRIPTION:Tennis is a fun\, fast paced sport that builds skill\, coordination and fitness!  For all levels! \nMonday – Wednesday – Saturday at 8:00 am
URL:https://monet.gipreview.com/event/tennis-2/2027-07-10/
LOCATION:SANDPIPER\, 5883 Mallard Drive\, Lakeland\, United States
CATEGORIES:Community Activity
ATTACH;FMTTYPE=image/png:https://monet.gipreview.com/wp-content/uploads/2026/03/Tennis-courts-open-play-invitation.png
END:VEVENT
BEGIN:VEVENT
DTSTART;TZID=America/New_York:20270712T080000
DTEND;TZID=America/New_York:20270712T100000
DTSTAMP:20260422T055908
CREATED:20260317T175803Z
LAST-MODIFIED:20260317T175803Z
UID:990011075-1815379200-1815386400@monet.gipreview.com
SUMMARY:Tennis
DESCRIPTION:Tennis is a fun\, fast paced sport that builds skill\, coordination and fitness!  For all levels! \nMonday – Wednesday – Saturday at 8:00 am
URL:https://monet.gipreview.com/event/tennis-2/2027-07-12/
LOCATION:SANDPIPER\, 5883 Mallard Drive\, Lakeland\, United States
CATEGORIES:Community Activity
ATTACH;FMTTYPE=image/png:https://monet.gipreview.com/wp-content/uploads/2026/03/Tennis-courts-open-play-invitation.png
END:VEVENT
BEGIN:VEVENT
DTSTART;TZID=America/New_York:20270713T080000
DTEND;TZID=America/New_York:20270713T100000
DTSTAMP:20260422T055908
CREATED:20260317T175803Z
LAST-MODIFIED:20260317T175803Z
UID:990011076-1815465600-1815472800@monet.gipreview.com
SUMMARY:Tennis
DESCRIPTION:Tennis is a fun\, fast paced sport that builds skill\, coordination and fitness!  For all levels! \nMonday – Wednesday – Saturday at 8:00 am
URL:https://monet.gipreview.com/event/tennis-2/2027-07-13/
LOCATION:SANDPIPER\, 5883 Mallard Drive\, Lakeland\, United States
CATEGORIES:Community Activity
ATTACH;FMTTYPE=image/png:https://monet.gipreview.com/wp-content/uploads/2026/03/Tennis-courts-open-play-invitation.png
END:VEVENT
BEGIN:VEVENT
DTSTART;TZID=America/New_York:20270714T080000
DTEND;TZID=America/New_York:20270714T100000
DTSTAMP:20260422T055908
CREATED:20260317T175803Z
LAST-MODIFIED:20260317T175803Z
UID:990011077-1815552000-1815559200@monet.gipreview.com
SUMMARY:Tennis
DESCRIPTION:Tennis is a fun\, fast paced sport that builds skill\, coordination and fitness!  For all levels! \nMonday – Wednesday – Saturday at 8:00 am
URL:https://monet.gipreview.com/event/tennis-2/2027-07-14/
LOCATION:SANDPIPER\, 5883 Mallard Drive\, Lakeland\, United States
CATEGORIES:Community Activity
ATTACH;FMTTYPE=image/png:https://monet.gipreview.com/wp-content/uploads/2026/03/Tennis-courts-open-play-invitation.png
END:VEVENT
BEGIN:VEVENT
DTSTART;TZID=America/New_York:20270717T080000
DTEND;TZID=America/New_York:20270717T100000
DTSTAMP:20260422T055909
CREATED:20260317T175803Z
LAST-MODIFIED:20260317T175803Z
UID:990011078-1815811200-1815818400@monet.gipreview.com
SUMMARY:Tennis
DESCRIPTION:Tennis is a fun\, fast paced sport that builds skill\, coordination and fitness!  For all levels! \nMonday – Wednesday – Saturday at 8:00 am
URL:https://monet.gipreview.com/event/tennis-2/2027-07-17/
LOCATION:SANDPIPER\, 5883 Mallard Drive\, Lakeland\, United States
CATEGORIES:Community Activity
ATTACH;FMTTYPE=image/png:https://monet.gipreview.com/wp-content/uploads/2026/03/Tennis-courts-open-play-invitation.png
END:VEVENT
BEGIN:VEVENT
DTSTART;TZID=America/New_York:20270719T080000
DTEND;TZID=America/New_York:20270719T100000
DTSTAMP:20260422T055909
CREATED:20260317T175803Z
LAST-MODIFIED:20260317T175803Z
UID:990011079-1815984000-1815991200@monet.gipreview.com
SUMMARY:Tennis
DESCRIPTION:Tennis is a fun\, fast paced sport that builds skill\, coordination and fitness!  For all levels! \nMonday – Wednesday – Saturday at 8:00 am
URL:https://monet.gipreview.com/event/tennis-2/2027-07-19/
LOCATION:SANDPIPER\, 5883 Mallard Drive\, Lakeland\, United States
CATEGORIES:Community Activity
ATTACH;FMTTYPE=image/png:https://monet.gipreview.com/wp-content/uploads/2026/03/Tennis-courts-open-play-invitation.png
END:VEVENT
BEGIN:VEVENT
DTSTART;TZID=America/New_York:20270720T080000
DTEND;TZID=America/New_York:20270720T100000
DTSTAMP:20260422T055909
CREATED:20260317T175803Z
LAST-MODIFIED:20260317T175803Z
UID:990011080-1816070400-1816077600@monet.gipreview.com
SUMMARY:Tennis
DESCRIPTION:Tennis is a fun\, fast paced sport that builds skill\, coordination and fitness!  For all levels! \nMonday – Wednesday – Saturday at 8:00 am
URL:https://monet.gipreview.com/event/tennis-2/2027-07-20/
LOCATION:SANDPIPER\, 5883 Mallard Drive\, Lakeland\, United States
CATEGORIES:Community Activity
ATTACH;FMTTYPE=image/png:https://monet.gipreview.com/wp-content/uploads/2026/03/Tennis-courts-open-play-invitation.png
END:VEVENT
BEGIN:VEVENT
DTSTART;TZID=America/New_York:20270721T080000
DTEND;TZID=America/New_York:20270721T100000
DTSTAMP:20260422T055909
CREATED:20260317T175803Z
LAST-MODIFIED:20260317T175803Z
UID:990011081-1816156800-1816164000@monet.gipreview.com
SUMMARY:Tennis
DESCRIPTION:Tennis is a fun\, fast paced sport that builds skill\, coordination and fitness!  For all levels! \nMonday – Wednesday – Saturday at 8:00 am
URL:https://monet.gipreview.com/event/tennis-2/2027-07-21/
LOCATION:SANDPIPER\, 5883 Mallard Drive\, Lakeland\, United States
CATEGORIES:Community Activity
ATTACH;FMTTYPE=image/png:https://monet.gipreview.com/wp-content/uploads/2026/03/Tennis-courts-open-play-invitation.png
END:VEVENT
BEGIN:VEVENT
DTSTART;TZID=America/New_York:20270724T080000
DTEND;TZID=America/New_York:20270724T100000
DTSTAMP:20260422T055909
CREATED:20260317T175803Z
LAST-MODIFIED:20260317T175803Z
UID:990011082-1816416000-1816423200@monet.gipreview.com
SUMMARY:Tennis
DESCRIPTION:Tennis is a fun\, fast paced sport that builds skill\, coordination and fitness!  For all levels! \nMonday – Wednesday – Saturday at 8:00 am
URL:https://monet.gipreview.com/event/tennis-2/2027-07-24/
LOCATION:SANDPIPER\, 5883 Mallard Drive\, Lakeland\, United States
CATEGORIES:Community Activity
ATTACH;FMTTYPE=image/png:https://monet.gipreview.com/wp-content/uploads/2026/03/Tennis-courts-open-play-invitation.png
END:VEVENT
BEGIN:VEVENT
DTSTART;TZID=America/New_York:20270726T080000
DTEND;TZID=America/New_York:20270726T100000
DTSTAMP:20260422T055909
CREATED:20260317T175803Z
LAST-MODIFIED:20260317T175803Z
UID:990011083-1816588800-1816596000@monet.gipreview.com
SUMMARY:Tennis
DESCRIPTION:Tennis is a fun\, fast paced sport that builds skill\, coordination and fitness!  For all levels! \nMonday – Wednesday – Saturday at 8:00 am
URL:https://monet.gipreview.com/event/tennis-2/2027-07-26/
LOCATION:SANDPIPER\, 5883 Mallard Drive\, Lakeland\, United States
CATEGORIES:Community Activity
ATTACH;FMTTYPE=image/png:https://monet.gipreview.com/wp-content/uploads/2026/03/Tennis-courts-open-play-invitation.png
END:VEVENT
BEGIN:VEVENT
DTSTART;TZID=America/New_York:20270727T080000
DTEND;TZID=America/New_York:20270727T100000
DTSTAMP:20260422T055909
CREATED:20260317T175803Z
LAST-MODIFIED:20260317T175803Z
UID:990011084-1816675200-1816682400@monet.gipreview.com
SUMMARY:Tennis
DESCRIPTION:Tennis is a fun\, fast paced sport that builds skill\, coordination and fitness!  For all levels! \nMonday – Wednesday – Saturday at 8:00 am
URL:https://monet.gipreview.com/event/tennis-2/2027-07-27/
LOCATION:SANDPIPER\, 5883 Mallard Drive\, Lakeland\, United States
CATEGORIES:Community Activity
ATTACH;FMTTYPE=image/png:https://monet.gipreview.com/wp-content/uploads/2026/03/Tennis-courts-open-play-invitation.png
END:VEVENT
BEGIN:VEVENT
DTSTART;TZID=America/New_York:20270728T080000
DTEND;TZID=America/New_York:20270728T100000
DTSTAMP:20260422T055909
CREATED:20260317T175803Z
LAST-MODIFIED:20260317T175803Z
UID:990011085-1816761600-1816768800@monet.gipreview.com
SUMMARY:Tennis
DESCRIPTION:Tennis is a fun\, fast paced sport that builds skill\, coordination and fitness!  For all levels! \nMonday – Wednesday – Saturday at 8:00 am
URL:https://monet.gipreview.com/event/tennis-2/2027-07-28/
LOCATION:SANDPIPER\, 5883 Mallard Drive\, Lakeland\, United States
CATEGORIES:Community Activity
ATTACH;FMTTYPE=image/png:https://monet.gipreview.com/wp-content/uploads/2026/03/Tennis-courts-open-play-invitation.png
END:VEVENT
BEGIN:VEVENT
DTSTART;TZID=America/New_York:20270731T080000
DTEND;TZID=America/New_York:20270731T100000
DTSTAMP:20260422T055909
CREATED:20260317T175803Z
LAST-MODIFIED:20260317T175803Z
UID:990011086-1817020800-1817028000@monet.gipreview.com
SUMMARY:Tennis
DESCRIPTION:Tennis is a fun\, fast paced sport that builds skill\, coordination and fitness!  For all levels! \nMonday – Wednesday – Saturday at 8:00 am
URL:https://monet.gipreview.com/event/tennis-2/2027-07-31/
LOCATION:SANDPIPER\, 5883 Mallard Drive\, Lakeland\, United States
CATEGORIES:Community Activity
ATTACH;FMTTYPE=image/png:https://monet.gipreview.com/wp-content/uploads/2026/03/Tennis-courts-open-play-invitation.png
END:VEVENT
BEGIN:VEVENT
DTSTART;TZID=America/New_York:20270802T080000
DTEND;TZID=America/New_York:20270802T100000
DTSTAMP:20260422T055909
CREATED:20260317T175803Z
LAST-MODIFIED:20260317T175803Z
UID:990011087-1817193600-1817200800@monet.gipreview.com
SUMMARY:Tennis
DESCRIPTION:Tennis is a fun\, fast paced sport that builds skill\, coordination and fitness!  For all levels! \nMonday – Wednesday – Saturday at 8:00 am
URL:https://monet.gipreview.com/event/tennis-2/2027-08-02/
LOCATION:SANDPIPER\, 5883 Mallard Drive\, Lakeland\, United States
CATEGORIES:Community Activity
ATTACH;FMTTYPE=image/png:https://monet.gipreview.com/wp-content/uploads/2026/03/Tennis-courts-open-play-invitation.png
END:VEVENT
BEGIN:VEVENT
DTSTART;TZID=America/New_York:20270803T080000
DTEND;TZID=America/New_York:20270803T100000
DTSTAMP:20260422T055909
CREATED:20260317T175803Z
LAST-MODIFIED:20260317T175803Z
UID:990011088-1817280000-1817287200@monet.gipreview.com
SUMMARY:Tennis
DESCRIPTION:Tennis is a fun\, fast paced sport that builds skill\, coordination and fitness!  For all levels! \nMonday – Wednesday – Saturday at 8:00 am
URL:https://monet.gipreview.com/event/tennis-2/2027-08-03/
LOCATION:SANDPIPER\, 5883 Mallard Drive\, Lakeland\, United States
CATEGORIES:Community Activity
ATTACH;FMTTYPE=image/png:https://monet.gipreview.com/wp-content/uploads/2026/03/Tennis-courts-open-play-invitation.png
END:VEVENT
BEGIN:VEVENT
DTSTART;TZID=America/New_York:20270804T080000
DTEND;TZID=America/New_York:20270804T100000
DTSTAMP:20260422T055909
CREATED:20260317T175803Z
LAST-MODIFIED:20260317T175803Z
UID:990011089-1817366400-1817373600@monet.gipreview.com
SUMMARY:Tennis
DESCRIPTION:Tennis is a fun\, fast paced sport that builds skill\, coordination and fitness!  For all levels! \nMonday – Wednesday – Saturday at 8:00 am
URL:https://monet.gipreview.com/event/tennis-2/2027-08-04/
LOCATION:SANDPIPER\, 5883 Mallard Drive\, Lakeland\, United States
CATEGORIES:Community Activity
ATTACH;FMTTYPE=image/png:https://monet.gipreview.com/wp-content/uploads/2026/03/Tennis-courts-open-play-invitation.png
END:VEVENT
BEGIN:VEVENT
DTSTART;TZID=America/New_York:20270807T080000
DTEND;TZID=America/New_York:20270807T100000
DTSTAMP:20260422T055909
CREATED:20260317T175803Z
LAST-MODIFIED:20260317T175803Z
UID:990011090-1817625600-1817632800@monet.gipreview.com
SUMMARY:Tennis
DESCRIPTION:Tennis is a fun\, fast paced sport that builds skill\, coordination and fitness!  For all levels! \nMonday – Wednesday – Saturday at 8:00 am
URL:https://monet.gipreview.com/event/tennis-2/2027-08-07/
LOCATION:SANDPIPER\, 5883 Mallard Drive\, Lakeland\, United States
CATEGORIES:Community Activity
ATTACH;FMTTYPE=image/png:https://monet.gipreview.com/wp-content/uploads/2026/03/Tennis-courts-open-play-invitation.png
END:VEVENT
BEGIN:VEVENT
DTSTART;TZID=America/New_York:20270809T080000
DTEND;TZID=America/New_York:20270809T100000
DTSTAMP:20260422T055909
CREATED:20260317T175803Z
LAST-MODIFIED:20260317T175803Z
UID:990011091-1817798400-1817805600@monet.gipreview.com
SUMMARY:Tennis
DESCRIPTION:Tennis is a fun\, fast paced sport that builds skill\, coordination and fitness!  For all levels! \nMonday – Wednesday – Saturday at 8:00 am
URL:https://monet.gipreview.com/event/tennis-2/2027-08-09/
LOCATION:SANDPIPER\, 5883 Mallard Drive\, Lakeland\, United States
CATEGORIES:Community Activity
ATTACH;FMTTYPE=image/png:https://monet.gipreview.com/wp-content/uploads/2026/03/Tennis-courts-open-play-invitation.png
END:VEVENT
BEGIN:VEVENT
DTSTART;TZID=America/New_York:20270810T080000
DTEND;TZID=America/New_York:20270810T100000
DTSTAMP:20260422T055909
CREATED:20260317T175803Z
LAST-MODIFIED:20260317T175803Z
UID:990011092-1817884800-1817892000@monet.gipreview.com
SUMMARY:Tennis
DESCRIPTION:Tennis is a fun\, fast paced sport that builds skill\, coordination and fitness!  For all levels! \nMonday – Wednesday – Saturday at 8:00 am
URL:https://monet.gipreview.com/event/tennis-2/2027-08-10/
LOCATION:SANDPIPER\, 5883 Mallard Drive\, Lakeland\, United States
CATEGORIES:Community Activity
ATTACH;FMTTYPE=image/png:https://monet.gipreview.com/wp-content/uploads/2026/03/Tennis-courts-open-play-invitation.png
END:VEVENT
BEGIN:VEVENT
DTSTART;TZID=America/New_York:20270811T080000
DTEND;TZID=America/New_York:20270811T100000
DTSTAMP:20260422T055909
CREATED:20260317T175803Z
LAST-MODIFIED:20260317T175803Z
UID:990011093-1817971200-1817978400@monet.gipreview.com
SUMMARY:Tennis
DESCRIPTION:Tennis is a fun\, fast paced sport that builds skill\, coordination and fitness!  For all levels! \nMonday – Wednesday – Saturday at 8:00 am
URL:https://monet.gipreview.com/event/tennis-2/2027-08-11/
LOCATION:SANDPIPER\, 5883 Mallard Drive\, Lakeland\, United States
CATEGORIES:Community Activity
ATTACH;FMTTYPE=image/png:https://monet.gipreview.com/wp-content/uploads/2026/03/Tennis-courts-open-play-invitation.png
END:VEVENT
BEGIN:VEVENT
DTSTART;TZID=America/New_York:20270814T080000
DTEND;TZID=America/New_York:20270814T100000
DTSTAMP:20260422T055909
CREATED:20260317T175803Z
LAST-MODIFIED:20260317T175803Z
UID:990011094-1818230400-1818237600@monet.gipreview.com
SUMMARY:Tennis
DESCRIPTION:Tennis is a fun\, fast paced sport that builds skill\, coordination and fitness!  For all levels! \nMonday – Wednesday – Saturday at 8:00 am
URL:https://monet.gipreview.com/event/tennis-2/2027-08-14/
LOCATION:SANDPIPER\, 5883 Mallard Drive\, Lakeland\, United States
CATEGORIES:Community Activity
ATTACH;FMTTYPE=image/png:https://monet.gipreview.com/wp-content/uploads/2026/03/Tennis-courts-open-play-invitation.png
END:VEVENT
BEGIN:VEVENT
DTSTART;TZID=America/New_York:20270816T080000
DTEND;TZID=America/New_York:20270816T100000
DTSTAMP:20260422T055909
CREATED:20260317T175803Z
LAST-MODIFIED:20260317T175803Z
UID:990011095-1818403200-1818410400@monet.gipreview.com
SUMMARY:Tennis
DESCRIPTION:Tennis is a fun\, fast paced sport that builds skill\, coordination and fitness!  For all levels! \nMonday – Wednesday – Saturday at 8:00 am
URL:https://monet.gipreview.com/event/tennis-2/2027-08-16/
LOCATION:SANDPIPER\, 5883 Mallard Drive\, Lakeland\, United States
CATEGORIES:Community Activity
ATTACH;FMTTYPE=image/png:https://monet.gipreview.com/wp-content/uploads/2026/03/Tennis-courts-open-play-invitation.png
END:VEVENT
BEGIN:VEVENT
DTSTART;TZID=America/New_York:20270817T080000
DTEND;TZID=America/New_York:20270817T100000
DTSTAMP:20260422T055909
CREATED:20260317T175803Z
LAST-MODIFIED:20260317T175803Z
UID:990011096-1818489600-1818496800@monet.gipreview.com
SUMMARY:Tennis
DESCRIPTION:Tennis is a fun\, fast paced sport that builds skill\, coordination and fitness!  For all levels! \nMonday – Wednesday – Saturday at 8:00 am
URL:https://monet.gipreview.com/event/tennis-2/2027-08-17/
LOCATION:SANDPIPER\, 5883 Mallard Drive\, Lakeland\, United States
CATEGORIES:Community Activity
ATTACH;FMTTYPE=image/png:https://monet.gipreview.com/wp-content/uploads/2026/03/Tennis-courts-open-play-invitation.png
END:VEVENT
BEGIN:VEVENT
DTSTART;TZID=America/New_York:20270818T080000
DTEND;TZID=America/New_York:20270818T100000
DTSTAMP:20260422T055909
CREATED:20260317T175803Z
LAST-MODIFIED:20260317T175803Z
UID:990011097-1818576000-1818583200@monet.gipreview.com
SUMMARY:Tennis
DESCRIPTION:Tennis is a fun\, fast paced sport that builds skill\, coordination and fitness!  For all levels! \nMonday – Wednesday – Saturday at 8:00 am
URL:https://monet.gipreview.com/event/tennis-2/2027-08-18/
LOCATION:SANDPIPER\, 5883 Mallard Drive\, Lakeland\, United States
CATEGORIES:Community Activity
ATTACH;FMTTYPE=image/png:https://monet.gipreview.com/wp-content/uploads/2026/03/Tennis-courts-open-play-invitation.png
END:VEVENT
BEGIN:VEVENT
DTSTART;TZID=America/New_York:20270821T080000
DTEND;TZID=America/New_York:20270821T100000
DTSTAMP:20260422T055909
CREATED:20260317T175803Z
LAST-MODIFIED:20260317T175803Z
UID:990011098-1818835200-1818842400@monet.gipreview.com
SUMMARY:Tennis
DESCRIPTION:Tennis is a fun\, fast paced sport that builds skill\, coordination and fitness!  For all levels! \nMonday – Wednesday – Saturday at 8:00 am
URL:https://monet.gipreview.com/event/tennis-2/2027-08-21/
LOCATION:SANDPIPER\, 5883 Mallard Drive\, Lakeland\, United States
CATEGORIES:Community Activity
ATTACH;FMTTYPE=image/png:https://monet.gipreview.com/wp-content/uploads/2026/03/Tennis-courts-open-play-invitation.png
END:VEVENT
BEGIN:VEVENT
DTSTART;TZID=America/New_York:20270823T080000
DTEND;TZID=America/New_York:20270823T100000
DTSTAMP:20260422T055909
CREATED:20260317T175803Z
LAST-MODIFIED:20260317T175803Z
UID:990011099-1819008000-1819015200@monet.gipreview.com
SUMMARY:Tennis
DESCRIPTION:Tennis is a fun\, fast paced sport that builds skill\, coordination and fitness!  For all levels! \nMonday – Wednesday – Saturday at 8:00 am
URL:https://monet.gipreview.com/event/tennis-2/2027-08-23/
LOCATION:SANDPIPER\, 5883 Mallard Drive\, Lakeland\, United States
CATEGORIES:Community Activity
ATTACH;FMTTYPE=image/png:https://monet.gipreview.com/wp-content/uploads/2026/03/Tennis-courts-open-play-invitation.png
END:VEVENT
END:VCALENDAR