BEGIN:VCALENDAR
VERSION:2.0
PRODID:-//Sandpiper - ECPv6.15.20//NONSGML v1.0//EN
CALSCALE:GREGORIAN
METHOD:PUBLISH
X-WR-CALNAME:Sandpiper
X-ORIGINAL-URL:https://monet.gipreview.com
X-WR-CALDESC:Events for Sandpiper
REFRESH-INTERVAL;VALUE=DURATION:PT1H
X-Robots-Tag:noindex
X-PUBLISHED-TTL:PT1H
BEGIN:VTIMEZONE
TZID:America/New_York
BEGIN:DAYLIGHT
TZOFFSETFROM:-0500
TZOFFSETTO:-0400
TZNAME:EDT
DTSTART:20260308T070000
END:DAYLIGHT
BEGIN:STANDARD
TZOFFSETFROM:-0400
TZOFFSETTO:-0500
TZNAME:EST
DTSTART:20261101T060000
END:STANDARD
BEGIN:DAYLIGHT
TZOFFSETFROM:-0500
TZOFFSETTO:-0400
TZNAME:EDT
DTSTART:20270314T070000
END:DAYLIGHT
BEGIN:STANDARD
TZOFFSETFROM:-0400
TZOFFSETTO:-0500
TZNAME:EST
DTSTART:20271107T060000
END:STANDARD
BEGIN:DAYLIGHT
TZOFFSETFROM:-0500
TZOFFSETTO:-0400
TZNAME:EDT
DTSTART:20280312T070000
END:DAYLIGHT
BEGIN:STANDARD
TZOFFSETFROM:-0400
TZOFFSETTO:-0500
TZNAME:EST
DTSTART:20281105T060000
END:STANDARD
END:VTIMEZONE
BEGIN:VEVENT
DTSTART;TZID=America/New_York:20270327T080000
DTEND;TZID=America/New_York:20270327T100000
DTSTAMP:20260420T091252
CREATED:20260317T175803Z
LAST-MODIFIED:20260317T175803Z
UID:990011014-1806134400-1806141600@monet.gipreview.com
SUMMARY:Tennis
DESCRIPTION:Tennis is a fun\, fast paced sport that builds skill\, coordination and fitness!  For all levels! \nMonday – Wednesday – Saturday at 8:00 am
URL:https://monet.gipreview.com/event/tennis-2/2027-03-27/
LOCATION:SANDPIPER\, 5883 Mallard Drive\, Lakeland\, United States
CATEGORIES:Community Activity
ATTACH;FMTTYPE=image/png:https://monet.gipreview.com/wp-content/uploads/2026/03/Tennis-courts-open-play-invitation.png
END:VEVENT
BEGIN:VEVENT
DTSTART;TZID=America/New_York:20270329T080000
DTEND;TZID=America/New_York:20270329T100000
DTSTAMP:20260420T091252
CREATED:20260317T175803Z
LAST-MODIFIED:20260317T175803Z
UID:990011015-1806307200-1806314400@monet.gipreview.com
SUMMARY:Tennis
DESCRIPTION:Tennis is a fun\, fast paced sport that builds skill\, coordination and fitness!  For all levels! \nMonday – Wednesday – Saturday at 8:00 am
URL:https://monet.gipreview.com/event/tennis-2/2027-03-29/
LOCATION:SANDPIPER\, 5883 Mallard Drive\, Lakeland\, United States
CATEGORIES:Community Activity
ATTACH;FMTTYPE=image/png:https://monet.gipreview.com/wp-content/uploads/2026/03/Tennis-courts-open-play-invitation.png
END:VEVENT
BEGIN:VEVENT
DTSTART;TZID=America/New_York:20270330T080000
DTEND;TZID=America/New_York:20270330T100000
DTSTAMP:20260420T091252
CREATED:20260317T175803Z
LAST-MODIFIED:20260317T175803Z
UID:990011016-1806393600-1806400800@monet.gipreview.com
SUMMARY:Tennis
DESCRIPTION:Tennis is a fun\, fast paced sport that builds skill\, coordination and fitness!  For all levels! \nMonday – Wednesday – Saturday at 8:00 am
URL:https://monet.gipreview.com/event/tennis-2/2027-03-30/
LOCATION:SANDPIPER\, 5883 Mallard Drive\, Lakeland\, United States
CATEGORIES:Community Activity
ATTACH;FMTTYPE=image/png:https://monet.gipreview.com/wp-content/uploads/2026/03/Tennis-courts-open-play-invitation.png
END:VEVENT
BEGIN:VEVENT
DTSTART;TZID=America/New_York:20270331T080000
DTEND;TZID=America/New_York:20270331T100000
DTSTAMP:20260420T091252
CREATED:20260317T175803Z
LAST-MODIFIED:20260317T175803Z
UID:990011017-1806480000-1806487200@monet.gipreview.com
SUMMARY:Tennis
DESCRIPTION:Tennis is a fun\, fast paced sport that builds skill\, coordination and fitness!  For all levels! \nMonday – Wednesday – Saturday at 8:00 am
URL:https://monet.gipreview.com/event/tennis-2/2027-03-31/
LOCATION:SANDPIPER\, 5883 Mallard Drive\, Lakeland\, United States
CATEGORIES:Community Activity
ATTACH;FMTTYPE=image/png:https://monet.gipreview.com/wp-content/uploads/2026/03/Tennis-courts-open-play-invitation.png
END:VEVENT
BEGIN:VEVENT
DTSTART;TZID=America/New_York:20270403T080000
DTEND;TZID=America/New_York:20270403T100000
DTSTAMP:20260420T091252
CREATED:20260317T175803Z
LAST-MODIFIED:20260317T175803Z
UID:990011018-1806739200-1806746400@monet.gipreview.com
SUMMARY:Tennis
DESCRIPTION:Tennis is a fun\, fast paced sport that builds skill\, coordination and fitness!  For all levels! \nMonday – Wednesday – Saturday at 8:00 am
URL:https://monet.gipreview.com/event/tennis-2/2027-04-03/
LOCATION:SANDPIPER\, 5883 Mallard Drive\, Lakeland\, United States
CATEGORIES:Community Activity
ATTACH;FMTTYPE=image/png:https://monet.gipreview.com/wp-content/uploads/2026/03/Tennis-courts-open-play-invitation.png
END:VEVENT
BEGIN:VEVENT
DTSTART;TZID=America/New_York:20270405T080000
DTEND;TZID=America/New_York:20270405T100000
DTSTAMP:20260420T091252
CREATED:20260317T175803Z
LAST-MODIFIED:20260317T175803Z
UID:990011019-1806912000-1806919200@monet.gipreview.com
SUMMARY:Tennis
DESCRIPTION:Tennis is a fun\, fast paced sport that builds skill\, coordination and fitness!  For all levels! \nMonday – Wednesday – Saturday at 8:00 am
URL:https://monet.gipreview.com/event/tennis-2/2027-04-05/
LOCATION:SANDPIPER\, 5883 Mallard Drive\, Lakeland\, United States
CATEGORIES:Community Activity
ATTACH;FMTTYPE=image/png:https://monet.gipreview.com/wp-content/uploads/2026/03/Tennis-courts-open-play-invitation.png
END:VEVENT
BEGIN:VEVENT
DTSTART;TZID=America/New_York:20270406T080000
DTEND;TZID=America/New_York:20270406T100000
DTSTAMP:20260420T091252
CREATED:20260317T175803Z
LAST-MODIFIED:20260317T175803Z
UID:990011020-1806998400-1807005600@monet.gipreview.com
SUMMARY:Tennis
DESCRIPTION:Tennis is a fun\, fast paced sport that builds skill\, coordination and fitness!  For all levels! \nMonday – Wednesday – Saturday at 8:00 am
URL:https://monet.gipreview.com/event/tennis-2/2027-04-06/
LOCATION:SANDPIPER\, 5883 Mallard Drive\, Lakeland\, United States
CATEGORIES:Community Activity
ATTACH;FMTTYPE=image/png:https://monet.gipreview.com/wp-content/uploads/2026/03/Tennis-courts-open-play-invitation.png
END:VEVENT
BEGIN:VEVENT
DTSTART;TZID=America/New_York:20270407T080000
DTEND;TZID=America/New_York:20270407T100000
DTSTAMP:20260420T091252
CREATED:20260317T175803Z
LAST-MODIFIED:20260317T175803Z
UID:990011021-1807084800-1807092000@monet.gipreview.com
SUMMARY:Tennis
DESCRIPTION:Tennis is a fun\, fast paced sport that builds skill\, coordination and fitness!  For all levels! \nMonday – Wednesday – Saturday at 8:00 am
URL:https://monet.gipreview.com/event/tennis-2/2027-04-07/
LOCATION:SANDPIPER\, 5883 Mallard Drive\, Lakeland\, United States
CATEGORIES:Community Activity
ATTACH;FMTTYPE=image/png:https://monet.gipreview.com/wp-content/uploads/2026/03/Tennis-courts-open-play-invitation.png
END:VEVENT
BEGIN:VEVENT
DTSTART;TZID=America/New_York:20270410T080000
DTEND;TZID=America/New_York:20270410T100000
DTSTAMP:20260420T091252
CREATED:20260317T175803Z
LAST-MODIFIED:20260317T175803Z
UID:990011022-1807344000-1807351200@monet.gipreview.com
SUMMARY:Tennis
DESCRIPTION:Tennis is a fun\, fast paced sport that builds skill\, coordination and fitness!  For all levels! \nMonday – Wednesday – Saturday at 8:00 am
URL:https://monet.gipreview.com/event/tennis-2/2027-04-10/
LOCATION:SANDPIPER\, 5883 Mallard Drive\, Lakeland\, United States
CATEGORIES:Community Activity
ATTACH;FMTTYPE=image/png:https://monet.gipreview.com/wp-content/uploads/2026/03/Tennis-courts-open-play-invitation.png
END:VEVENT
BEGIN:VEVENT
DTSTART;TZID=America/New_York:20270412T080000
DTEND;TZID=America/New_York:20270412T100000
DTSTAMP:20260420T091252
CREATED:20260317T175803Z
LAST-MODIFIED:20260317T175803Z
UID:990011023-1807516800-1807524000@monet.gipreview.com
SUMMARY:Tennis
DESCRIPTION:Tennis is a fun\, fast paced sport that builds skill\, coordination and fitness!  For all levels! \nMonday – Wednesday – Saturday at 8:00 am
URL:https://monet.gipreview.com/event/tennis-2/2027-04-12/
LOCATION:SANDPIPER\, 5883 Mallard Drive\, Lakeland\, United States
CATEGORIES:Community Activity
ATTACH;FMTTYPE=image/png:https://monet.gipreview.com/wp-content/uploads/2026/03/Tennis-courts-open-play-invitation.png
END:VEVENT
BEGIN:VEVENT
DTSTART;TZID=America/New_York:20270413T080000
DTEND;TZID=America/New_York:20270413T100000
DTSTAMP:20260420T091253
CREATED:20260317T175803Z
LAST-MODIFIED:20260317T175803Z
UID:990011024-1807603200-1807610400@monet.gipreview.com
SUMMARY:Tennis
DESCRIPTION:Tennis is a fun\, fast paced sport that builds skill\, coordination and fitness!  For all levels! \nMonday – Wednesday – Saturday at 8:00 am
URL:https://monet.gipreview.com/event/tennis-2/2027-04-13/
LOCATION:SANDPIPER\, 5883 Mallard Drive\, Lakeland\, United States
CATEGORIES:Community Activity
ATTACH;FMTTYPE=image/png:https://monet.gipreview.com/wp-content/uploads/2026/03/Tennis-courts-open-play-invitation.png
END:VEVENT
BEGIN:VEVENT
DTSTART;TZID=America/New_York:20270414T080000
DTEND;TZID=America/New_York:20270414T100000
DTSTAMP:20260420T091253
CREATED:20260317T175803Z
LAST-MODIFIED:20260317T175803Z
UID:990011025-1807689600-1807696800@monet.gipreview.com
SUMMARY:Tennis
DESCRIPTION:Tennis is a fun\, fast paced sport that builds skill\, coordination and fitness!  For all levels! \nMonday – Wednesday – Saturday at 8:00 am
URL:https://monet.gipreview.com/event/tennis-2/2027-04-14/
LOCATION:SANDPIPER\, 5883 Mallard Drive\, Lakeland\, United States
CATEGORIES:Community Activity
ATTACH;FMTTYPE=image/png:https://monet.gipreview.com/wp-content/uploads/2026/03/Tennis-courts-open-play-invitation.png
END:VEVENT
BEGIN:VEVENT
DTSTART;TZID=America/New_York:20270417T080000
DTEND;TZID=America/New_York:20270417T100000
DTSTAMP:20260420T091253
CREATED:20260317T175803Z
LAST-MODIFIED:20260317T175803Z
UID:990011026-1807948800-1807956000@monet.gipreview.com
SUMMARY:Tennis
DESCRIPTION:Tennis is a fun\, fast paced sport that builds skill\, coordination and fitness!  For all levels! \nMonday – Wednesday – Saturday at 8:00 am
URL:https://monet.gipreview.com/event/tennis-2/2027-04-17/
LOCATION:SANDPIPER\, 5883 Mallard Drive\, Lakeland\, United States
CATEGORIES:Community Activity
ATTACH;FMTTYPE=image/png:https://monet.gipreview.com/wp-content/uploads/2026/03/Tennis-courts-open-play-invitation.png
END:VEVENT
BEGIN:VEVENT
DTSTART;TZID=America/New_York:20270419T080000
DTEND;TZID=America/New_York:20270419T100000
DTSTAMP:20260420T091253
CREATED:20260317T175803Z
LAST-MODIFIED:20260317T175803Z
UID:990011027-1808121600-1808128800@monet.gipreview.com
SUMMARY:Tennis
DESCRIPTION:Tennis is a fun\, fast paced sport that builds skill\, coordination and fitness!  For all levels! \nMonday – Wednesday – Saturday at 8:00 am
URL:https://monet.gipreview.com/event/tennis-2/2027-04-19/
LOCATION:SANDPIPER\, 5883 Mallard Drive\, Lakeland\, United States
CATEGORIES:Community Activity
ATTACH;FMTTYPE=image/png:https://monet.gipreview.com/wp-content/uploads/2026/03/Tennis-courts-open-play-invitation.png
END:VEVENT
BEGIN:VEVENT
DTSTART;TZID=America/New_York:20270420T080000
DTEND;TZID=America/New_York:20270420T100000
DTSTAMP:20260420T091253
CREATED:20260317T175803Z
LAST-MODIFIED:20260317T175803Z
UID:990011028-1808208000-1808215200@monet.gipreview.com
SUMMARY:Tennis
DESCRIPTION:Tennis is a fun\, fast paced sport that builds skill\, coordination and fitness!  For all levels! \nMonday – Wednesday – Saturday at 8:00 am
URL:https://monet.gipreview.com/event/tennis-2/2027-04-20/
LOCATION:SANDPIPER\, 5883 Mallard Drive\, Lakeland\, United States
CATEGORIES:Community Activity
ATTACH;FMTTYPE=image/png:https://monet.gipreview.com/wp-content/uploads/2026/03/Tennis-courts-open-play-invitation.png
END:VEVENT
BEGIN:VEVENT
DTSTART;TZID=America/New_York:20270421T080000
DTEND;TZID=America/New_York:20270421T100000
DTSTAMP:20260420T091253
CREATED:20260317T175803Z
LAST-MODIFIED:20260317T175803Z
UID:990011029-1808294400-1808301600@monet.gipreview.com
SUMMARY:Tennis
DESCRIPTION:Tennis is a fun\, fast paced sport that builds skill\, coordination and fitness!  For all levels! \nMonday – Wednesday – Saturday at 8:00 am
URL:https://monet.gipreview.com/event/tennis-2/2027-04-21/
LOCATION:SANDPIPER\, 5883 Mallard Drive\, Lakeland\, United States
CATEGORIES:Community Activity
ATTACH;FMTTYPE=image/png:https://monet.gipreview.com/wp-content/uploads/2026/03/Tennis-courts-open-play-invitation.png
END:VEVENT
BEGIN:VEVENT
DTSTART;TZID=America/New_York:20270424T080000
DTEND;TZID=America/New_York:20270424T100000
DTSTAMP:20260420T091253
CREATED:20260317T175803Z
LAST-MODIFIED:20260317T175803Z
UID:990011030-1808553600-1808560800@monet.gipreview.com
SUMMARY:Tennis
DESCRIPTION:Tennis is a fun\, fast paced sport that builds skill\, coordination and fitness!  For all levels! \nMonday – Wednesday – Saturday at 8:00 am
URL:https://monet.gipreview.com/event/tennis-2/2027-04-24/
LOCATION:SANDPIPER\, 5883 Mallard Drive\, Lakeland\, United States
CATEGORIES:Community Activity
ATTACH;FMTTYPE=image/png:https://monet.gipreview.com/wp-content/uploads/2026/03/Tennis-courts-open-play-invitation.png
END:VEVENT
BEGIN:VEVENT
DTSTART;TZID=America/New_York:20270426T080000
DTEND;TZID=America/New_York:20270426T100000
DTSTAMP:20260420T091253
CREATED:20260317T175803Z
LAST-MODIFIED:20260317T175803Z
UID:990011031-1808726400-1808733600@monet.gipreview.com
SUMMARY:Tennis
DESCRIPTION:Tennis is a fun\, fast paced sport that builds skill\, coordination and fitness!  For all levels! \nMonday – Wednesday – Saturday at 8:00 am
URL:https://monet.gipreview.com/event/tennis-2/2027-04-26/
LOCATION:SANDPIPER\, 5883 Mallard Drive\, Lakeland\, United States
CATEGORIES:Community Activity
ATTACH;FMTTYPE=image/png:https://monet.gipreview.com/wp-content/uploads/2026/03/Tennis-courts-open-play-invitation.png
END:VEVENT
BEGIN:VEVENT
DTSTART;TZID=America/New_York:20270427T080000
DTEND;TZID=America/New_York:20270427T100000
DTSTAMP:20260420T091253
CREATED:20260317T175803Z
LAST-MODIFIED:20260317T175803Z
UID:990011032-1808812800-1808820000@monet.gipreview.com
SUMMARY:Tennis
DESCRIPTION:Tennis is a fun\, fast paced sport that builds skill\, coordination and fitness!  For all levels! \nMonday – Wednesday – Saturday at 8:00 am
URL:https://monet.gipreview.com/event/tennis-2/2027-04-27/
LOCATION:SANDPIPER\, 5883 Mallard Drive\, Lakeland\, United States
CATEGORIES:Community Activity
ATTACH;FMTTYPE=image/png:https://monet.gipreview.com/wp-content/uploads/2026/03/Tennis-courts-open-play-invitation.png
END:VEVENT
BEGIN:VEVENT
DTSTART;TZID=America/New_York:20270428T080000
DTEND;TZID=America/New_York:20270428T100000
DTSTAMP:20260420T091253
CREATED:20260317T175803Z
LAST-MODIFIED:20260317T175803Z
UID:990011033-1808899200-1808906400@monet.gipreview.com
SUMMARY:Tennis
DESCRIPTION:Tennis is a fun\, fast paced sport that builds skill\, coordination and fitness!  For all levels! \nMonday – Wednesday – Saturday at 8:00 am
URL:https://monet.gipreview.com/event/tennis-2/2027-04-28/
LOCATION:SANDPIPER\, 5883 Mallard Drive\, Lakeland\, United States
CATEGORIES:Community Activity
ATTACH;FMTTYPE=image/png:https://monet.gipreview.com/wp-content/uploads/2026/03/Tennis-courts-open-play-invitation.png
END:VEVENT
BEGIN:VEVENT
DTSTART;TZID=America/New_York:20270501T080000
DTEND;TZID=America/New_York:20270501T100000
DTSTAMP:20260420T091253
CREATED:20260317T175803Z
LAST-MODIFIED:20260317T175803Z
UID:990011034-1809158400-1809165600@monet.gipreview.com
SUMMARY:Tennis
DESCRIPTION:Tennis is a fun\, fast paced sport that builds skill\, coordination and fitness!  For all levels! \nMonday – Wednesday – Saturday at 8:00 am
URL:https://monet.gipreview.com/event/tennis-2/2027-05-01/
LOCATION:SANDPIPER\, 5883 Mallard Drive\, Lakeland\, United States
CATEGORIES:Community Activity
ATTACH;FMTTYPE=image/png:https://monet.gipreview.com/wp-content/uploads/2026/03/Tennis-courts-open-play-invitation.png
END:VEVENT
BEGIN:VEVENT
DTSTART;TZID=America/New_York:20270503T080000
DTEND;TZID=America/New_York:20270503T100000
DTSTAMP:20260420T091253
CREATED:20260317T175803Z
LAST-MODIFIED:20260317T175803Z
UID:990011035-1809331200-1809338400@monet.gipreview.com
SUMMARY:Tennis
DESCRIPTION:Tennis is a fun\, fast paced sport that builds skill\, coordination and fitness!  For all levels! \nMonday – Wednesday – Saturday at 8:00 am
URL:https://monet.gipreview.com/event/tennis-2/2027-05-03/
LOCATION:SANDPIPER\, 5883 Mallard Drive\, Lakeland\, United States
CATEGORIES:Community Activity
ATTACH;FMTTYPE=image/png:https://monet.gipreview.com/wp-content/uploads/2026/03/Tennis-courts-open-play-invitation.png
END:VEVENT
BEGIN:VEVENT
DTSTART;TZID=America/New_York:20270504T080000
DTEND;TZID=America/New_York:20270504T100000
DTSTAMP:20260420T091253
CREATED:20260317T175803Z
LAST-MODIFIED:20260317T175803Z
UID:990011036-1809417600-1809424800@monet.gipreview.com
SUMMARY:Tennis
DESCRIPTION:Tennis is a fun\, fast paced sport that builds skill\, coordination and fitness!  For all levels! \nMonday – Wednesday – Saturday at 8:00 am
URL:https://monet.gipreview.com/event/tennis-2/2027-05-04/
LOCATION:SANDPIPER\, 5883 Mallard Drive\, Lakeland\, United States
CATEGORIES:Community Activity
ATTACH;FMTTYPE=image/png:https://monet.gipreview.com/wp-content/uploads/2026/03/Tennis-courts-open-play-invitation.png
END:VEVENT
BEGIN:VEVENT
DTSTART;TZID=America/New_York:20270505T080000
DTEND;TZID=America/New_York:20270505T100000
DTSTAMP:20260420T091253
CREATED:20260317T175803Z
LAST-MODIFIED:20260317T175803Z
UID:990011037-1809504000-1809511200@monet.gipreview.com
SUMMARY:Tennis
DESCRIPTION:Tennis is a fun\, fast paced sport that builds skill\, coordination and fitness!  For all levels! \nMonday – Wednesday – Saturday at 8:00 am
URL:https://monet.gipreview.com/event/tennis-2/2027-05-05/
LOCATION:SANDPIPER\, 5883 Mallard Drive\, Lakeland\, United States
CATEGORIES:Community Activity
ATTACH;FMTTYPE=image/png:https://monet.gipreview.com/wp-content/uploads/2026/03/Tennis-courts-open-play-invitation.png
END:VEVENT
BEGIN:VEVENT
DTSTART;TZID=America/New_York:20270508T080000
DTEND;TZID=America/New_York:20270508T100000
DTSTAMP:20260420T091253
CREATED:20260317T175803Z
LAST-MODIFIED:20260317T175803Z
UID:990011038-1809763200-1809770400@monet.gipreview.com
SUMMARY:Tennis
DESCRIPTION:Tennis is a fun\, fast paced sport that builds skill\, coordination and fitness!  For all levels! \nMonday – Wednesday – Saturday at 8:00 am
URL:https://monet.gipreview.com/event/tennis-2/2027-05-08/
LOCATION:SANDPIPER\, 5883 Mallard Drive\, Lakeland\, United States
CATEGORIES:Community Activity
ATTACH;FMTTYPE=image/png:https://monet.gipreview.com/wp-content/uploads/2026/03/Tennis-courts-open-play-invitation.png
END:VEVENT
BEGIN:VEVENT
DTSTART;TZID=America/New_York:20270510T080000
DTEND;TZID=America/New_York:20270510T100000
DTSTAMP:20260420T091253
CREATED:20260317T175803Z
LAST-MODIFIED:20260317T175803Z
UID:990011039-1809936000-1809943200@monet.gipreview.com
SUMMARY:Tennis
DESCRIPTION:Tennis is a fun\, fast paced sport that builds skill\, coordination and fitness!  For all levels! \nMonday – Wednesday – Saturday at 8:00 am
URL:https://monet.gipreview.com/event/tennis-2/2027-05-10/
LOCATION:SANDPIPER\, 5883 Mallard Drive\, Lakeland\, United States
CATEGORIES:Community Activity
ATTACH;FMTTYPE=image/png:https://monet.gipreview.com/wp-content/uploads/2026/03/Tennis-courts-open-play-invitation.png
END:VEVENT
BEGIN:VEVENT
DTSTART;TZID=America/New_York:20270511T080000
DTEND;TZID=America/New_York:20270511T100000
DTSTAMP:20260420T091253
CREATED:20260317T175803Z
LAST-MODIFIED:20260317T175803Z
UID:990011040-1810022400-1810029600@monet.gipreview.com
SUMMARY:Tennis
DESCRIPTION:Tennis is a fun\, fast paced sport that builds skill\, coordination and fitness!  For all levels! \nMonday – Wednesday – Saturday at 8:00 am
URL:https://monet.gipreview.com/event/tennis-2/2027-05-11/
LOCATION:SANDPIPER\, 5883 Mallard Drive\, Lakeland\, United States
CATEGORIES:Community Activity
ATTACH;FMTTYPE=image/png:https://monet.gipreview.com/wp-content/uploads/2026/03/Tennis-courts-open-play-invitation.png
END:VEVENT
BEGIN:VEVENT
DTSTART;TZID=America/New_York:20270512T080000
DTEND;TZID=America/New_York:20270512T100000
DTSTAMP:20260420T091253
CREATED:20260317T175803Z
LAST-MODIFIED:20260317T175803Z
UID:990011041-1810108800-1810116000@monet.gipreview.com
SUMMARY:Tennis
DESCRIPTION:Tennis is a fun\, fast paced sport that builds skill\, coordination and fitness!  For all levels! \nMonday – Wednesday – Saturday at 8:00 am
URL:https://monet.gipreview.com/event/tennis-2/2027-05-12/
LOCATION:SANDPIPER\, 5883 Mallard Drive\, Lakeland\, United States
CATEGORIES:Community Activity
ATTACH;FMTTYPE=image/png:https://monet.gipreview.com/wp-content/uploads/2026/03/Tennis-courts-open-play-invitation.png
END:VEVENT
BEGIN:VEVENT
DTSTART;TZID=America/New_York:20270515T080000
DTEND;TZID=America/New_York:20270515T100000
DTSTAMP:20260420T091254
CREATED:20260317T175803Z
LAST-MODIFIED:20260317T175803Z
UID:990011042-1810368000-1810375200@monet.gipreview.com
SUMMARY:Tennis
DESCRIPTION:Tennis is a fun\, fast paced sport that builds skill\, coordination and fitness!  For all levels! \nMonday – Wednesday – Saturday at 8:00 am
URL:https://monet.gipreview.com/event/tennis-2/2027-05-15/
LOCATION:SANDPIPER\, 5883 Mallard Drive\, Lakeland\, United States
CATEGORIES:Community Activity
ATTACH;FMTTYPE=image/png:https://monet.gipreview.com/wp-content/uploads/2026/03/Tennis-courts-open-play-invitation.png
END:VEVENT
BEGIN:VEVENT
DTSTART;TZID=America/New_York:20270517T080000
DTEND;TZID=America/New_York:20270517T100000
DTSTAMP:20260420T091254
CREATED:20260317T175803Z
LAST-MODIFIED:20260317T175803Z
UID:990011043-1810540800-1810548000@monet.gipreview.com
SUMMARY:Tennis
DESCRIPTION:Tennis is a fun\, fast paced sport that builds skill\, coordination and fitness!  For all levels! \nMonday – Wednesday – Saturday at 8:00 am
URL:https://monet.gipreview.com/event/tennis-2/2027-05-17/
LOCATION:SANDPIPER\, 5883 Mallard Drive\, Lakeland\, United States
CATEGORIES:Community Activity
ATTACH;FMTTYPE=image/png:https://monet.gipreview.com/wp-content/uploads/2026/03/Tennis-courts-open-play-invitation.png
END:VEVENT
END:VCALENDAR