BEGIN:VCALENDAR
VERSION:2.0
PRODID:-//Sandpiper - ECPv6.15.20//NONSGML v1.0//EN
CALSCALE:GREGORIAN
METHOD:PUBLISH
X-ORIGINAL-URL:https://monet.gipreview.com
X-WR-CALDESC:Events for Sandpiper
REFRESH-INTERVAL;VALUE=DURATION:PT1H
X-Robots-Tag:noindex
X-PUBLISHED-TTL:PT1H
BEGIN:VTIMEZONE
TZID:America/New_York
BEGIN:DAYLIGHT
TZOFFSETFROM:-0500
TZOFFSETTO:-0400
TZNAME:EDT
DTSTART:20260308T070000
END:DAYLIGHT
BEGIN:STANDARD
TZOFFSETFROM:-0400
TZOFFSETTO:-0500
TZNAME:EST
DTSTART:20261101T060000
END:STANDARD
BEGIN:DAYLIGHT
TZOFFSETFROM:-0500
TZOFFSETTO:-0400
TZNAME:EDT
DTSTART:20270314T070000
END:DAYLIGHT
BEGIN:STANDARD
TZOFFSETFROM:-0400
TZOFFSETTO:-0500
TZNAME:EST
DTSTART:20271107T060000
END:STANDARD
BEGIN:DAYLIGHT
TZOFFSETFROM:-0500
TZOFFSETTO:-0400
TZNAME:EDT
DTSTART:20280312T070000
END:DAYLIGHT
BEGIN:STANDARD
TZOFFSETFROM:-0400
TZOFFSETTO:-0500
TZNAME:EST
DTSTART:20281105T060000
END:STANDARD
END:VTIMEZONE
BEGIN:VEVENT
DTSTART;TZID=America/New_York:20270217T080000
DTEND;TZID=America/New_York:20270217T100000
DTSTAMP:20260419T181208
CREATED:20260317T175803Z
LAST-MODIFIED:20260317T175803Z
UID:990010993-1802851200-1802858400@monet.gipreview.com
SUMMARY:Tennis
DESCRIPTION:Tennis is a fun\, fast paced sport that builds skill\, coordination and fitness!  For all levels! \nMonday – Wednesday – Saturday at 8:00 am
URL:https://monet.gipreview.com/event/tennis-2/2027-02-17/
LOCATION:SANDPIPER\, 5883 Mallard Drive\, Lakeland\, United States
CATEGORIES:Community Activity
ATTACH;FMTTYPE=image/png:https://monet.gipreview.com/wp-content/uploads/2026/03/Tennis-courts-open-play-invitation.png
END:VEVENT
BEGIN:VEVENT
DTSTART;TZID=America/New_York:20270220T080000
DTEND;TZID=America/New_York:20270220T100000
DTSTAMP:20260419T181208
CREATED:20260317T175803Z
LAST-MODIFIED:20260317T175803Z
UID:990010994-1803110400-1803117600@monet.gipreview.com
SUMMARY:Tennis
DESCRIPTION:Tennis is a fun\, fast paced sport that builds skill\, coordination and fitness!  For all levels! \nMonday – Wednesday – Saturday at 8:00 am
URL:https://monet.gipreview.com/event/tennis-2/2027-02-20/
LOCATION:SANDPIPER\, 5883 Mallard Drive\, Lakeland\, United States
CATEGORIES:Community Activity
ATTACH;FMTTYPE=image/png:https://monet.gipreview.com/wp-content/uploads/2026/03/Tennis-courts-open-play-invitation.png
END:VEVENT
BEGIN:VEVENT
DTSTART;TZID=America/New_York:20270222T080000
DTEND;TZID=America/New_York:20270222T100000
DTSTAMP:20260419T181208
CREATED:20260317T175803Z
LAST-MODIFIED:20260317T175803Z
UID:990010995-1803283200-1803290400@monet.gipreview.com
SUMMARY:Tennis
DESCRIPTION:Tennis is a fun\, fast paced sport that builds skill\, coordination and fitness!  For all levels! \nMonday – Wednesday – Saturday at 8:00 am
URL:https://monet.gipreview.com/event/tennis-2/2027-02-22/
LOCATION:SANDPIPER\, 5883 Mallard Drive\, Lakeland\, United States
CATEGORIES:Community Activity
ATTACH;FMTTYPE=image/png:https://monet.gipreview.com/wp-content/uploads/2026/03/Tennis-courts-open-play-invitation.png
END:VEVENT
BEGIN:VEVENT
DTSTART;TZID=America/New_York:20270223T080000
DTEND;TZID=America/New_York:20270223T100000
DTSTAMP:20260419T181208
CREATED:20260317T175803Z
LAST-MODIFIED:20260317T175803Z
UID:990010996-1803369600-1803376800@monet.gipreview.com
SUMMARY:Tennis
DESCRIPTION:Tennis is a fun\, fast paced sport that builds skill\, coordination and fitness!  For all levels! \nMonday – Wednesday – Saturday at 8:00 am
URL:https://monet.gipreview.com/event/tennis-2/2027-02-23/
LOCATION:SANDPIPER\, 5883 Mallard Drive\, Lakeland\, United States
CATEGORIES:Community Activity
ATTACH;FMTTYPE=image/png:https://monet.gipreview.com/wp-content/uploads/2026/03/Tennis-courts-open-play-invitation.png
END:VEVENT
BEGIN:VEVENT
DTSTART;TZID=America/New_York:20270224T080000
DTEND;TZID=America/New_York:20270224T100000
DTSTAMP:20260419T181208
CREATED:20260317T175803Z
LAST-MODIFIED:20260317T175803Z
UID:990010997-1803456000-1803463200@monet.gipreview.com
SUMMARY:Tennis
DESCRIPTION:Tennis is a fun\, fast paced sport that builds skill\, coordination and fitness!  For all levels! \nMonday – Wednesday – Saturday at 8:00 am
URL:https://monet.gipreview.com/event/tennis-2/2027-02-24/
LOCATION:SANDPIPER\, 5883 Mallard Drive\, Lakeland\, United States
CATEGORIES:Community Activity
ATTACH;FMTTYPE=image/png:https://monet.gipreview.com/wp-content/uploads/2026/03/Tennis-courts-open-play-invitation.png
END:VEVENT
BEGIN:VEVENT
DTSTART;TZID=America/New_York:20270227T080000
DTEND;TZID=America/New_York:20270227T100000
DTSTAMP:20260419T181208
CREATED:20260317T175803Z
LAST-MODIFIED:20260317T175803Z
UID:990010998-1803715200-1803722400@monet.gipreview.com
SUMMARY:Tennis
DESCRIPTION:Tennis is a fun\, fast paced sport that builds skill\, coordination and fitness!  For all levels! \nMonday – Wednesday – Saturday at 8:00 am
URL:https://monet.gipreview.com/event/tennis-2/2027-02-27/
LOCATION:SANDPIPER\, 5883 Mallard Drive\, Lakeland\, United States
CATEGORIES:Community Activity
ATTACH;FMTTYPE=image/png:https://monet.gipreview.com/wp-content/uploads/2026/03/Tennis-courts-open-play-invitation.png
END:VEVENT
BEGIN:VEVENT
DTSTART;TZID=America/New_York:20270301T080000
DTEND;TZID=America/New_York:20270301T100000
DTSTAMP:20260419T181208
CREATED:20260317T175803Z
LAST-MODIFIED:20260317T175803Z
UID:990010999-1803888000-1803895200@monet.gipreview.com
SUMMARY:Tennis
DESCRIPTION:Tennis is a fun\, fast paced sport that builds skill\, coordination and fitness!  For all levels! \nMonday – Wednesday – Saturday at 8:00 am
URL:https://monet.gipreview.com/event/tennis-2/2027-03-01/
LOCATION:SANDPIPER\, 5883 Mallard Drive\, Lakeland\, United States
CATEGORIES:Community Activity
ATTACH;FMTTYPE=image/png:https://monet.gipreview.com/wp-content/uploads/2026/03/Tennis-courts-open-play-invitation.png
END:VEVENT
BEGIN:VEVENT
DTSTART;TZID=America/New_York:20270302T080000
DTEND;TZID=America/New_York:20270302T100000
DTSTAMP:20260419T181208
CREATED:20260317T175803Z
LAST-MODIFIED:20260317T175803Z
UID:990011000-1803974400-1803981600@monet.gipreview.com
SUMMARY:Tennis
DESCRIPTION:Tennis is a fun\, fast paced sport that builds skill\, coordination and fitness!  For all levels! \nMonday – Wednesday – Saturday at 8:00 am
URL:https://monet.gipreview.com/event/tennis-2/2027-03-02/
LOCATION:SANDPIPER\, 5883 Mallard Drive\, Lakeland\, United States
CATEGORIES:Community Activity
ATTACH;FMTTYPE=image/png:https://monet.gipreview.com/wp-content/uploads/2026/03/Tennis-courts-open-play-invitation.png
END:VEVENT
BEGIN:VEVENT
DTSTART;TZID=America/New_York:20270303T080000
DTEND;TZID=America/New_York:20270303T100000
DTSTAMP:20260419T181208
CREATED:20260317T175803Z
LAST-MODIFIED:20260317T175803Z
UID:990011001-1804060800-1804068000@monet.gipreview.com
SUMMARY:Tennis
DESCRIPTION:Tennis is a fun\, fast paced sport that builds skill\, coordination and fitness!  For all levels! \nMonday – Wednesday – Saturday at 8:00 am
URL:https://monet.gipreview.com/event/tennis-2/2027-03-03/
LOCATION:SANDPIPER\, 5883 Mallard Drive\, Lakeland\, United States
CATEGORIES:Community Activity
ATTACH;FMTTYPE=image/png:https://monet.gipreview.com/wp-content/uploads/2026/03/Tennis-courts-open-play-invitation.png
END:VEVENT
BEGIN:VEVENT
DTSTART;TZID=America/New_York:20270306T080000
DTEND;TZID=America/New_York:20270306T100000
DTSTAMP:20260419T181208
CREATED:20260317T175803Z
LAST-MODIFIED:20260317T175803Z
UID:990011002-1804320000-1804327200@monet.gipreview.com
SUMMARY:Tennis
DESCRIPTION:Tennis is a fun\, fast paced sport that builds skill\, coordination and fitness!  For all levels! \nMonday – Wednesday – Saturday at 8:00 am
URL:https://monet.gipreview.com/event/tennis-2/2027-03-06/
LOCATION:SANDPIPER\, 5883 Mallard Drive\, Lakeland\, United States
CATEGORIES:Community Activity
ATTACH;FMTTYPE=image/png:https://monet.gipreview.com/wp-content/uploads/2026/03/Tennis-courts-open-play-invitation.png
END:VEVENT
BEGIN:VEVENT
DTSTART;TZID=America/New_York:20270308T080000
DTEND;TZID=America/New_York:20270308T100000
DTSTAMP:20260419T181208
CREATED:20260317T175803Z
LAST-MODIFIED:20260317T175803Z
UID:990011003-1804492800-1804500000@monet.gipreview.com
SUMMARY:Tennis
DESCRIPTION:Tennis is a fun\, fast paced sport that builds skill\, coordination and fitness!  For all levels! \nMonday – Wednesday – Saturday at 8:00 am
URL:https://monet.gipreview.com/event/tennis-2/2027-03-08/
LOCATION:SANDPIPER\, 5883 Mallard Drive\, Lakeland\, United States
CATEGORIES:Community Activity
ATTACH;FMTTYPE=image/png:https://monet.gipreview.com/wp-content/uploads/2026/03/Tennis-courts-open-play-invitation.png
END:VEVENT
BEGIN:VEVENT
DTSTART;TZID=America/New_York:20270309T080000
DTEND;TZID=America/New_York:20270309T100000
DTSTAMP:20260419T181208
CREATED:20260317T175803Z
LAST-MODIFIED:20260317T175803Z
UID:990011004-1804579200-1804586400@monet.gipreview.com
SUMMARY:Tennis
DESCRIPTION:Tennis is a fun\, fast paced sport that builds skill\, coordination and fitness!  For all levels! \nMonday – Wednesday – Saturday at 8:00 am
URL:https://monet.gipreview.com/event/tennis-2/2027-03-09/
LOCATION:SANDPIPER\, 5883 Mallard Drive\, Lakeland\, United States
CATEGORIES:Community Activity
ATTACH;FMTTYPE=image/png:https://monet.gipreview.com/wp-content/uploads/2026/03/Tennis-courts-open-play-invitation.png
END:VEVENT
BEGIN:VEVENT
DTSTART;TZID=America/New_York:20270310T080000
DTEND;TZID=America/New_York:20270310T100000
DTSTAMP:20260419T181208
CREATED:20260317T175803Z
LAST-MODIFIED:20260317T175803Z
UID:990011005-1804665600-1804672800@monet.gipreview.com
SUMMARY:Tennis
DESCRIPTION:Tennis is a fun\, fast paced sport that builds skill\, coordination and fitness!  For all levels! \nMonday – Wednesday – Saturday at 8:00 am
URL:https://monet.gipreview.com/event/tennis-2/2027-03-10/
LOCATION:SANDPIPER\, 5883 Mallard Drive\, Lakeland\, United States
CATEGORIES:Community Activity
ATTACH;FMTTYPE=image/png:https://monet.gipreview.com/wp-content/uploads/2026/03/Tennis-courts-open-play-invitation.png
END:VEVENT
BEGIN:VEVENT
DTSTART;TZID=America/New_York:20270313T080000
DTEND;TZID=America/New_York:20270313T100000
DTSTAMP:20260419T181208
CREATED:20260317T175803Z
LAST-MODIFIED:20260317T175803Z
UID:990011006-1804924800-1804932000@monet.gipreview.com
SUMMARY:Tennis
DESCRIPTION:Tennis is a fun\, fast paced sport that builds skill\, coordination and fitness!  For all levels! \nMonday – Wednesday – Saturday at 8:00 am
URL:https://monet.gipreview.com/event/tennis-2/2027-03-13/
LOCATION:SANDPIPER\, 5883 Mallard Drive\, Lakeland\, United States
CATEGORIES:Community Activity
ATTACH;FMTTYPE=image/png:https://monet.gipreview.com/wp-content/uploads/2026/03/Tennis-courts-open-play-invitation.png
END:VEVENT
BEGIN:VEVENT
DTSTART;TZID=America/New_York:20270315T080000
DTEND;TZID=America/New_York:20270315T100000
DTSTAMP:20260419T181208
CREATED:20260317T175803Z
LAST-MODIFIED:20260317T175803Z
UID:990011007-1805097600-1805104800@monet.gipreview.com
SUMMARY:Tennis
DESCRIPTION:Tennis is a fun\, fast paced sport that builds skill\, coordination and fitness!  For all levels! \nMonday – Wednesday – Saturday at 8:00 am
URL:https://monet.gipreview.com/event/tennis-2/2027-03-15/
LOCATION:SANDPIPER\, 5883 Mallard Drive\, Lakeland\, United States
CATEGORIES:Community Activity
ATTACH;FMTTYPE=image/png:https://monet.gipreview.com/wp-content/uploads/2026/03/Tennis-courts-open-play-invitation.png
END:VEVENT
BEGIN:VEVENT
DTSTART;TZID=America/New_York:20270316T080000
DTEND;TZID=America/New_York:20270316T100000
DTSTAMP:20260419T181208
CREATED:20260317T175803Z
LAST-MODIFIED:20260317T175803Z
UID:990011008-1805184000-1805191200@monet.gipreview.com
SUMMARY:Tennis
DESCRIPTION:Tennis is a fun\, fast paced sport that builds skill\, coordination and fitness!  For all levels! \nMonday – Wednesday – Saturday at 8:00 am
URL:https://monet.gipreview.com/event/tennis-2/2027-03-16/
LOCATION:SANDPIPER\, 5883 Mallard Drive\, Lakeland\, United States
CATEGORIES:Community Activity
ATTACH;FMTTYPE=image/png:https://monet.gipreview.com/wp-content/uploads/2026/03/Tennis-courts-open-play-invitation.png
END:VEVENT
BEGIN:VEVENT
DTSTART;TZID=America/New_York:20270317T080000
DTEND;TZID=America/New_York:20270317T100000
DTSTAMP:20260419T181208
CREATED:20260317T175803Z
LAST-MODIFIED:20260317T175803Z
UID:990011009-1805270400-1805277600@monet.gipreview.com
SUMMARY:Tennis
DESCRIPTION:Tennis is a fun\, fast paced sport that builds skill\, coordination and fitness!  For all levels! \nMonday – Wednesday – Saturday at 8:00 am
URL:https://monet.gipreview.com/event/tennis-2/2027-03-17/
LOCATION:SANDPIPER\, 5883 Mallard Drive\, Lakeland\, United States
CATEGORIES:Community Activity
ATTACH;FMTTYPE=image/png:https://monet.gipreview.com/wp-content/uploads/2026/03/Tennis-courts-open-play-invitation.png
END:VEVENT
BEGIN:VEVENT
DTSTART;TZID=America/New_York:20270320T080000
DTEND;TZID=America/New_York:20270320T100000
DTSTAMP:20260419T181208
CREATED:20260317T175803Z
LAST-MODIFIED:20260317T175803Z
UID:990011010-1805529600-1805536800@monet.gipreview.com
SUMMARY:Tennis
DESCRIPTION:Tennis is a fun\, fast paced sport that builds skill\, coordination and fitness!  For all levels! \nMonday – Wednesday – Saturday at 8:00 am
URL:https://monet.gipreview.com/event/tennis-2/2027-03-20/
LOCATION:SANDPIPER\, 5883 Mallard Drive\, Lakeland\, United States
CATEGORIES:Community Activity
ATTACH;FMTTYPE=image/png:https://monet.gipreview.com/wp-content/uploads/2026/03/Tennis-courts-open-play-invitation.png
END:VEVENT
BEGIN:VEVENT
DTSTART;TZID=America/New_York:20270322T080000
DTEND;TZID=America/New_York:20270322T100000
DTSTAMP:20260419T181208
CREATED:20260317T175803Z
LAST-MODIFIED:20260317T175803Z
UID:990011011-1805702400-1805709600@monet.gipreview.com
SUMMARY:Tennis
DESCRIPTION:Tennis is a fun\, fast paced sport that builds skill\, coordination and fitness!  For all levels! \nMonday – Wednesday – Saturday at 8:00 am
URL:https://monet.gipreview.com/event/tennis-2/2027-03-22/
LOCATION:SANDPIPER\, 5883 Mallard Drive\, Lakeland\, United States
CATEGORIES:Community Activity
ATTACH;FMTTYPE=image/png:https://monet.gipreview.com/wp-content/uploads/2026/03/Tennis-courts-open-play-invitation.png
END:VEVENT
BEGIN:VEVENT
DTSTART;TZID=America/New_York:20270323T080000
DTEND;TZID=America/New_York:20270323T100000
DTSTAMP:20260419T181208
CREATED:20260317T175803Z
LAST-MODIFIED:20260317T175803Z
UID:990011012-1805788800-1805796000@monet.gipreview.com
SUMMARY:Tennis
DESCRIPTION:Tennis is a fun\, fast paced sport that builds skill\, coordination and fitness!  For all levels! \nMonday – Wednesday – Saturday at 8:00 am
URL:https://monet.gipreview.com/event/tennis-2/2027-03-23/
LOCATION:SANDPIPER\, 5883 Mallard Drive\, Lakeland\, United States
CATEGORIES:Community Activity
ATTACH;FMTTYPE=image/png:https://monet.gipreview.com/wp-content/uploads/2026/03/Tennis-courts-open-play-invitation.png
END:VEVENT
BEGIN:VEVENT
DTSTART;TZID=America/New_York:20270324T080000
DTEND;TZID=America/New_York:20270324T100000
DTSTAMP:20260419T181208
CREATED:20260317T175803Z
LAST-MODIFIED:20260317T175803Z
UID:990011013-1805875200-1805882400@monet.gipreview.com
SUMMARY:Tennis
DESCRIPTION:Tennis is a fun\, fast paced sport that builds skill\, coordination and fitness!  For all levels! \nMonday – Wednesday – Saturday at 8:00 am
URL:https://monet.gipreview.com/event/tennis-2/2027-03-24/
LOCATION:SANDPIPER\, 5883 Mallard Drive\, Lakeland\, United States
CATEGORIES:Community Activity
ATTACH;FMTTYPE=image/png:https://monet.gipreview.com/wp-content/uploads/2026/03/Tennis-courts-open-play-invitation.png
END:VEVENT
BEGIN:VEVENT
DTSTART;TZID=America/New_York:20270327T080000
DTEND;TZID=America/New_York:20270327T100000
DTSTAMP:20260419T181208
CREATED:20260317T175803Z
LAST-MODIFIED:20260317T175803Z
UID:990011014-1806134400-1806141600@monet.gipreview.com
SUMMARY:Tennis
DESCRIPTION:Tennis is a fun\, fast paced sport that builds skill\, coordination and fitness!  For all levels! \nMonday – Wednesday – Saturday at 8:00 am
URL:https://monet.gipreview.com/event/tennis-2/2027-03-27/
LOCATION:SANDPIPER\, 5883 Mallard Drive\, Lakeland\, United States
CATEGORIES:Community Activity
ATTACH;FMTTYPE=image/png:https://monet.gipreview.com/wp-content/uploads/2026/03/Tennis-courts-open-play-invitation.png
END:VEVENT
BEGIN:VEVENT
DTSTART;TZID=America/New_York:20270329T080000
DTEND;TZID=America/New_York:20270329T100000
DTSTAMP:20260419T181208
CREATED:20260317T175803Z
LAST-MODIFIED:20260317T175803Z
UID:990011015-1806307200-1806314400@monet.gipreview.com
SUMMARY:Tennis
DESCRIPTION:Tennis is a fun\, fast paced sport that builds skill\, coordination and fitness!  For all levels! \nMonday – Wednesday – Saturday at 8:00 am
URL:https://monet.gipreview.com/event/tennis-2/2027-03-29/
LOCATION:SANDPIPER\, 5883 Mallard Drive\, Lakeland\, United States
CATEGORIES:Community Activity
ATTACH;FMTTYPE=image/png:https://monet.gipreview.com/wp-content/uploads/2026/03/Tennis-courts-open-play-invitation.png
END:VEVENT
BEGIN:VEVENT
DTSTART;TZID=America/New_York:20270330T080000
DTEND;TZID=America/New_York:20270330T100000
DTSTAMP:20260419T181208
CREATED:20260317T175803Z
LAST-MODIFIED:20260317T175803Z
UID:990011016-1806393600-1806400800@monet.gipreview.com
SUMMARY:Tennis
DESCRIPTION:Tennis is a fun\, fast paced sport that builds skill\, coordination and fitness!  For all levels! \nMonday – Wednesday – Saturday at 8:00 am
URL:https://monet.gipreview.com/event/tennis-2/2027-03-30/
LOCATION:SANDPIPER\, 5883 Mallard Drive\, Lakeland\, United States
CATEGORIES:Community Activity
ATTACH;FMTTYPE=image/png:https://monet.gipreview.com/wp-content/uploads/2026/03/Tennis-courts-open-play-invitation.png
END:VEVENT
BEGIN:VEVENT
DTSTART;TZID=America/New_York:20270331T080000
DTEND;TZID=America/New_York:20270331T100000
DTSTAMP:20260419T181208
CREATED:20260317T175803Z
LAST-MODIFIED:20260317T175803Z
UID:990011017-1806480000-1806487200@monet.gipreview.com
SUMMARY:Tennis
DESCRIPTION:Tennis is a fun\, fast paced sport that builds skill\, coordination and fitness!  For all levels! \nMonday – Wednesday – Saturday at 8:00 am
URL:https://monet.gipreview.com/event/tennis-2/2027-03-31/
LOCATION:SANDPIPER\, 5883 Mallard Drive\, Lakeland\, United States
CATEGORIES:Community Activity
ATTACH;FMTTYPE=image/png:https://monet.gipreview.com/wp-content/uploads/2026/03/Tennis-courts-open-play-invitation.png
END:VEVENT
BEGIN:VEVENT
DTSTART;TZID=America/New_York:20270403T080000
DTEND;TZID=America/New_York:20270403T100000
DTSTAMP:20260419T181208
CREATED:20260317T175803Z
LAST-MODIFIED:20260317T175803Z
UID:990011018-1806739200-1806746400@monet.gipreview.com
SUMMARY:Tennis
DESCRIPTION:Tennis is a fun\, fast paced sport that builds skill\, coordination and fitness!  For all levels! \nMonday – Wednesday – Saturday at 8:00 am
URL:https://monet.gipreview.com/event/tennis-2/2027-04-03/
LOCATION:SANDPIPER\, 5883 Mallard Drive\, Lakeland\, United States
CATEGORIES:Community Activity
ATTACH;FMTTYPE=image/png:https://monet.gipreview.com/wp-content/uploads/2026/03/Tennis-courts-open-play-invitation.png
END:VEVENT
BEGIN:VEVENT
DTSTART;TZID=America/New_York:20270405T080000
DTEND;TZID=America/New_York:20270405T100000
DTSTAMP:20260419T181208
CREATED:20260317T175803Z
LAST-MODIFIED:20260317T175803Z
UID:990011019-1806912000-1806919200@monet.gipreview.com
SUMMARY:Tennis
DESCRIPTION:Tennis is a fun\, fast paced sport that builds skill\, coordination and fitness!  For all levels! \nMonday – Wednesday – Saturday at 8:00 am
URL:https://monet.gipreview.com/event/tennis-2/2027-04-05/
LOCATION:SANDPIPER\, 5883 Mallard Drive\, Lakeland\, United States
CATEGORIES:Community Activity
ATTACH;FMTTYPE=image/png:https://monet.gipreview.com/wp-content/uploads/2026/03/Tennis-courts-open-play-invitation.png
END:VEVENT
BEGIN:VEVENT
DTSTART;TZID=America/New_York:20270406T080000
DTEND;TZID=America/New_York:20270406T100000
DTSTAMP:20260419T181208
CREATED:20260317T175803Z
LAST-MODIFIED:20260317T175803Z
UID:990011020-1806998400-1807005600@monet.gipreview.com
SUMMARY:Tennis
DESCRIPTION:Tennis is a fun\, fast paced sport that builds skill\, coordination and fitness!  For all levels! \nMonday – Wednesday – Saturday at 8:00 am
URL:https://monet.gipreview.com/event/tennis-2/2027-04-06/
LOCATION:SANDPIPER\, 5883 Mallard Drive\, Lakeland\, United States
CATEGORIES:Community Activity
ATTACH;FMTTYPE=image/png:https://monet.gipreview.com/wp-content/uploads/2026/03/Tennis-courts-open-play-invitation.png
END:VEVENT
BEGIN:VEVENT
DTSTART;TZID=America/New_York:20270407T080000
DTEND;TZID=America/New_York:20270407T100000
DTSTAMP:20260419T181208
CREATED:20260317T175803Z
LAST-MODIFIED:20260317T175803Z
UID:990011021-1807084800-1807092000@monet.gipreview.com
SUMMARY:Tennis
DESCRIPTION:Tennis is a fun\, fast paced sport that builds skill\, coordination and fitness!  For all levels! \nMonday – Wednesday – Saturday at 8:00 am
URL:https://monet.gipreview.com/event/tennis-2/2027-04-07/
LOCATION:SANDPIPER\, 5883 Mallard Drive\, Lakeland\, United States
CATEGORIES:Community Activity
ATTACH;FMTTYPE=image/png:https://monet.gipreview.com/wp-content/uploads/2026/03/Tennis-courts-open-play-invitation.png
END:VEVENT
BEGIN:VEVENT
DTSTART;TZID=America/New_York:20270410T080000
DTEND;TZID=America/New_York:20270410T100000
DTSTAMP:20260419T181208
CREATED:20260317T175803Z
LAST-MODIFIED:20260317T175803Z
UID:990011022-1807344000-1807351200@monet.gipreview.com
SUMMARY:Tennis
DESCRIPTION:Tennis is a fun\, fast paced sport that builds skill\, coordination and fitness!  For all levels! \nMonday – Wednesday – Saturday at 8:00 am
URL:https://monet.gipreview.com/event/tennis-2/2027-04-10/
LOCATION:SANDPIPER\, 5883 Mallard Drive\, Lakeland\, United States
CATEGORIES:Community Activity
ATTACH;FMTTYPE=image/png:https://monet.gipreview.com/wp-content/uploads/2026/03/Tennis-courts-open-play-invitation.png
END:VEVENT
END:VCALENDAR