BEGIN:VCALENDAR
VERSION:2.0
PRODID:-//Sandpiper - ECPv6.15.20//NONSGML v1.0//EN
CALSCALE:GREGORIAN
METHOD:PUBLISH
X-ORIGINAL-URL:https://monet.gipreview.com
X-WR-CALDESC:Events for Sandpiper
REFRESH-INTERVAL;VALUE=DURATION:PT1H
X-Robots-Tag:noindex
X-PUBLISHED-TTL:PT1H
BEGIN:VTIMEZONE
TZID:America/New_York
BEGIN:DAYLIGHT
TZOFFSETFROM:-0500
TZOFFSETTO:-0400
TZNAME:EDT
DTSTART:20250309T070000
END:DAYLIGHT
BEGIN:STANDARD
TZOFFSETFROM:-0400
TZOFFSETTO:-0500
TZNAME:EST
DTSTART:20251102T060000
END:STANDARD
BEGIN:DAYLIGHT
TZOFFSETFROM:-0500
TZOFFSETTO:-0400
TZNAME:EDT
DTSTART:20260308T070000
END:DAYLIGHT
BEGIN:STANDARD
TZOFFSETFROM:-0400
TZOFFSETTO:-0500
TZNAME:EST
DTSTART:20261101T060000
END:STANDARD
BEGIN:DAYLIGHT
TZOFFSETFROM:-0500
TZOFFSETTO:-0400
TZNAME:EDT
DTSTART:20270314T070000
END:DAYLIGHT
BEGIN:STANDARD
TZOFFSETFROM:-0400
TZOFFSETTO:-0500
TZNAME:EST
DTSTART:20271107T060000
END:STANDARD
BEGIN:DAYLIGHT
TZOFFSETFROM:-0500
TZOFFSETTO:-0400
TZNAME:EDT
DTSTART:20280312T070000
END:DAYLIGHT
BEGIN:STANDARD
TZOFFSETFROM:-0400
TZOFFSETTO:-0500
TZNAME:EST
DTSTART:20281105T060000
END:STANDARD
END:VTIMEZONE
BEGIN:VEVENT
DTSTART;TZID=America/New_York:20261203T180000
DTEND;TZID=America/New_York:20261203T200000
DTSTAMP:20260422T180614
CREATED:20260226T184953Z
LAST-MODIFIED:20260305T140443Z
UID:990001392-1796320800-1796328000@monet.gipreview.com
SUMMARY:Water Volleyball
DESCRIPTION:
URL:https://monet.gipreview.com/event/water-volleball/2026-12-03/
LOCATION:Sandpiper West Side Pool
CATEGORIES:Community Activity
ATTACH;FMTTYPE=image/jpeg:https://monet.gipreview.com/wp-content/uploads/2026/02/20210805_191907-2.jpg
END:VEVENT
BEGIN:VEVENT
DTSTART;TZID=America/New_York:20261204T120000
DTEND;TZID=America/New_York:20261204T140000
DTSTAMP:20260422T180614
CREATED:20260301T023106Z
LAST-MODIFIED:20260310T135449Z
UID:990001955-1796385600-1796392800@monet.gipreview.com
SUMMARY:Water Volleyball
DESCRIPTION:Come join us in playing Water Volleyball at the West Side Pool. Be prepared to laugh and make new friends\, all while enjoying a great workout. We play as non-competitive teams and welcome anyone who wants to have a fun time. We are flexible on your arrival time; you can join in anytime. We will always have a place for you. Come and check us out!
URL:https://monet.gipreview.com/event/water-volleyball/2026-12-04/
LOCATION:Sandpiper West Side Pool
CATEGORIES:Community Activity
ATTACH;FMTTYPE=image/jpeg:https://monet.gipreview.com/wp-content/uploads/2026/02/20210805_191907-2.jpg
END:VEVENT
BEGIN:VEVENT
DTSTART;TZID=America/New_York:20261205T100000
DTEND;TZID=America/New_York:20261205T120000
DTSTAMP:20260422T180614
CREATED:20260310T134518Z
LAST-MODIFIED:20260321T214531Z
UID:990012402-1796464800-1796472000@monet.gipreview.com
SUMMARY:Water Volleyball
DESCRIPTION:
URL:https://monet.gipreview.com/event/water-volleyball-2/2026-12-05/
LOCATION:Sandpiper West Side Pool
CATEGORIES:Community Activity
ATTACH;FMTTYPE=image/jpeg:https://monet.gipreview.com/wp-content/uploads/2026/02/20210805_191907-2.jpg
END:VEVENT
BEGIN:VEVENT
DTSTART;TZID=America/New_York:20261207T180000
DTEND;TZID=America/New_York:20261207T200000
DTSTAMP:20260422T180614
CREATED:20260226T184953Z
LAST-MODIFIED:20260305T140443Z
UID:990001393-1796666400-1796673600@monet.gipreview.com
SUMMARY:Water Volleyball
DESCRIPTION:
URL:https://monet.gipreview.com/event/water-volleball/2026-12-07/
LOCATION:Sandpiper West Side Pool
CATEGORIES:Community Activity
ATTACH;FMTTYPE=image/jpeg:https://monet.gipreview.com/wp-content/uploads/2026/02/20210805_191907-2.jpg
END:VEVENT
BEGIN:VEVENT
DTSTART;TZID=America/New_York:20261208T120000
DTEND;TZID=America/New_York:20261208T140000
DTSTAMP:20260422T180614
CREATED:20260301T023106Z
LAST-MODIFIED:20260310T135449Z
UID:990001956-1796731200-1796738400@monet.gipreview.com
SUMMARY:Water Volleyball
DESCRIPTION:Come join us in playing Water Volleyball at the West Side Pool. Be prepared to laugh and make new friends\, all while enjoying a great workout. We play as non-competitive teams and welcome anyone who wants to have a fun time. We are flexible on your arrival time; you can join in anytime. We will always have a place for you. Come and check us out!
URL:https://monet.gipreview.com/event/water-volleyball/2026-12-08/
LOCATION:Sandpiper West Side Pool
CATEGORIES:Community Activity
ATTACH;FMTTYPE=image/jpeg:https://monet.gipreview.com/wp-content/uploads/2026/02/20210805_191907-2.jpg
END:VEVENT
BEGIN:VEVENT
DTSTART;TZID=America/New_York:20261209T120000
DTEND;TZID=America/New_York:20261209T140000
DTSTAMP:20260422T180614
CREATED:20260301T023106Z
LAST-MODIFIED:20260310T135449Z
UID:990001957-1796817600-1796824800@monet.gipreview.com
SUMMARY:Water Volleyball
DESCRIPTION:Come join us in playing Water Volleyball at the West Side Pool. Be prepared to laugh and make new friends\, all while enjoying a great workout. We play as non-competitive teams and welcome anyone who wants to have a fun time. We are flexible on your arrival time; you can join in anytime. We will always have a place for you. Come and check us out!
URL:https://monet.gipreview.com/event/water-volleyball/2026-12-09/
LOCATION:Sandpiper West Side Pool
CATEGORIES:Community Activity
ATTACH;FMTTYPE=image/jpeg:https://monet.gipreview.com/wp-content/uploads/2026/02/20210805_191907-2.jpg
END:VEVENT
BEGIN:VEVENT
DTSTART;TZID=America/New_York:20261210T180000
DTEND;TZID=America/New_York:20261210T200000
DTSTAMP:20260422T180614
CREATED:20260226T184953Z
LAST-MODIFIED:20260305T140443Z
UID:990001394-1796925600-1796932800@monet.gipreview.com
SUMMARY:Water Volleyball
DESCRIPTION:
URL:https://monet.gipreview.com/event/water-volleball/2026-12-10/
LOCATION:Sandpiper West Side Pool
CATEGORIES:Community Activity
ATTACH;FMTTYPE=image/jpeg:https://monet.gipreview.com/wp-content/uploads/2026/02/20210805_191907-2.jpg
END:VEVENT
BEGIN:VEVENT
DTSTART;TZID=America/New_York:20261211T120000
DTEND;TZID=America/New_York:20261211T140000
DTSTAMP:20260422T180614
CREATED:20260301T023106Z
LAST-MODIFIED:20260310T135449Z
UID:990001958-1796990400-1796997600@monet.gipreview.com
SUMMARY:Water Volleyball
DESCRIPTION:Come join us in playing Water Volleyball at the West Side Pool. Be prepared to laugh and make new friends\, all while enjoying a great workout. We play as non-competitive teams and welcome anyone who wants to have a fun time. We are flexible on your arrival time; you can join in anytime. We will always have a place for you. Come and check us out!
URL:https://monet.gipreview.com/event/water-volleyball/2026-12-11/
LOCATION:Sandpiper West Side Pool
CATEGORIES:Community Activity
ATTACH;FMTTYPE=image/jpeg:https://monet.gipreview.com/wp-content/uploads/2026/02/20210805_191907-2.jpg
END:VEVENT
BEGIN:VEVENT
DTSTART;TZID=America/New_York:20261212T100000
DTEND;TZID=America/New_York:20261212T120000
DTSTAMP:20260422T180614
CREATED:20260310T134518Z
LAST-MODIFIED:20260321T214531Z
UID:990012403-1797069600-1797076800@monet.gipreview.com
SUMMARY:Water Volleyball
DESCRIPTION:
URL:https://monet.gipreview.com/event/water-volleyball-2/2026-12-12/
LOCATION:Sandpiper West Side Pool
CATEGORIES:Community Activity
ATTACH;FMTTYPE=image/jpeg:https://monet.gipreview.com/wp-content/uploads/2026/02/20210805_191907-2.jpg
END:VEVENT
BEGIN:VEVENT
DTSTART;TZID=America/New_York:20261214T180000
DTEND;TZID=America/New_York:20261214T200000
DTSTAMP:20260422T180614
CREATED:20260226T184953Z
LAST-MODIFIED:20260305T140443Z
UID:990001395-1797271200-1797278400@monet.gipreview.com
SUMMARY:Water Volleyball
DESCRIPTION:
URL:https://monet.gipreview.com/event/water-volleball/2026-12-14/
LOCATION:Sandpiper West Side Pool
CATEGORIES:Community Activity
ATTACH;FMTTYPE=image/jpeg:https://monet.gipreview.com/wp-content/uploads/2026/02/20210805_191907-2.jpg
END:VEVENT
BEGIN:VEVENT
DTSTART;TZID=America/New_York:20261215T120000
DTEND;TZID=America/New_York:20261215T140000
DTSTAMP:20260422T180614
CREATED:20260301T023106Z
LAST-MODIFIED:20260310T135449Z
UID:990001959-1797336000-1797343200@monet.gipreview.com
SUMMARY:Water Volleyball
DESCRIPTION:Come join us in playing Water Volleyball at the West Side Pool. Be prepared to laugh and make new friends\, all while enjoying a great workout. We play as non-competitive teams and welcome anyone who wants to have a fun time. We are flexible on your arrival time; you can join in anytime. We will always have a place for you. Come and check us out!
URL:https://monet.gipreview.com/event/water-volleyball/2026-12-15/
LOCATION:Sandpiper West Side Pool
CATEGORIES:Community Activity
ATTACH;FMTTYPE=image/jpeg:https://monet.gipreview.com/wp-content/uploads/2026/02/20210805_191907-2.jpg
END:VEVENT
BEGIN:VEVENT
DTSTART;TZID=America/New_York:20261216T120000
DTEND;TZID=America/New_York:20261216T140000
DTSTAMP:20260422T180614
CREATED:20260301T023106Z
LAST-MODIFIED:20260310T135449Z
UID:990001960-1797422400-1797429600@monet.gipreview.com
SUMMARY:Water Volleyball
DESCRIPTION:Come join us in playing Water Volleyball at the West Side Pool. Be prepared to laugh and make new friends\, all while enjoying a great workout. We play as non-competitive teams and welcome anyone who wants to have a fun time. We are flexible on your arrival time; you can join in anytime. We will always have a place for you. Come and check us out!
URL:https://monet.gipreview.com/event/water-volleyball/2026-12-16/
LOCATION:Sandpiper West Side Pool
CATEGORIES:Community Activity
ATTACH;FMTTYPE=image/jpeg:https://monet.gipreview.com/wp-content/uploads/2026/02/20210805_191907-2.jpg
END:VEVENT
BEGIN:VEVENT
DTSTART;TZID=America/New_York:20261217T180000
DTEND;TZID=America/New_York:20261217T200000
DTSTAMP:20260422T180614
CREATED:20260226T184953Z
LAST-MODIFIED:20260305T140443Z
UID:990001396-1797530400-1797537600@monet.gipreview.com
SUMMARY:Water Volleyball
DESCRIPTION:
URL:https://monet.gipreview.com/event/water-volleball/2026-12-17/
LOCATION:Sandpiper West Side Pool
CATEGORIES:Community Activity
ATTACH;FMTTYPE=image/jpeg:https://monet.gipreview.com/wp-content/uploads/2026/02/20210805_191907-2.jpg
END:VEVENT
BEGIN:VEVENT
DTSTART;TZID=America/New_York:20261218T120000
DTEND;TZID=America/New_York:20261218T140000
DTSTAMP:20260422T180614
CREATED:20260301T023106Z
LAST-MODIFIED:20260310T135449Z
UID:990001961-1797595200-1797602400@monet.gipreview.com
SUMMARY:Water Volleyball
DESCRIPTION:Come join us in playing Water Volleyball at the West Side Pool. Be prepared to laugh and make new friends\, all while enjoying a great workout. We play as non-competitive teams and welcome anyone who wants to have a fun time. We are flexible on your arrival time; you can join in anytime. We will always have a place for you. Come and check us out!
URL:https://monet.gipreview.com/event/water-volleyball/2026-12-18/
LOCATION:Sandpiper West Side Pool
CATEGORIES:Community Activity
ATTACH;FMTTYPE=image/jpeg:https://monet.gipreview.com/wp-content/uploads/2026/02/20210805_191907-2.jpg
END:VEVENT
BEGIN:VEVENT
DTSTART;TZID=America/New_York:20261219T100000
DTEND;TZID=America/New_York:20261219T120000
DTSTAMP:20260422T180614
CREATED:20260310T134518Z
LAST-MODIFIED:20260321T214531Z
UID:990012404-1797674400-1797681600@monet.gipreview.com
SUMMARY:Water Volleyball
DESCRIPTION:
URL:https://monet.gipreview.com/event/water-volleyball-2/2026-12-19/
LOCATION:Sandpiper West Side Pool
CATEGORIES:Community Activity
ATTACH;FMTTYPE=image/jpeg:https://monet.gipreview.com/wp-content/uploads/2026/02/20210805_191907-2.jpg
END:VEVENT
BEGIN:VEVENT
DTSTART;TZID=America/New_York:20261221T180000
DTEND;TZID=America/New_York:20261221T200000
DTSTAMP:20260422T180614
CREATED:20260226T184953Z
LAST-MODIFIED:20260305T140443Z
UID:990001397-1797876000-1797883200@monet.gipreview.com
SUMMARY:Water Volleyball
DESCRIPTION:
URL:https://monet.gipreview.com/event/water-volleball/2026-12-21/
LOCATION:Sandpiper West Side Pool
CATEGORIES:Community Activity
ATTACH;FMTTYPE=image/jpeg:https://monet.gipreview.com/wp-content/uploads/2026/02/20210805_191907-2.jpg
END:VEVENT
BEGIN:VEVENT
DTSTART;TZID=America/New_York:20261222T120000
DTEND;TZID=America/New_York:20261222T140000
DTSTAMP:20260422T180614
CREATED:20260301T023106Z
LAST-MODIFIED:20260310T135449Z
UID:990001962-1797940800-1797948000@monet.gipreview.com
SUMMARY:Water Volleyball
DESCRIPTION:Come join us in playing Water Volleyball at the West Side Pool. Be prepared to laugh and make new friends\, all while enjoying a great workout. We play as non-competitive teams and welcome anyone who wants to have a fun time. We are flexible on your arrival time; you can join in anytime. We will always have a place for you. Come and check us out!
URL:https://monet.gipreview.com/event/water-volleyball/2026-12-22/
LOCATION:Sandpiper West Side Pool
CATEGORIES:Community Activity
ATTACH;FMTTYPE=image/jpeg:https://monet.gipreview.com/wp-content/uploads/2026/02/20210805_191907-2.jpg
END:VEVENT
BEGIN:VEVENT
DTSTART;TZID=America/New_York:20261223T120000
DTEND;TZID=America/New_York:20261223T140000
DTSTAMP:20260422T180614
CREATED:20260301T023106Z
LAST-MODIFIED:20260310T135449Z
UID:990001963-1798027200-1798034400@monet.gipreview.com
SUMMARY:Water Volleyball
DESCRIPTION:Come join us in playing Water Volleyball at the West Side Pool. Be prepared to laugh and make new friends\, all while enjoying a great workout. We play as non-competitive teams and welcome anyone who wants to have a fun time. We are flexible on your arrival time; you can join in anytime. We will always have a place for you. Come and check us out!
URL:https://monet.gipreview.com/event/water-volleyball/2026-12-23/
LOCATION:Sandpiper West Side Pool
CATEGORIES:Community Activity
ATTACH;FMTTYPE=image/jpeg:https://monet.gipreview.com/wp-content/uploads/2026/02/20210805_191907-2.jpg
END:VEVENT
BEGIN:VEVENT
DTSTART;TZID=America/New_York:20261224T180000
DTEND;TZID=America/New_York:20261224T200000
DTSTAMP:20260422T180614
CREATED:20260226T184953Z
LAST-MODIFIED:20260305T140443Z
UID:990001398-1798135200-1798142400@monet.gipreview.com
SUMMARY:Water Volleyball
DESCRIPTION:
URL:https://monet.gipreview.com/event/water-volleball/2026-12-24/
LOCATION:Sandpiper West Side Pool
CATEGORIES:Community Activity
ATTACH;FMTTYPE=image/jpeg:https://monet.gipreview.com/wp-content/uploads/2026/02/20210805_191907-2.jpg
END:VEVENT
BEGIN:VEVENT
DTSTART;TZID=America/New_York:20261225T120000
DTEND;TZID=America/New_York:20261225T140000
DTSTAMP:20260422T180614
CREATED:20260301T023106Z
LAST-MODIFIED:20260310T135449Z
UID:990001964-1798200000-1798207200@monet.gipreview.com
SUMMARY:Water Volleyball
DESCRIPTION:Come join us in playing Water Volleyball at the West Side Pool. Be prepared to laugh and make new friends\, all while enjoying a great workout. We play as non-competitive teams and welcome anyone who wants to have a fun time. We are flexible on your arrival time; you can join in anytime. We will always have a place for you. Come and check us out!
URL:https://monet.gipreview.com/event/water-volleyball/2026-12-25/
LOCATION:Sandpiper West Side Pool
CATEGORIES:Community Activity
ATTACH;FMTTYPE=image/jpeg:https://monet.gipreview.com/wp-content/uploads/2026/02/20210805_191907-2.jpg
END:VEVENT
BEGIN:VEVENT
DTSTART;TZID=America/New_York:20261226T100000
DTEND;TZID=America/New_York:20261226T120000
DTSTAMP:20260422T180614
CREATED:20260310T134518Z
LAST-MODIFIED:20260321T214531Z
UID:990012405-1798279200-1798286400@monet.gipreview.com
SUMMARY:Water Volleyball
DESCRIPTION:
URL:https://monet.gipreview.com/event/water-volleyball-2/2026-12-26/
LOCATION:Sandpiper West Side Pool
CATEGORIES:Community Activity
ATTACH;FMTTYPE=image/jpeg:https://monet.gipreview.com/wp-content/uploads/2026/02/20210805_191907-2.jpg
END:VEVENT
BEGIN:VEVENT
DTSTART;TZID=America/New_York:20261228T180000
DTEND;TZID=America/New_York:20261228T200000
DTSTAMP:20260422T180614
CREATED:20260226T184953Z
LAST-MODIFIED:20260305T140443Z
UID:990001399-1798480800-1798488000@monet.gipreview.com
SUMMARY:Water Volleyball
DESCRIPTION:
URL:https://monet.gipreview.com/event/water-volleball/2026-12-28/
LOCATION:Sandpiper West Side Pool
CATEGORIES:Community Activity
ATTACH;FMTTYPE=image/jpeg:https://monet.gipreview.com/wp-content/uploads/2026/02/20210805_191907-2.jpg
END:VEVENT
BEGIN:VEVENT
DTSTART;TZID=America/New_York:20261229T120000
DTEND;TZID=America/New_York:20261229T140000
DTSTAMP:20260422T180614
CREATED:20260301T023106Z
LAST-MODIFIED:20260310T135449Z
UID:990001965-1798545600-1798552800@monet.gipreview.com
SUMMARY:Water Volleyball
DESCRIPTION:Come join us in playing Water Volleyball at the West Side Pool. Be prepared to laugh and make new friends\, all while enjoying a great workout. We play as non-competitive teams and welcome anyone who wants to have a fun time. We are flexible on your arrival time; you can join in anytime. We will always have a place for you. Come and check us out!
URL:https://monet.gipreview.com/event/water-volleyball/2026-12-29/
LOCATION:Sandpiper West Side Pool
CATEGORIES:Community Activity
ATTACH;FMTTYPE=image/jpeg:https://monet.gipreview.com/wp-content/uploads/2026/02/20210805_191907-2.jpg
END:VEVENT
BEGIN:VEVENT
DTSTART;TZID=America/New_York:20261230T120000
DTEND;TZID=America/New_York:20261230T140000
DTSTAMP:20260422T180614
CREATED:20260301T023106Z
LAST-MODIFIED:20260310T135449Z
UID:990001966-1798632000-1798639200@monet.gipreview.com
SUMMARY:Water Volleyball
DESCRIPTION:Come join us in playing Water Volleyball at the West Side Pool. Be prepared to laugh and make new friends\, all while enjoying a great workout. We play as non-competitive teams and welcome anyone who wants to have a fun time. We are flexible on your arrival time; you can join in anytime. We will always have a place for you. Come and check us out!
URL:https://monet.gipreview.com/event/water-volleyball/2026-12-30/
LOCATION:Sandpiper West Side Pool
CATEGORIES:Community Activity
ATTACH;FMTTYPE=image/jpeg:https://monet.gipreview.com/wp-content/uploads/2026/02/20210805_191907-2.jpg
END:VEVENT
BEGIN:VEVENT
DTSTART;TZID=America/New_York:20261231T180000
DTEND;TZID=America/New_York:20261231T200000
DTSTAMP:20260422T180614
CREATED:20260226T184953Z
LAST-MODIFIED:20260305T140443Z
UID:990001400-1798740000-1798747200@monet.gipreview.com
SUMMARY:Water Volleyball
DESCRIPTION:
URL:https://monet.gipreview.com/event/water-volleball/2026-12-31/
LOCATION:Sandpiper West Side Pool
CATEGORIES:Community Activity
ATTACH;FMTTYPE=image/jpeg:https://monet.gipreview.com/wp-content/uploads/2026/02/20210805_191907-2.jpg
END:VEVENT
BEGIN:VEVENT
DTSTART;TZID=America/New_York:20270101T120000
DTEND;TZID=America/New_York:20270101T140000
DTSTAMP:20260422T180614
CREATED:20260301T023106Z
LAST-MODIFIED:20260310T135449Z
UID:990001967-1798804800-1798812000@monet.gipreview.com
SUMMARY:Water Volleyball
DESCRIPTION:Come join us in playing Water Volleyball at the West Side Pool. Be prepared to laugh and make new friends\, all while enjoying a great workout. We play as non-competitive teams and welcome anyone who wants to have a fun time. We are flexible on your arrival time; you can join in anytime. We will always have a place for you. Come and check us out!
URL:https://monet.gipreview.com/event/water-volleyball/2027-01-01/
LOCATION:Sandpiper West Side Pool
CATEGORIES:Community Activity
ATTACH;FMTTYPE=image/jpeg:https://monet.gipreview.com/wp-content/uploads/2026/02/20210805_191907-2.jpg
END:VEVENT
BEGIN:VEVENT
DTSTART;TZID=America/New_York:20270102T100000
DTEND;TZID=America/New_York:20270102T120000
DTSTAMP:20260422T180614
CREATED:20260310T134518Z
LAST-MODIFIED:20260321T214531Z
UID:990012406-1798884000-1798891200@monet.gipreview.com
SUMMARY:Water Volleyball
DESCRIPTION:
URL:https://monet.gipreview.com/event/water-volleyball-2/2027-01-02/
LOCATION:Sandpiper West Side Pool
CATEGORIES:Community Activity
ATTACH;FMTTYPE=image/jpeg:https://monet.gipreview.com/wp-content/uploads/2026/02/20210805_191907-2.jpg
END:VEVENT
BEGIN:VEVENT
DTSTART;TZID=America/New_York:20270104T180000
DTEND;TZID=America/New_York:20270104T200000
DTSTAMP:20260422T180614
CREATED:20260226T184953Z
LAST-MODIFIED:20260305T140443Z
UID:990001401-1799085600-1799092800@monet.gipreview.com
SUMMARY:Water Volleyball
DESCRIPTION:
URL:https://monet.gipreview.com/event/water-volleball/2027-01-04/
LOCATION:Sandpiper West Side Pool
CATEGORIES:Community Activity
ATTACH;FMTTYPE=image/jpeg:https://monet.gipreview.com/wp-content/uploads/2026/02/20210805_191907-2.jpg
END:VEVENT
BEGIN:VEVENT
DTSTART;TZID=America/New_York:20270105T120000
DTEND;TZID=America/New_York:20270105T140000
DTSTAMP:20260422T180614
CREATED:20260301T023106Z
LAST-MODIFIED:20260310T135449Z
UID:990001968-1799150400-1799157600@monet.gipreview.com
SUMMARY:Water Volleyball
DESCRIPTION:Come join us in playing Water Volleyball at the West Side Pool. Be prepared to laugh and make new friends\, all while enjoying a great workout. We play as non-competitive teams and welcome anyone who wants to have a fun time. We are flexible on your arrival time; you can join in anytime. We will always have a place for you. Come and check us out!
URL:https://monet.gipreview.com/event/water-volleyball/2027-01-05/
LOCATION:Sandpiper West Side Pool
CATEGORIES:Community Activity
ATTACH;FMTTYPE=image/jpeg:https://monet.gipreview.com/wp-content/uploads/2026/02/20210805_191907-2.jpg
END:VEVENT
BEGIN:VEVENT
DTSTART;TZID=America/New_York:20270106T120000
DTEND;TZID=America/New_York:20270106T140000
DTSTAMP:20260422T180614
CREATED:20260301T023106Z
LAST-MODIFIED:20260310T135449Z
UID:990001969-1799236800-1799244000@monet.gipreview.com
SUMMARY:Water Volleyball
DESCRIPTION:Come join us in playing Water Volleyball at the West Side Pool. Be prepared to laugh and make new friends\, all while enjoying a great workout. We play as non-competitive teams and welcome anyone who wants to have a fun time. We are flexible on your arrival time; you can join in anytime. We will always have a place for you. Come and check us out!
URL:https://monet.gipreview.com/event/water-volleyball/2027-01-06/
LOCATION:Sandpiper West Side Pool
CATEGORIES:Community Activity
ATTACH;FMTTYPE=image/jpeg:https://monet.gipreview.com/wp-content/uploads/2026/02/20210805_191907-2.jpg
END:VEVENT
END:VCALENDAR