BEGIN:VCALENDAR
VERSION:2.0
PRODID:-//Sandpiper - ECPv6.15.20//NONSGML v1.0//EN
CALSCALE:GREGORIAN
METHOD:PUBLISH
X-ORIGINAL-URL:https://monet.gipreview.com
X-WR-CALDESC:Events for Sandpiper
REFRESH-INTERVAL;VALUE=DURATION:PT1H
X-Robots-Tag:noindex
X-PUBLISHED-TTL:PT1H
BEGIN:VTIMEZONE
TZID:America/New_York
BEGIN:DAYLIGHT
TZOFFSETFROM:-0500
TZOFFSETTO:-0400
TZNAME:EDT
DTSTART:20250309T070000
END:DAYLIGHT
BEGIN:STANDARD
TZOFFSETFROM:-0400
TZOFFSETTO:-0500
TZNAME:EST
DTSTART:20251102T060000
END:STANDARD
BEGIN:DAYLIGHT
TZOFFSETFROM:-0500
TZOFFSETTO:-0400
TZNAME:EDT
DTSTART:20260308T070000
END:DAYLIGHT
BEGIN:STANDARD
TZOFFSETFROM:-0400
TZOFFSETTO:-0500
TZNAME:EST
DTSTART:20261101T060000
END:STANDARD
BEGIN:DAYLIGHT
TZOFFSETFROM:-0500
TZOFFSETTO:-0400
TZNAME:EDT
DTSTART:20270314T070000
END:DAYLIGHT
BEGIN:STANDARD
TZOFFSETFROM:-0400
TZOFFSETTO:-0500
TZNAME:EST
DTSTART:20271107T060000
END:STANDARD
END:VTIMEZONE
BEGIN:VEVENT
DTSTART;TZID=America/New_York:20261111T120000
DTEND;TZID=America/New_York:20261111T140000
DTSTAMP:20260421T152655
CREATED:20260301T023106Z
LAST-MODIFIED:20260310T135449Z
UID:990001945-1794398400-1794405600@monet.gipreview.com
SUMMARY:Water Volleyball
DESCRIPTION:Come join us in playing Water Volleyball at the West Side Pool. Be prepared to laugh and make new friends\, all while enjoying a great workout. We play as non-competitive teams and welcome anyone who wants to have a fun time. We are flexible on your arrival time; you can join in anytime. We will always have a place for you. Come and check us out!
URL:https://monet.gipreview.com/event/water-volleyball/2026-11-11/
LOCATION:Sandpiper West Side Pool
CATEGORIES:Community Activity
ATTACH;FMTTYPE=image/jpeg:https://monet.gipreview.com/wp-content/uploads/2026/02/20210805_191907-2.jpg
END:VEVENT
BEGIN:VEVENT
DTSTART;TZID=America/New_York:20261112T180000
DTEND;TZID=America/New_York:20261112T200000
DTSTAMP:20260421T152655
CREATED:20260226T184953Z
LAST-MODIFIED:20260305T140443Z
UID:990001386-1794506400-1794513600@monet.gipreview.com
SUMMARY:Water Volleyball
DESCRIPTION:
URL:https://monet.gipreview.com/event/water-volleball/2026-11-12/
LOCATION:Sandpiper West Side Pool
CATEGORIES:Community Activity
ATTACH;FMTTYPE=image/jpeg:https://monet.gipreview.com/wp-content/uploads/2026/02/20210805_191907-2.jpg
END:VEVENT
BEGIN:VEVENT
DTSTART;TZID=America/New_York:20261113T120000
DTEND;TZID=America/New_York:20261113T140000
DTSTAMP:20260421T152655
CREATED:20260301T023106Z
LAST-MODIFIED:20260310T135449Z
UID:990001946-1794571200-1794578400@monet.gipreview.com
SUMMARY:Water Volleyball
DESCRIPTION:Come join us in playing Water Volleyball at the West Side Pool. Be prepared to laugh and make new friends\, all while enjoying a great workout. We play as non-competitive teams and welcome anyone who wants to have a fun time. We are flexible on your arrival time; you can join in anytime. We will always have a place for you. Come and check us out!
URL:https://monet.gipreview.com/event/water-volleyball/2026-11-13/
LOCATION:Sandpiper West Side Pool
CATEGORIES:Community Activity
ATTACH;FMTTYPE=image/jpeg:https://monet.gipreview.com/wp-content/uploads/2026/02/20210805_191907-2.jpg
END:VEVENT
BEGIN:VEVENT
DTSTART;TZID=America/New_York:20261114T100000
DTEND;TZID=America/New_York:20261114T120000
DTSTAMP:20260421T152655
CREATED:20260310T134518Z
LAST-MODIFIED:20260321T214531Z
UID:990012399-1794650400-1794657600@monet.gipreview.com
SUMMARY:Water Volleyball
DESCRIPTION:
URL:https://monet.gipreview.com/event/water-volleyball-2/2026-11-14/
LOCATION:Sandpiper West Side Pool
CATEGORIES:Community Activity
ATTACH;FMTTYPE=image/jpeg:https://monet.gipreview.com/wp-content/uploads/2026/02/20210805_191907-2.jpg
END:VEVENT
BEGIN:VEVENT
DTSTART;TZID=America/New_York:20261116T180000
DTEND;TZID=America/New_York:20261116T200000
DTSTAMP:20260421T152655
CREATED:20260226T184953Z
LAST-MODIFIED:20260305T140443Z
UID:990001387-1794852000-1794859200@monet.gipreview.com
SUMMARY:Water Volleyball
DESCRIPTION:
URL:https://monet.gipreview.com/event/water-volleball/2026-11-16/
LOCATION:Sandpiper West Side Pool
CATEGORIES:Community Activity
ATTACH;FMTTYPE=image/jpeg:https://monet.gipreview.com/wp-content/uploads/2026/02/20210805_191907-2.jpg
END:VEVENT
BEGIN:VEVENT
DTSTART;TZID=America/New_York:20261117T120000
DTEND;TZID=America/New_York:20261117T140000
DTSTAMP:20260421T152655
CREATED:20260301T023106Z
LAST-MODIFIED:20260310T135449Z
UID:990001947-1794916800-1794924000@monet.gipreview.com
SUMMARY:Water Volleyball
DESCRIPTION:Come join us in playing Water Volleyball at the West Side Pool. Be prepared to laugh and make new friends\, all while enjoying a great workout. We play as non-competitive teams and welcome anyone who wants to have a fun time. We are flexible on your arrival time; you can join in anytime. We will always have a place for you. Come and check us out!
URL:https://monet.gipreview.com/event/water-volleyball/2026-11-17/
LOCATION:Sandpiper West Side Pool
CATEGORIES:Community Activity
ATTACH;FMTTYPE=image/jpeg:https://monet.gipreview.com/wp-content/uploads/2026/02/20210805_191907-2.jpg
END:VEVENT
BEGIN:VEVENT
DTSTART;TZID=America/New_York:20261118T120000
DTEND;TZID=America/New_York:20261118T140000
DTSTAMP:20260421T152655
CREATED:20260301T023106Z
LAST-MODIFIED:20260310T135449Z
UID:990001948-1795003200-1795010400@monet.gipreview.com
SUMMARY:Water Volleyball
DESCRIPTION:Come join us in playing Water Volleyball at the West Side Pool. Be prepared to laugh and make new friends\, all while enjoying a great workout. We play as non-competitive teams and welcome anyone who wants to have a fun time. We are flexible on your arrival time; you can join in anytime. We will always have a place for you. Come and check us out!
URL:https://monet.gipreview.com/event/water-volleyball/2026-11-18/
LOCATION:Sandpiper West Side Pool
CATEGORIES:Community Activity
ATTACH;FMTTYPE=image/jpeg:https://monet.gipreview.com/wp-content/uploads/2026/02/20210805_191907-2.jpg
END:VEVENT
BEGIN:VEVENT
DTSTART;TZID=America/New_York:20261119T180000
DTEND;TZID=America/New_York:20261119T200000
DTSTAMP:20260421T152655
CREATED:20260226T184953Z
LAST-MODIFIED:20260305T140443Z
UID:990001388-1795111200-1795118400@monet.gipreview.com
SUMMARY:Water Volleyball
DESCRIPTION:
URL:https://monet.gipreview.com/event/water-volleball/2026-11-19/
LOCATION:Sandpiper West Side Pool
CATEGORIES:Community Activity
ATTACH;FMTTYPE=image/jpeg:https://monet.gipreview.com/wp-content/uploads/2026/02/20210805_191907-2.jpg
END:VEVENT
BEGIN:VEVENT
DTSTART;TZID=America/New_York:20261120T120000
DTEND;TZID=America/New_York:20261120T140000
DTSTAMP:20260421T152656
CREATED:20260301T023106Z
LAST-MODIFIED:20260310T135449Z
UID:990001949-1795176000-1795183200@monet.gipreview.com
SUMMARY:Water Volleyball
DESCRIPTION:Come join us in playing Water Volleyball at the West Side Pool. Be prepared to laugh and make new friends\, all while enjoying a great workout. We play as non-competitive teams and welcome anyone who wants to have a fun time. We are flexible on your arrival time; you can join in anytime. We will always have a place for you. Come and check us out!
URL:https://monet.gipreview.com/event/water-volleyball/2026-11-20/
LOCATION:Sandpiper West Side Pool
CATEGORIES:Community Activity
ATTACH;FMTTYPE=image/jpeg:https://monet.gipreview.com/wp-content/uploads/2026/02/20210805_191907-2.jpg
END:VEVENT
BEGIN:VEVENT
DTSTART;TZID=America/New_York:20261121T100000
DTEND;TZID=America/New_York:20261121T120000
DTSTAMP:20260421T152656
CREATED:20260310T134518Z
LAST-MODIFIED:20260321T214531Z
UID:990012400-1795255200-1795262400@monet.gipreview.com
SUMMARY:Water Volleyball
DESCRIPTION:
URL:https://monet.gipreview.com/event/water-volleyball-2/2026-11-21/
LOCATION:Sandpiper West Side Pool
CATEGORIES:Community Activity
ATTACH;FMTTYPE=image/jpeg:https://monet.gipreview.com/wp-content/uploads/2026/02/20210805_191907-2.jpg
END:VEVENT
BEGIN:VEVENT
DTSTART;TZID=America/New_York:20261123T180000
DTEND;TZID=America/New_York:20261123T200000
DTSTAMP:20260421T152656
CREATED:20260226T184953Z
LAST-MODIFIED:20260305T140443Z
UID:990001389-1795456800-1795464000@monet.gipreview.com
SUMMARY:Water Volleyball
DESCRIPTION:
URL:https://monet.gipreview.com/event/water-volleball/2026-11-23/
LOCATION:Sandpiper West Side Pool
CATEGORIES:Community Activity
ATTACH;FMTTYPE=image/jpeg:https://monet.gipreview.com/wp-content/uploads/2026/02/20210805_191907-2.jpg
END:VEVENT
BEGIN:VEVENT
DTSTART;TZID=America/New_York:20261124T120000
DTEND;TZID=America/New_York:20261124T140000
DTSTAMP:20260421T152656
CREATED:20260301T023106Z
LAST-MODIFIED:20260310T135449Z
UID:990001950-1795521600-1795528800@monet.gipreview.com
SUMMARY:Water Volleyball
DESCRIPTION:Come join us in playing Water Volleyball at the West Side Pool. Be prepared to laugh and make new friends\, all while enjoying a great workout. We play as non-competitive teams and welcome anyone who wants to have a fun time. We are flexible on your arrival time; you can join in anytime. We will always have a place for you. Come and check us out!
URL:https://monet.gipreview.com/event/water-volleyball/2026-11-24/
LOCATION:Sandpiper West Side Pool
CATEGORIES:Community Activity
ATTACH;FMTTYPE=image/jpeg:https://monet.gipreview.com/wp-content/uploads/2026/02/20210805_191907-2.jpg
END:VEVENT
BEGIN:VEVENT
DTSTART;TZID=America/New_York:20261125T120000
DTEND;TZID=America/New_York:20261125T140000
DTSTAMP:20260421T152656
CREATED:20260301T023106Z
LAST-MODIFIED:20260310T135449Z
UID:990001951-1795608000-1795615200@monet.gipreview.com
SUMMARY:Water Volleyball
DESCRIPTION:Come join us in playing Water Volleyball at the West Side Pool. Be prepared to laugh and make new friends\, all while enjoying a great workout. We play as non-competitive teams and welcome anyone who wants to have a fun time. We are flexible on your arrival time; you can join in anytime. We will always have a place for you. Come and check us out!
URL:https://monet.gipreview.com/event/water-volleyball/2026-11-25/
LOCATION:Sandpiper West Side Pool
CATEGORIES:Community Activity
ATTACH;FMTTYPE=image/jpeg:https://monet.gipreview.com/wp-content/uploads/2026/02/20210805_191907-2.jpg
END:VEVENT
BEGIN:VEVENT
DTSTART;TZID=America/New_York:20261126T180000
DTEND;TZID=America/New_York:20261126T200000
DTSTAMP:20260421T152656
CREATED:20260226T184953Z
LAST-MODIFIED:20260305T140443Z
UID:990001390-1795716000-1795723200@monet.gipreview.com
SUMMARY:Water Volleyball
DESCRIPTION:
URL:https://monet.gipreview.com/event/water-volleball/2026-11-26/
LOCATION:Sandpiper West Side Pool
CATEGORIES:Community Activity
ATTACH;FMTTYPE=image/jpeg:https://monet.gipreview.com/wp-content/uploads/2026/02/20210805_191907-2.jpg
END:VEVENT
BEGIN:VEVENT
DTSTART;TZID=America/New_York:20261127T120000
DTEND;TZID=America/New_York:20261127T140000
DTSTAMP:20260421T152656
CREATED:20260301T023106Z
LAST-MODIFIED:20260310T135449Z
UID:990001952-1795780800-1795788000@monet.gipreview.com
SUMMARY:Water Volleyball
DESCRIPTION:Come join us in playing Water Volleyball at the West Side Pool. Be prepared to laugh and make new friends\, all while enjoying a great workout. We play as non-competitive teams and welcome anyone who wants to have a fun time. We are flexible on your arrival time; you can join in anytime. We will always have a place for you. Come and check us out!
URL:https://monet.gipreview.com/event/water-volleyball/2026-11-27/
LOCATION:Sandpiper West Side Pool
CATEGORIES:Community Activity
ATTACH;FMTTYPE=image/jpeg:https://monet.gipreview.com/wp-content/uploads/2026/02/20210805_191907-2.jpg
END:VEVENT
BEGIN:VEVENT
DTSTART;TZID=America/New_York:20261128T100000
DTEND;TZID=America/New_York:20261128T120000
DTSTAMP:20260421T152656
CREATED:20260310T134518Z
LAST-MODIFIED:20260321T214531Z
UID:990012401-1795860000-1795867200@monet.gipreview.com
SUMMARY:Water Volleyball
DESCRIPTION:
URL:https://monet.gipreview.com/event/water-volleyball-2/2026-11-28/
LOCATION:Sandpiper West Side Pool
CATEGORIES:Community Activity
ATTACH;FMTTYPE=image/jpeg:https://monet.gipreview.com/wp-content/uploads/2026/02/20210805_191907-2.jpg
END:VEVENT
BEGIN:VEVENT
DTSTART;TZID=America/New_York:20261130T180000
DTEND;TZID=America/New_York:20261130T200000
DTSTAMP:20260421T152656
CREATED:20260226T184953Z
LAST-MODIFIED:20260305T140443Z
UID:990001391-1796061600-1796068800@monet.gipreview.com
SUMMARY:Water Volleyball
DESCRIPTION:
URL:https://monet.gipreview.com/event/water-volleball/2026-11-30/
LOCATION:Sandpiper West Side Pool
CATEGORIES:Community Activity
ATTACH;FMTTYPE=image/jpeg:https://monet.gipreview.com/wp-content/uploads/2026/02/20210805_191907-2.jpg
END:VEVENT
BEGIN:VEVENT
DTSTART;TZID=America/New_York:20261201T120000
DTEND;TZID=America/New_York:20261201T140000
DTSTAMP:20260421T152656
CREATED:20260301T023106Z
LAST-MODIFIED:20260310T135449Z
UID:990001953-1796126400-1796133600@monet.gipreview.com
SUMMARY:Water Volleyball
DESCRIPTION:Come join us in playing Water Volleyball at the West Side Pool. Be prepared to laugh and make new friends\, all while enjoying a great workout. We play as non-competitive teams and welcome anyone who wants to have a fun time. We are flexible on your arrival time; you can join in anytime. We will always have a place for you. Come and check us out!
URL:https://monet.gipreview.com/event/water-volleyball/2026-12-01/
LOCATION:Sandpiper West Side Pool
CATEGORIES:Community Activity
ATTACH;FMTTYPE=image/jpeg:https://monet.gipreview.com/wp-content/uploads/2026/02/20210805_191907-2.jpg
END:VEVENT
BEGIN:VEVENT
DTSTART;TZID=America/New_York:20261202T120000
DTEND;TZID=America/New_York:20261202T140000
DTSTAMP:20260421T152656
CREATED:20260301T023106Z
LAST-MODIFIED:20260310T135449Z
UID:990001954-1796212800-1796220000@monet.gipreview.com
SUMMARY:Water Volleyball
DESCRIPTION:Come join us in playing Water Volleyball at the West Side Pool. Be prepared to laugh and make new friends\, all while enjoying a great workout. We play as non-competitive teams and welcome anyone who wants to have a fun time. We are flexible on your arrival time; you can join in anytime. We will always have a place for you. Come and check us out!
URL:https://monet.gipreview.com/event/water-volleyball/2026-12-02/
LOCATION:Sandpiper West Side Pool
CATEGORIES:Community Activity
ATTACH;FMTTYPE=image/jpeg:https://monet.gipreview.com/wp-content/uploads/2026/02/20210805_191907-2.jpg
END:VEVENT
BEGIN:VEVENT
DTSTART;TZID=America/New_York:20261203T180000
DTEND;TZID=America/New_York:20261203T200000
DTSTAMP:20260421T152656
CREATED:20260226T184953Z
LAST-MODIFIED:20260305T140443Z
UID:990001392-1796320800-1796328000@monet.gipreview.com
SUMMARY:Water Volleyball
DESCRIPTION:
URL:https://monet.gipreview.com/event/water-volleball/2026-12-03/
LOCATION:Sandpiper West Side Pool
CATEGORIES:Community Activity
ATTACH;FMTTYPE=image/jpeg:https://monet.gipreview.com/wp-content/uploads/2026/02/20210805_191907-2.jpg
END:VEVENT
BEGIN:VEVENT
DTSTART;TZID=America/New_York:20261204T120000
DTEND;TZID=America/New_York:20261204T140000
DTSTAMP:20260421T152656
CREATED:20260301T023106Z
LAST-MODIFIED:20260310T135449Z
UID:990001955-1796385600-1796392800@monet.gipreview.com
SUMMARY:Water Volleyball
DESCRIPTION:Come join us in playing Water Volleyball at the West Side Pool. Be prepared to laugh and make new friends\, all while enjoying a great workout. We play as non-competitive teams and welcome anyone who wants to have a fun time. We are flexible on your arrival time; you can join in anytime. We will always have a place for you. Come and check us out!
URL:https://monet.gipreview.com/event/water-volleyball/2026-12-04/
LOCATION:Sandpiper West Side Pool
CATEGORIES:Community Activity
ATTACH;FMTTYPE=image/jpeg:https://monet.gipreview.com/wp-content/uploads/2026/02/20210805_191907-2.jpg
END:VEVENT
BEGIN:VEVENT
DTSTART;TZID=America/New_York:20261205T100000
DTEND;TZID=America/New_York:20261205T120000
DTSTAMP:20260421T152656
CREATED:20260310T134518Z
LAST-MODIFIED:20260321T214531Z
UID:990012402-1796464800-1796472000@monet.gipreview.com
SUMMARY:Water Volleyball
DESCRIPTION:
URL:https://monet.gipreview.com/event/water-volleyball-2/2026-12-05/
LOCATION:Sandpiper West Side Pool
CATEGORIES:Community Activity
ATTACH;FMTTYPE=image/jpeg:https://monet.gipreview.com/wp-content/uploads/2026/02/20210805_191907-2.jpg
END:VEVENT
BEGIN:VEVENT
DTSTART;TZID=America/New_York:20261207T180000
DTEND;TZID=America/New_York:20261207T200000
DTSTAMP:20260421T152656
CREATED:20260226T184953Z
LAST-MODIFIED:20260305T140443Z
UID:990001393-1796666400-1796673600@monet.gipreview.com
SUMMARY:Water Volleyball
DESCRIPTION:
URL:https://monet.gipreview.com/event/water-volleball/2026-12-07/
LOCATION:Sandpiper West Side Pool
CATEGORIES:Community Activity
ATTACH;FMTTYPE=image/jpeg:https://monet.gipreview.com/wp-content/uploads/2026/02/20210805_191907-2.jpg
END:VEVENT
BEGIN:VEVENT
DTSTART;TZID=America/New_York:20261208T120000
DTEND;TZID=America/New_York:20261208T140000
DTSTAMP:20260421T152656
CREATED:20260301T023106Z
LAST-MODIFIED:20260310T135449Z
UID:990001956-1796731200-1796738400@monet.gipreview.com
SUMMARY:Water Volleyball
DESCRIPTION:Come join us in playing Water Volleyball at the West Side Pool. Be prepared to laugh and make new friends\, all while enjoying a great workout. We play as non-competitive teams and welcome anyone who wants to have a fun time. We are flexible on your arrival time; you can join in anytime. We will always have a place for you. Come and check us out!
URL:https://monet.gipreview.com/event/water-volleyball/2026-12-08/
LOCATION:Sandpiper West Side Pool
CATEGORIES:Community Activity
ATTACH;FMTTYPE=image/jpeg:https://monet.gipreview.com/wp-content/uploads/2026/02/20210805_191907-2.jpg
END:VEVENT
BEGIN:VEVENT
DTSTART;TZID=America/New_York:20261209T120000
DTEND;TZID=America/New_York:20261209T140000
DTSTAMP:20260421T152656
CREATED:20260301T023106Z
LAST-MODIFIED:20260310T135449Z
UID:990001957-1796817600-1796824800@monet.gipreview.com
SUMMARY:Water Volleyball
DESCRIPTION:Come join us in playing Water Volleyball at the West Side Pool. Be prepared to laugh and make new friends\, all while enjoying a great workout. We play as non-competitive teams and welcome anyone who wants to have a fun time. We are flexible on your arrival time; you can join in anytime. We will always have a place for you. Come and check us out!
URL:https://monet.gipreview.com/event/water-volleyball/2026-12-09/
LOCATION:Sandpiper West Side Pool
CATEGORIES:Community Activity
ATTACH;FMTTYPE=image/jpeg:https://monet.gipreview.com/wp-content/uploads/2026/02/20210805_191907-2.jpg
END:VEVENT
BEGIN:VEVENT
DTSTART;TZID=America/New_York:20261210T180000
DTEND;TZID=America/New_York:20261210T200000
DTSTAMP:20260421T152656
CREATED:20260226T184953Z
LAST-MODIFIED:20260305T140443Z
UID:990001394-1796925600-1796932800@monet.gipreview.com
SUMMARY:Water Volleyball
DESCRIPTION:
URL:https://monet.gipreview.com/event/water-volleball/2026-12-10/
LOCATION:Sandpiper West Side Pool
CATEGORIES:Community Activity
ATTACH;FMTTYPE=image/jpeg:https://monet.gipreview.com/wp-content/uploads/2026/02/20210805_191907-2.jpg
END:VEVENT
BEGIN:VEVENT
DTSTART;TZID=America/New_York:20261211T120000
DTEND;TZID=America/New_York:20261211T140000
DTSTAMP:20260421T152656
CREATED:20260301T023106Z
LAST-MODIFIED:20260310T135449Z
UID:990001958-1796990400-1796997600@monet.gipreview.com
SUMMARY:Water Volleyball
DESCRIPTION:Come join us in playing Water Volleyball at the West Side Pool. Be prepared to laugh and make new friends\, all while enjoying a great workout. We play as non-competitive teams and welcome anyone who wants to have a fun time. We are flexible on your arrival time; you can join in anytime. We will always have a place for you. Come and check us out!
URL:https://monet.gipreview.com/event/water-volleyball/2026-12-11/
LOCATION:Sandpiper West Side Pool
CATEGORIES:Community Activity
ATTACH;FMTTYPE=image/jpeg:https://monet.gipreview.com/wp-content/uploads/2026/02/20210805_191907-2.jpg
END:VEVENT
BEGIN:VEVENT
DTSTART;TZID=America/New_York:20261212T100000
DTEND;TZID=America/New_York:20261212T120000
DTSTAMP:20260421T152656
CREATED:20260310T134518Z
LAST-MODIFIED:20260321T214531Z
UID:990012403-1797069600-1797076800@monet.gipreview.com
SUMMARY:Water Volleyball
DESCRIPTION:
URL:https://monet.gipreview.com/event/water-volleyball-2/2026-12-12/
LOCATION:Sandpiper West Side Pool
CATEGORIES:Community Activity
ATTACH;FMTTYPE=image/jpeg:https://monet.gipreview.com/wp-content/uploads/2026/02/20210805_191907-2.jpg
END:VEVENT
BEGIN:VEVENT
DTSTART;TZID=America/New_York:20261214T180000
DTEND;TZID=America/New_York:20261214T200000
DTSTAMP:20260421T152656
CREATED:20260226T184953Z
LAST-MODIFIED:20260305T140443Z
UID:990001395-1797271200-1797278400@monet.gipreview.com
SUMMARY:Water Volleyball
DESCRIPTION:
URL:https://monet.gipreview.com/event/water-volleball/2026-12-14/
LOCATION:Sandpiper West Side Pool
CATEGORIES:Community Activity
ATTACH;FMTTYPE=image/jpeg:https://monet.gipreview.com/wp-content/uploads/2026/02/20210805_191907-2.jpg
END:VEVENT
BEGIN:VEVENT
DTSTART;TZID=America/New_York:20261215T120000
DTEND;TZID=America/New_York:20261215T140000
DTSTAMP:20260421T152656
CREATED:20260301T023106Z
LAST-MODIFIED:20260310T135449Z
UID:990001959-1797336000-1797343200@monet.gipreview.com
SUMMARY:Water Volleyball
DESCRIPTION:Come join us in playing Water Volleyball at the West Side Pool. Be prepared to laugh and make new friends\, all while enjoying a great workout. We play as non-competitive teams and welcome anyone who wants to have a fun time. We are flexible on your arrival time; you can join in anytime. We will always have a place for you. Come and check us out!
URL:https://monet.gipreview.com/event/water-volleyball/2026-12-15/
LOCATION:Sandpiper West Side Pool
CATEGORIES:Community Activity
ATTACH;FMTTYPE=image/jpeg:https://monet.gipreview.com/wp-content/uploads/2026/02/20210805_191907-2.jpg
END:VEVENT
END:VCALENDAR