BEGIN:VCALENDAR
VERSION:2.0
PRODID:-//Sandpiper - ECPv6.15.20//NONSGML v1.0//EN
CALSCALE:GREGORIAN
METHOD:PUBLISH
X-WR-CALNAME:Sandpiper
X-ORIGINAL-URL:https://monet.gipreview.com
X-WR-CALDESC:Events for Sandpiper
REFRESH-INTERVAL;VALUE=DURATION:PT1H
X-Robots-Tag:noindex
X-PUBLISHED-TTL:PT1H
BEGIN:VTIMEZONE
TZID:America/New_York
BEGIN:DAYLIGHT
TZOFFSETFROM:-0500
TZOFFSETTO:-0400
TZNAME:EDT
DTSTART:20290311T070000
END:DAYLIGHT
BEGIN:STANDARD
TZOFFSETFROM:-0400
TZOFFSETTO:-0500
TZNAME:EST
DTSTART:20291104T060000
END:STANDARD
BEGIN:DAYLIGHT
TZOFFSETFROM:-0500
TZOFFSETTO:-0400
TZNAME:EDT
DTSTART:20300310T070000
END:DAYLIGHT
BEGIN:STANDARD
TZOFFSETFROM:-0400
TZOFFSETTO:-0500
TZNAME:EST
DTSTART:20301103T060000
END:STANDARD
BEGIN:DAYLIGHT
TZOFFSETFROM:-0500
TZOFFSETTO:-0400
TZNAME:EDT
DTSTART:20310309T070000
END:DAYLIGHT
BEGIN:STANDARD
TZOFFSETFROM:-0400
TZOFFSETTO:-0500
TZNAME:EST
DTSTART:20311102T060000
END:STANDARD
BEGIN:DAYLIGHT
TZOFFSETFROM:-0500
TZOFFSETTO:-0400
TZNAME:EDT
DTSTART:20320314T070000
END:DAYLIGHT
BEGIN:STANDARD
TZOFFSETFROM:-0400
TZOFFSETTO:-0500
TZNAME:EST
DTSTART:20321107T060000
END:STANDARD
END:VTIMEZONE
BEGIN:VEVENT
DTSTART;TZID=America/New_York:20300819T080000
DTEND;TZID=America/New_York:20300819T100000
DTSTAMP:20260421T180254
CREATED:20260304T230635Z
LAST-MODIFIED:20260304T230635Z
UID:990010422-1913356800-1913364000@monet.gipreview.com
SUMMARY:Tennis
DESCRIPTION:Tennis is a fun and engaging sport that promotes fitness\, coordination\, and social interaction. Players use a racket to hit a ball over a net\, improving balance\, agility\, and cardiovascular health while enjoying friendly competition. Whether played for exercise or recreation\, tennis is a great way to stay active and have fun outdoors. 🎾
URL:https://monet.gipreview.com/event/tennis/2030-08-19/
LOCATION:Eastside Tennis Courts
CATEGORIES:Community Activity
ATTACH;FMTTYPE=image/webp:https://monet.gipreview.com/wp-content/uploads/2026/03/Sandpiper-East-Side-Tennis-Courts.webp
END:VEVENT
BEGIN:VEVENT
DTSTART;TZID=America/New_York:20300826T080000
DTEND;TZID=America/New_York:20300826T100000
DTSTAMP:20260421T180254
CREATED:20260304T230635Z
LAST-MODIFIED:20260304T230635Z
UID:990010423-1913961600-1913968800@monet.gipreview.com
SUMMARY:Tennis
DESCRIPTION:Tennis is a fun and engaging sport that promotes fitness\, coordination\, and social interaction. Players use a racket to hit a ball over a net\, improving balance\, agility\, and cardiovascular health while enjoying friendly competition. Whether played for exercise or recreation\, tennis is a great way to stay active and have fun outdoors. 🎾
URL:https://monet.gipreview.com/event/tennis/2030-08-26/
LOCATION:Eastside Tennis Courts
CATEGORIES:Community Activity
ATTACH;FMTTYPE=image/webp:https://monet.gipreview.com/wp-content/uploads/2026/03/Sandpiper-East-Side-Tennis-Courts.webp
END:VEVENT
BEGIN:VEVENT
DTSTART;TZID=America/New_York:20300902T080000
DTEND;TZID=America/New_York:20300902T100000
DTSTAMP:20260421T180254
CREATED:20260304T230635Z
LAST-MODIFIED:20260304T230635Z
UID:990010424-1914566400-1914573600@monet.gipreview.com
SUMMARY:Tennis
DESCRIPTION:Tennis is a fun and engaging sport that promotes fitness\, coordination\, and social interaction. Players use a racket to hit a ball over a net\, improving balance\, agility\, and cardiovascular health while enjoying friendly competition. Whether played for exercise or recreation\, tennis is a great way to stay active and have fun outdoors. 🎾
URL:https://monet.gipreview.com/event/tennis/2030-09-02/
LOCATION:Eastside Tennis Courts
CATEGORIES:Community Activity
ATTACH;FMTTYPE=image/webp:https://monet.gipreview.com/wp-content/uploads/2026/03/Sandpiper-East-Side-Tennis-Courts.webp
END:VEVENT
BEGIN:VEVENT
DTSTART;TZID=America/New_York:20300909T080000
DTEND;TZID=America/New_York:20300909T100000
DTSTAMP:20260421T180254
CREATED:20260304T230635Z
LAST-MODIFIED:20260304T230635Z
UID:990010425-1915171200-1915178400@monet.gipreview.com
SUMMARY:Tennis
DESCRIPTION:Tennis is a fun and engaging sport that promotes fitness\, coordination\, and social interaction. Players use a racket to hit a ball over a net\, improving balance\, agility\, and cardiovascular health while enjoying friendly competition. Whether played for exercise or recreation\, tennis is a great way to stay active and have fun outdoors. 🎾
URL:https://monet.gipreview.com/event/tennis/2030-09-09/
LOCATION:Eastside Tennis Courts
CATEGORIES:Community Activity
ATTACH;FMTTYPE=image/webp:https://monet.gipreview.com/wp-content/uploads/2026/03/Sandpiper-East-Side-Tennis-Courts.webp
END:VEVENT
BEGIN:VEVENT
DTSTART;TZID=America/New_York:20300916T080000
DTEND;TZID=America/New_York:20300916T100000
DTSTAMP:20260421T180254
CREATED:20260304T230635Z
LAST-MODIFIED:20260304T230635Z
UID:990010426-1915776000-1915783200@monet.gipreview.com
SUMMARY:Tennis
DESCRIPTION:Tennis is a fun and engaging sport that promotes fitness\, coordination\, and social interaction. Players use a racket to hit a ball over a net\, improving balance\, agility\, and cardiovascular health while enjoying friendly competition. Whether played for exercise or recreation\, tennis is a great way to stay active and have fun outdoors. 🎾
URL:https://monet.gipreview.com/event/tennis/2030-09-16/
LOCATION:Eastside Tennis Courts
CATEGORIES:Community Activity
ATTACH;FMTTYPE=image/webp:https://monet.gipreview.com/wp-content/uploads/2026/03/Sandpiper-East-Side-Tennis-Courts.webp
END:VEVENT
BEGIN:VEVENT
DTSTART;TZID=America/New_York:20300923T080000
DTEND;TZID=America/New_York:20300923T100000
DTSTAMP:20260421T180254
CREATED:20260304T230635Z
LAST-MODIFIED:20260304T230635Z
UID:990010427-1916380800-1916388000@monet.gipreview.com
SUMMARY:Tennis
DESCRIPTION:Tennis is a fun and engaging sport that promotes fitness\, coordination\, and social interaction. Players use a racket to hit a ball over a net\, improving balance\, agility\, and cardiovascular health while enjoying friendly competition. Whether played for exercise or recreation\, tennis is a great way to stay active and have fun outdoors. 🎾
URL:https://monet.gipreview.com/event/tennis/2030-09-23/
LOCATION:Eastside Tennis Courts
CATEGORIES:Community Activity
ATTACH;FMTTYPE=image/webp:https://monet.gipreview.com/wp-content/uploads/2026/03/Sandpiper-East-Side-Tennis-Courts.webp
END:VEVENT
BEGIN:VEVENT
DTSTART;TZID=America/New_York:20300930T080000
DTEND;TZID=America/New_York:20300930T100000
DTSTAMP:20260421T180254
CREATED:20260304T230635Z
LAST-MODIFIED:20260304T230635Z
UID:990010428-1916985600-1916992800@monet.gipreview.com
SUMMARY:Tennis
DESCRIPTION:Tennis is a fun and engaging sport that promotes fitness\, coordination\, and social interaction. Players use a racket to hit a ball over a net\, improving balance\, agility\, and cardiovascular health while enjoying friendly competition. Whether played for exercise or recreation\, tennis is a great way to stay active and have fun outdoors. 🎾
URL:https://monet.gipreview.com/event/tennis/2030-09-30/
LOCATION:Eastside Tennis Courts
CATEGORIES:Community Activity
ATTACH;FMTTYPE=image/webp:https://monet.gipreview.com/wp-content/uploads/2026/03/Sandpiper-East-Side-Tennis-Courts.webp
END:VEVENT
BEGIN:VEVENT
DTSTART;TZID=America/New_York:20301007T080000
DTEND;TZID=America/New_York:20301007T100000
DTSTAMP:20260421T180254
CREATED:20260304T230635Z
LAST-MODIFIED:20260304T230635Z
UID:990010429-1917590400-1917597600@monet.gipreview.com
SUMMARY:Tennis
DESCRIPTION:Tennis is a fun and engaging sport that promotes fitness\, coordination\, and social interaction. Players use a racket to hit a ball over a net\, improving balance\, agility\, and cardiovascular health while enjoying friendly competition. Whether played for exercise or recreation\, tennis is a great way to stay active and have fun outdoors. 🎾
URL:https://monet.gipreview.com/event/tennis/2030-10-07/
LOCATION:Eastside Tennis Courts
CATEGORIES:Community Activity
ATTACH;FMTTYPE=image/webp:https://monet.gipreview.com/wp-content/uploads/2026/03/Sandpiper-East-Side-Tennis-Courts.webp
END:VEVENT
BEGIN:VEVENT
DTSTART;TZID=America/New_York:20301014T080000
DTEND;TZID=America/New_York:20301014T100000
DTSTAMP:20260421T180254
CREATED:20260304T230635Z
LAST-MODIFIED:20260304T230635Z
UID:990010430-1918195200-1918202400@monet.gipreview.com
SUMMARY:Tennis
DESCRIPTION:Tennis is a fun and engaging sport that promotes fitness\, coordination\, and social interaction. Players use a racket to hit a ball over a net\, improving balance\, agility\, and cardiovascular health while enjoying friendly competition. Whether played for exercise or recreation\, tennis is a great way to stay active and have fun outdoors. 🎾
URL:https://monet.gipreview.com/event/tennis/2030-10-14/
LOCATION:Eastside Tennis Courts
CATEGORIES:Community Activity
ATTACH;FMTTYPE=image/webp:https://monet.gipreview.com/wp-content/uploads/2026/03/Sandpiper-East-Side-Tennis-Courts.webp
END:VEVENT
BEGIN:VEVENT
DTSTART;TZID=America/New_York:20301021T080000
DTEND;TZID=America/New_York:20301021T100000
DTSTAMP:20260421T180254
CREATED:20260304T230635Z
LAST-MODIFIED:20260304T230635Z
UID:990010431-1918800000-1918807200@monet.gipreview.com
SUMMARY:Tennis
DESCRIPTION:Tennis is a fun and engaging sport that promotes fitness\, coordination\, and social interaction. Players use a racket to hit a ball over a net\, improving balance\, agility\, and cardiovascular health while enjoying friendly competition. Whether played for exercise or recreation\, tennis is a great way to stay active and have fun outdoors. 🎾
URL:https://monet.gipreview.com/event/tennis/2030-10-21/
LOCATION:Eastside Tennis Courts
CATEGORIES:Community Activity
ATTACH;FMTTYPE=image/webp:https://monet.gipreview.com/wp-content/uploads/2026/03/Sandpiper-East-Side-Tennis-Courts.webp
END:VEVENT
BEGIN:VEVENT
DTSTART;TZID=America/New_York:20301028T080000
DTEND;TZID=America/New_York:20301028T100000
DTSTAMP:20260421T180254
CREATED:20260304T230635Z
LAST-MODIFIED:20260304T230635Z
UID:990010432-1919404800-1919412000@monet.gipreview.com
SUMMARY:Tennis
DESCRIPTION:Tennis is a fun and engaging sport that promotes fitness\, coordination\, and social interaction. Players use a racket to hit a ball over a net\, improving balance\, agility\, and cardiovascular health while enjoying friendly competition. Whether played for exercise or recreation\, tennis is a great way to stay active and have fun outdoors. 🎾
URL:https://monet.gipreview.com/event/tennis/2030-10-28/
LOCATION:Eastside Tennis Courts
CATEGORIES:Community Activity
ATTACH;FMTTYPE=image/webp:https://monet.gipreview.com/wp-content/uploads/2026/03/Sandpiper-East-Side-Tennis-Courts.webp
END:VEVENT
BEGIN:VEVENT
DTSTART;TZID=America/New_York:20301104T080000
DTEND;TZID=America/New_York:20301104T100000
DTSTAMP:20260421T180255
CREATED:20260304T230635Z
LAST-MODIFIED:20260304T230635Z
UID:990010433-1920009600-1920016800@monet.gipreview.com
SUMMARY:Tennis
DESCRIPTION:Tennis is a fun and engaging sport that promotes fitness\, coordination\, and social interaction. Players use a racket to hit a ball over a net\, improving balance\, agility\, and cardiovascular health while enjoying friendly competition. Whether played for exercise or recreation\, tennis is a great way to stay active and have fun outdoors. 🎾
URL:https://monet.gipreview.com/event/tennis/2030-11-04/
LOCATION:Eastside Tennis Courts
CATEGORIES:Community Activity
ATTACH;FMTTYPE=image/webp:https://monet.gipreview.com/wp-content/uploads/2026/03/Sandpiper-East-Side-Tennis-Courts.webp
END:VEVENT
BEGIN:VEVENT
DTSTART;TZID=America/New_York:20301111T080000
DTEND;TZID=America/New_York:20301111T100000
DTSTAMP:20260421T180255
CREATED:20260304T230635Z
LAST-MODIFIED:20260304T230635Z
UID:990010434-1920614400-1920621600@monet.gipreview.com
SUMMARY:Tennis
DESCRIPTION:Tennis is a fun and engaging sport that promotes fitness\, coordination\, and social interaction. Players use a racket to hit a ball over a net\, improving balance\, agility\, and cardiovascular health while enjoying friendly competition. Whether played for exercise or recreation\, tennis is a great way to stay active and have fun outdoors. 🎾
URL:https://monet.gipreview.com/event/tennis/2030-11-11/
LOCATION:Eastside Tennis Courts
CATEGORIES:Community Activity
ATTACH;FMTTYPE=image/webp:https://monet.gipreview.com/wp-content/uploads/2026/03/Sandpiper-East-Side-Tennis-Courts.webp
END:VEVENT
BEGIN:VEVENT
DTSTART;TZID=America/New_York:20301118T080000
DTEND;TZID=America/New_York:20301118T100000
DTSTAMP:20260421T180255
CREATED:20260304T230635Z
LAST-MODIFIED:20260304T230635Z
UID:990010435-1921219200-1921226400@monet.gipreview.com
SUMMARY:Tennis
DESCRIPTION:Tennis is a fun and engaging sport that promotes fitness\, coordination\, and social interaction. Players use a racket to hit a ball over a net\, improving balance\, agility\, and cardiovascular health while enjoying friendly competition. Whether played for exercise or recreation\, tennis is a great way to stay active and have fun outdoors. 🎾
URL:https://monet.gipreview.com/event/tennis/2030-11-18/
LOCATION:Eastside Tennis Courts
CATEGORIES:Community Activity
ATTACH;FMTTYPE=image/webp:https://monet.gipreview.com/wp-content/uploads/2026/03/Sandpiper-East-Side-Tennis-Courts.webp
END:VEVENT
BEGIN:VEVENT
DTSTART;TZID=America/New_York:20301125T080000
DTEND;TZID=America/New_York:20301125T100000
DTSTAMP:20260421T180255
CREATED:20260304T230635Z
LAST-MODIFIED:20260304T230635Z
UID:990010436-1921824000-1921831200@monet.gipreview.com
SUMMARY:Tennis
DESCRIPTION:Tennis is a fun and engaging sport that promotes fitness\, coordination\, and social interaction. Players use a racket to hit a ball over a net\, improving balance\, agility\, and cardiovascular health while enjoying friendly competition. Whether played for exercise or recreation\, tennis is a great way to stay active and have fun outdoors. 🎾
URL:https://monet.gipreview.com/event/tennis/2030-11-25/
LOCATION:Eastside Tennis Courts
CATEGORIES:Community Activity
ATTACH;FMTTYPE=image/webp:https://monet.gipreview.com/wp-content/uploads/2026/03/Sandpiper-East-Side-Tennis-Courts.webp
END:VEVENT
BEGIN:VEVENT
DTSTART;TZID=America/New_York:20301202T080000
DTEND;TZID=America/New_York:20301202T100000
DTSTAMP:20260421T180255
CREATED:20260304T230635Z
LAST-MODIFIED:20260304T230635Z
UID:990010437-1922428800-1922436000@monet.gipreview.com
SUMMARY:Tennis
DESCRIPTION:Tennis is a fun and engaging sport that promotes fitness\, coordination\, and social interaction. Players use a racket to hit a ball over a net\, improving balance\, agility\, and cardiovascular health while enjoying friendly competition. Whether played for exercise or recreation\, tennis is a great way to stay active and have fun outdoors. 🎾
URL:https://monet.gipreview.com/event/tennis/2030-12-02/
LOCATION:Eastside Tennis Courts
CATEGORIES:Community Activity
ATTACH;FMTTYPE=image/webp:https://monet.gipreview.com/wp-content/uploads/2026/03/Sandpiper-East-Side-Tennis-Courts.webp
END:VEVENT
BEGIN:VEVENT
DTSTART;TZID=America/New_York:20301209T080000
DTEND;TZID=America/New_York:20301209T100000
DTSTAMP:20260421T180255
CREATED:20260304T230635Z
LAST-MODIFIED:20260304T230635Z
UID:990010438-1923033600-1923040800@monet.gipreview.com
SUMMARY:Tennis
DESCRIPTION:Tennis is a fun and engaging sport that promotes fitness\, coordination\, and social interaction. Players use a racket to hit a ball over a net\, improving balance\, agility\, and cardiovascular health while enjoying friendly competition. Whether played for exercise or recreation\, tennis is a great way to stay active and have fun outdoors. 🎾
URL:https://monet.gipreview.com/event/tennis/2030-12-09/
LOCATION:Eastside Tennis Courts
CATEGORIES:Community Activity
ATTACH;FMTTYPE=image/webp:https://monet.gipreview.com/wp-content/uploads/2026/03/Sandpiper-East-Side-Tennis-Courts.webp
END:VEVENT
BEGIN:VEVENT
DTSTART;TZID=America/New_York:20301216T080000
DTEND;TZID=America/New_York:20301216T100000
DTSTAMP:20260421T180255
CREATED:20260304T230635Z
LAST-MODIFIED:20260304T230635Z
UID:990010439-1923638400-1923645600@monet.gipreview.com
SUMMARY:Tennis
DESCRIPTION:Tennis is a fun and engaging sport that promotes fitness\, coordination\, and social interaction. Players use a racket to hit a ball over a net\, improving balance\, agility\, and cardiovascular health while enjoying friendly competition. Whether played for exercise or recreation\, tennis is a great way to stay active and have fun outdoors. 🎾
URL:https://monet.gipreview.com/event/tennis/2030-12-16/
LOCATION:Eastside Tennis Courts
CATEGORIES:Community Activity
ATTACH;FMTTYPE=image/webp:https://monet.gipreview.com/wp-content/uploads/2026/03/Sandpiper-East-Side-Tennis-Courts.webp
END:VEVENT
BEGIN:VEVENT
DTSTART;TZID=America/New_York:20301223T080000
DTEND;TZID=America/New_York:20301223T100000
DTSTAMP:20260421T180255
CREATED:20260304T230635Z
LAST-MODIFIED:20260304T230635Z
UID:990010440-1924243200-1924250400@monet.gipreview.com
SUMMARY:Tennis
DESCRIPTION:Tennis is a fun and engaging sport that promotes fitness\, coordination\, and social interaction. Players use a racket to hit a ball over a net\, improving balance\, agility\, and cardiovascular health while enjoying friendly competition. Whether played for exercise or recreation\, tennis is a great way to stay active and have fun outdoors. 🎾
URL:https://monet.gipreview.com/event/tennis/2030-12-23/
LOCATION:Eastside Tennis Courts
CATEGORIES:Community Activity
ATTACH;FMTTYPE=image/webp:https://monet.gipreview.com/wp-content/uploads/2026/03/Sandpiper-East-Side-Tennis-Courts.webp
END:VEVENT
BEGIN:VEVENT
DTSTART;TZID=America/New_York:20301230T080000
DTEND;TZID=America/New_York:20301230T100000
DTSTAMP:20260421T180255
CREATED:20260304T230635Z
LAST-MODIFIED:20260304T230635Z
UID:990010441-1924848000-1924855200@monet.gipreview.com
SUMMARY:Tennis
DESCRIPTION:Tennis is a fun and engaging sport that promotes fitness\, coordination\, and social interaction. Players use a racket to hit a ball over a net\, improving balance\, agility\, and cardiovascular health while enjoying friendly competition. Whether played for exercise or recreation\, tennis is a great way to stay active and have fun outdoors. 🎾
URL:https://monet.gipreview.com/event/tennis/2030-12-30/
LOCATION:Eastside Tennis Courts
CATEGORIES:Community Activity
ATTACH;FMTTYPE=image/webp:https://monet.gipreview.com/wp-content/uploads/2026/03/Sandpiper-East-Side-Tennis-Courts.webp
END:VEVENT
BEGIN:VEVENT
DTSTART;TZID=America/New_York:20310106T080000
DTEND;TZID=America/New_York:20310106T100000
DTSTAMP:20260421T180255
CREATED:20260304T230635Z
LAST-MODIFIED:20260304T230635Z
UID:990010442-1925452800-1925460000@monet.gipreview.com
SUMMARY:Tennis
DESCRIPTION:Tennis is a fun and engaging sport that promotes fitness\, coordination\, and social interaction. Players use a racket to hit a ball over a net\, improving balance\, agility\, and cardiovascular health while enjoying friendly competition. Whether played for exercise or recreation\, tennis is a great way to stay active and have fun outdoors. 🎾
URL:https://monet.gipreview.com/event/tennis/2031-01-06/
LOCATION:Eastside Tennis Courts
CATEGORIES:Community Activity
ATTACH;FMTTYPE=image/webp:https://monet.gipreview.com/wp-content/uploads/2026/03/Sandpiper-East-Side-Tennis-Courts.webp
END:VEVENT
BEGIN:VEVENT
DTSTART;TZID=America/New_York:20310113T080000
DTEND;TZID=America/New_York:20310113T100000
DTSTAMP:20260421T180255
CREATED:20260304T230635Z
LAST-MODIFIED:20260304T230635Z
UID:990010443-1926057600-1926064800@monet.gipreview.com
SUMMARY:Tennis
DESCRIPTION:Tennis is a fun and engaging sport that promotes fitness\, coordination\, and social interaction. Players use a racket to hit a ball over a net\, improving balance\, agility\, and cardiovascular health while enjoying friendly competition. Whether played for exercise or recreation\, tennis is a great way to stay active and have fun outdoors. 🎾
URL:https://monet.gipreview.com/event/tennis/2031-01-13/
LOCATION:Eastside Tennis Courts
CATEGORIES:Community Activity
ATTACH;FMTTYPE=image/webp:https://monet.gipreview.com/wp-content/uploads/2026/03/Sandpiper-East-Side-Tennis-Courts.webp
END:VEVENT
BEGIN:VEVENT
DTSTART;TZID=America/New_York:20310120T080000
DTEND;TZID=America/New_York:20310120T100000
DTSTAMP:20260421T180255
CREATED:20260304T230635Z
LAST-MODIFIED:20260304T230635Z
UID:990010444-1926662400-1926669600@monet.gipreview.com
SUMMARY:Tennis
DESCRIPTION:Tennis is a fun and engaging sport that promotes fitness\, coordination\, and social interaction. Players use a racket to hit a ball over a net\, improving balance\, agility\, and cardiovascular health while enjoying friendly competition. Whether played for exercise or recreation\, tennis is a great way to stay active and have fun outdoors. 🎾
URL:https://monet.gipreview.com/event/tennis/2031-01-20/
LOCATION:Eastside Tennis Courts
CATEGORIES:Community Activity
ATTACH;FMTTYPE=image/webp:https://monet.gipreview.com/wp-content/uploads/2026/03/Sandpiper-East-Side-Tennis-Courts.webp
END:VEVENT
BEGIN:VEVENT
DTSTART;TZID=America/New_York:20310127T080000
DTEND;TZID=America/New_York:20310127T100000
DTSTAMP:20260421T180255
CREATED:20260304T230635Z
LAST-MODIFIED:20260304T230635Z
UID:990010445-1927267200-1927274400@monet.gipreview.com
SUMMARY:Tennis
DESCRIPTION:Tennis is a fun and engaging sport that promotes fitness\, coordination\, and social interaction. Players use a racket to hit a ball over a net\, improving balance\, agility\, and cardiovascular health while enjoying friendly competition. Whether played for exercise or recreation\, tennis is a great way to stay active and have fun outdoors. 🎾
URL:https://monet.gipreview.com/event/tennis/2031-01-27/
LOCATION:Eastside Tennis Courts
CATEGORIES:Community Activity
ATTACH;FMTTYPE=image/webp:https://monet.gipreview.com/wp-content/uploads/2026/03/Sandpiper-East-Side-Tennis-Courts.webp
END:VEVENT
BEGIN:VEVENT
DTSTART;TZID=America/New_York:20310203T080000
DTEND;TZID=America/New_York:20310203T100000
DTSTAMP:20260421T180255
CREATED:20260304T230635Z
LAST-MODIFIED:20260304T230635Z
UID:990010446-1927872000-1927879200@monet.gipreview.com
SUMMARY:Tennis
DESCRIPTION:Tennis is a fun and engaging sport that promotes fitness\, coordination\, and social interaction. Players use a racket to hit a ball over a net\, improving balance\, agility\, and cardiovascular health while enjoying friendly competition. Whether played for exercise or recreation\, tennis is a great way to stay active and have fun outdoors. 🎾
URL:https://monet.gipreview.com/event/tennis/2031-02-03/
LOCATION:Eastside Tennis Courts
CATEGORIES:Community Activity
ATTACH;FMTTYPE=image/webp:https://monet.gipreview.com/wp-content/uploads/2026/03/Sandpiper-East-Side-Tennis-Courts.webp
END:VEVENT
BEGIN:VEVENT
DTSTART;TZID=America/New_York:20310210T080000
DTEND;TZID=America/New_York:20310210T100000
DTSTAMP:20260421T180255
CREATED:20260304T230635Z
LAST-MODIFIED:20260304T230635Z
UID:990010447-1928476800-1928484000@monet.gipreview.com
SUMMARY:Tennis
DESCRIPTION:Tennis is a fun and engaging sport that promotes fitness\, coordination\, and social interaction. Players use a racket to hit a ball over a net\, improving balance\, agility\, and cardiovascular health while enjoying friendly competition. Whether played for exercise or recreation\, tennis is a great way to stay active and have fun outdoors. 🎾
URL:https://monet.gipreview.com/event/tennis/2031-02-10/
LOCATION:Eastside Tennis Courts
CATEGORIES:Community Activity
ATTACH;FMTTYPE=image/webp:https://monet.gipreview.com/wp-content/uploads/2026/03/Sandpiper-East-Side-Tennis-Courts.webp
END:VEVENT
BEGIN:VEVENT
DTSTART;TZID=America/New_York:20310217T080000
DTEND;TZID=America/New_York:20310217T100000
DTSTAMP:20260421T180255
CREATED:20260304T230635Z
LAST-MODIFIED:20260304T230635Z
UID:990010448-1929081600-1929088800@monet.gipreview.com
SUMMARY:Tennis
DESCRIPTION:Tennis is a fun and engaging sport that promotes fitness\, coordination\, and social interaction. Players use a racket to hit a ball over a net\, improving balance\, agility\, and cardiovascular health while enjoying friendly competition. Whether played for exercise or recreation\, tennis is a great way to stay active and have fun outdoors. 🎾
URL:https://monet.gipreview.com/event/tennis/2031-02-17/
LOCATION:Eastside Tennis Courts
CATEGORIES:Community Activity
ATTACH;FMTTYPE=image/webp:https://monet.gipreview.com/wp-content/uploads/2026/03/Sandpiper-East-Side-Tennis-Courts.webp
END:VEVENT
BEGIN:VEVENT
DTSTART;TZID=America/New_York:20310224T080000
DTEND;TZID=America/New_York:20310224T100000
DTSTAMP:20260421T180255
CREATED:20260304T230635Z
LAST-MODIFIED:20260304T230635Z
UID:990010449-1929686400-1929693600@monet.gipreview.com
SUMMARY:Tennis
DESCRIPTION:Tennis is a fun and engaging sport that promotes fitness\, coordination\, and social interaction. Players use a racket to hit a ball over a net\, improving balance\, agility\, and cardiovascular health while enjoying friendly competition. Whether played for exercise or recreation\, tennis is a great way to stay active and have fun outdoors. 🎾
URL:https://monet.gipreview.com/event/tennis/2031-02-24/
LOCATION:Eastside Tennis Courts
CATEGORIES:Community Activity
ATTACH;FMTTYPE=image/webp:https://monet.gipreview.com/wp-content/uploads/2026/03/Sandpiper-East-Side-Tennis-Courts.webp
END:VEVENT
BEGIN:VEVENT
DTSTART;TZID=America/New_York:20310303T080000
DTEND;TZID=America/New_York:20310303T100000
DTSTAMP:20260421T180255
CREATED:20260304T230635Z
LAST-MODIFIED:20260304T230635Z
UID:990010450-1930291200-1930298400@monet.gipreview.com
SUMMARY:Tennis
DESCRIPTION:Tennis is a fun and engaging sport that promotes fitness\, coordination\, and social interaction. Players use a racket to hit a ball over a net\, improving balance\, agility\, and cardiovascular health while enjoying friendly competition. Whether played for exercise or recreation\, tennis is a great way to stay active and have fun outdoors. 🎾
URL:https://monet.gipreview.com/event/tennis/2031-03-03/
LOCATION:Eastside Tennis Courts
CATEGORIES:Community Activity
ATTACH;FMTTYPE=image/webp:https://monet.gipreview.com/wp-content/uploads/2026/03/Sandpiper-East-Side-Tennis-Courts.webp
END:VEVENT
END:VCALENDAR