BEGIN:VCALENDAR
VERSION:2.0
PRODID:-//Sandpiper - ECPv6.15.20//NONSGML v1.0//EN
CALSCALE:GREGORIAN
METHOD:PUBLISH
X-ORIGINAL-URL:https://monet.gipreview.com
X-WR-CALDESC:Events for Sandpiper
REFRESH-INTERVAL;VALUE=DURATION:PT1H
X-Robots-Tag:noindex
X-PUBLISHED-TTL:PT1H
BEGIN:VTIMEZONE
TZID:America/New_York
BEGIN:DAYLIGHT
TZOFFSETFROM:-0500
TZOFFSETTO:-0400
TZNAME:EDT
DTSTART:20290311T070000
END:DAYLIGHT
BEGIN:STANDARD
TZOFFSETFROM:-0400
TZOFFSETTO:-0500
TZNAME:EST
DTSTART:20291104T060000
END:STANDARD
BEGIN:DAYLIGHT
TZOFFSETFROM:-0500
TZOFFSETTO:-0400
TZNAME:EDT
DTSTART:20300310T070000
END:DAYLIGHT
BEGIN:STANDARD
TZOFFSETFROM:-0400
TZOFFSETTO:-0500
TZNAME:EST
DTSTART:20301103T060000
END:STANDARD
BEGIN:DAYLIGHT
TZOFFSETFROM:-0500
TZOFFSETTO:-0400
TZNAME:EDT
DTSTART:20310309T070000
END:DAYLIGHT
BEGIN:STANDARD
TZOFFSETFROM:-0400
TZOFFSETTO:-0500
TZNAME:EST
DTSTART:20311102T060000
END:STANDARD
BEGIN:DAYLIGHT
TZOFFSETFROM:-0500
TZOFFSETTO:-0400
TZNAME:EDT
DTSTART:20320314T070000
END:DAYLIGHT
BEGIN:STANDARD
TZOFFSETFROM:-0400
TZOFFSETTO:-0500
TZNAME:EST
DTSTART:20321107T060000
END:STANDARD
END:VTIMEZONE
BEGIN:VEVENT
DTSTART;TZID=America/New_York:20301001T100000
DTEND;TZID=America/New_York:20301001T110000
DTSTAMP:20260421T223109
CREATED:20260304T225246Z
LAST-MODIFIED:20260304T225246Z
UID:990010167-1917079200-1917082800@monet.gipreview.com
SUMMARY:Senior Chair Yoga & Strength
DESCRIPTION:Chair Yoga & Strength \nA gentle\, low-impact class designed to improve flexibility\, balance\, and strength while using a chair for support. Participants will enjoy simple yoga stretches combined with light strength exercises to help build muscle\, enhance mobility\, and support overall wellness. Perfect for all fitness levels and ideal for seniors looking to stay active in a safe and comfortable way.
URL:https://monet.gipreview.com/event/senior-chair-yoga-strength/2030-10-01/
LOCATION:Eastside Tennis Courts
CATEGORIES:Community Activity
ATTACH;FMTTYPE=image/png:https://monet.gipreview.com/wp-content/uploads/2026/03/Chair-yoga-for-seniors-in-session.png
END:VEVENT
BEGIN:VEVENT
DTSTART;TZID=America/New_York:20301008T100000
DTEND;TZID=America/New_York:20301008T110000
DTSTAMP:20260421T223110
CREATED:20260304T225246Z
LAST-MODIFIED:20260304T225246Z
UID:990010168-1917684000-1917687600@monet.gipreview.com
SUMMARY:Senior Chair Yoga & Strength
DESCRIPTION:Chair Yoga & Strength \nA gentle\, low-impact class designed to improve flexibility\, balance\, and strength while using a chair for support. Participants will enjoy simple yoga stretches combined with light strength exercises to help build muscle\, enhance mobility\, and support overall wellness. Perfect for all fitness levels and ideal for seniors looking to stay active in a safe and comfortable way.
URL:https://monet.gipreview.com/event/senior-chair-yoga-strength/2030-10-08/
LOCATION:Eastside Tennis Courts
CATEGORIES:Community Activity
ATTACH;FMTTYPE=image/png:https://monet.gipreview.com/wp-content/uploads/2026/03/Chair-yoga-for-seniors-in-session.png
END:VEVENT
BEGIN:VEVENT
DTSTART;TZID=America/New_York:20301015T100000
DTEND;TZID=America/New_York:20301015T110000
DTSTAMP:20260421T223110
CREATED:20260304T225246Z
LAST-MODIFIED:20260304T225246Z
UID:990010169-1918288800-1918292400@monet.gipreview.com
SUMMARY:Senior Chair Yoga & Strength
DESCRIPTION:Chair Yoga & Strength \nA gentle\, low-impact class designed to improve flexibility\, balance\, and strength while using a chair for support. Participants will enjoy simple yoga stretches combined with light strength exercises to help build muscle\, enhance mobility\, and support overall wellness. Perfect for all fitness levels and ideal for seniors looking to stay active in a safe and comfortable way.
URL:https://monet.gipreview.com/event/senior-chair-yoga-strength/2030-10-15/
LOCATION:Eastside Tennis Courts
CATEGORIES:Community Activity
ATTACH;FMTTYPE=image/png:https://monet.gipreview.com/wp-content/uploads/2026/03/Chair-yoga-for-seniors-in-session.png
END:VEVENT
BEGIN:VEVENT
DTSTART;TZID=America/New_York:20301022T100000
DTEND;TZID=America/New_York:20301022T110000
DTSTAMP:20260421T223110
CREATED:20260304T225246Z
LAST-MODIFIED:20260304T225246Z
UID:990010170-1918893600-1918897200@monet.gipreview.com
SUMMARY:Senior Chair Yoga & Strength
DESCRIPTION:Chair Yoga & Strength \nA gentle\, low-impact class designed to improve flexibility\, balance\, and strength while using a chair for support. Participants will enjoy simple yoga stretches combined with light strength exercises to help build muscle\, enhance mobility\, and support overall wellness. Perfect for all fitness levels and ideal for seniors looking to stay active in a safe and comfortable way.
URL:https://monet.gipreview.com/event/senior-chair-yoga-strength/2030-10-22/
LOCATION:Eastside Tennis Courts
CATEGORIES:Community Activity
ATTACH;FMTTYPE=image/png:https://monet.gipreview.com/wp-content/uploads/2026/03/Chair-yoga-for-seniors-in-session.png
END:VEVENT
BEGIN:VEVENT
DTSTART;TZID=America/New_York:20301029T100000
DTEND;TZID=America/New_York:20301029T110000
DTSTAMP:20260421T223110
CREATED:20260304T225246Z
LAST-MODIFIED:20260304T225246Z
UID:990010171-1919498400-1919502000@monet.gipreview.com
SUMMARY:Senior Chair Yoga & Strength
DESCRIPTION:Chair Yoga & Strength \nA gentle\, low-impact class designed to improve flexibility\, balance\, and strength while using a chair for support. Participants will enjoy simple yoga stretches combined with light strength exercises to help build muscle\, enhance mobility\, and support overall wellness. Perfect for all fitness levels and ideal for seniors looking to stay active in a safe and comfortable way.
URL:https://monet.gipreview.com/event/senior-chair-yoga-strength/2030-10-29/
LOCATION:Eastside Tennis Courts
CATEGORIES:Community Activity
ATTACH;FMTTYPE=image/png:https://monet.gipreview.com/wp-content/uploads/2026/03/Chair-yoga-for-seniors-in-session.png
END:VEVENT
BEGIN:VEVENT
DTSTART;TZID=America/New_York:20301105T100000
DTEND;TZID=America/New_York:20301105T110000
DTSTAMP:20260421T223110
CREATED:20260304T225246Z
LAST-MODIFIED:20260304T225246Z
UID:990010172-1920103200-1920106800@monet.gipreview.com
SUMMARY:Senior Chair Yoga & Strength
DESCRIPTION:Chair Yoga & Strength \nA gentle\, low-impact class designed to improve flexibility\, balance\, and strength while using a chair for support. Participants will enjoy simple yoga stretches combined with light strength exercises to help build muscle\, enhance mobility\, and support overall wellness. Perfect for all fitness levels and ideal for seniors looking to stay active in a safe and comfortable way.
URL:https://monet.gipreview.com/event/senior-chair-yoga-strength/2030-11-05/
LOCATION:Eastside Tennis Courts
CATEGORIES:Community Activity
ATTACH;FMTTYPE=image/png:https://monet.gipreview.com/wp-content/uploads/2026/03/Chair-yoga-for-seniors-in-session.png
END:VEVENT
BEGIN:VEVENT
DTSTART;TZID=America/New_York:20301112T100000
DTEND;TZID=America/New_York:20301112T110000
DTSTAMP:20260421T223110
CREATED:20260304T225246Z
LAST-MODIFIED:20260304T225246Z
UID:990010173-1920708000-1920711600@monet.gipreview.com
SUMMARY:Senior Chair Yoga & Strength
DESCRIPTION:Chair Yoga & Strength \nA gentle\, low-impact class designed to improve flexibility\, balance\, and strength while using a chair for support. Participants will enjoy simple yoga stretches combined with light strength exercises to help build muscle\, enhance mobility\, and support overall wellness. Perfect for all fitness levels and ideal for seniors looking to stay active in a safe and comfortable way.
URL:https://monet.gipreview.com/event/senior-chair-yoga-strength/2030-11-12/
LOCATION:Eastside Tennis Courts
CATEGORIES:Community Activity
ATTACH;FMTTYPE=image/png:https://monet.gipreview.com/wp-content/uploads/2026/03/Chair-yoga-for-seniors-in-session.png
END:VEVENT
BEGIN:VEVENT
DTSTART;TZID=America/New_York:20301119T100000
DTEND;TZID=America/New_York:20301119T110000
DTSTAMP:20260421T223110
CREATED:20260304T225246Z
LAST-MODIFIED:20260304T225246Z
UID:990010174-1921312800-1921316400@monet.gipreview.com
SUMMARY:Senior Chair Yoga & Strength
DESCRIPTION:Chair Yoga & Strength \nA gentle\, low-impact class designed to improve flexibility\, balance\, and strength while using a chair for support. Participants will enjoy simple yoga stretches combined with light strength exercises to help build muscle\, enhance mobility\, and support overall wellness. Perfect for all fitness levels and ideal for seniors looking to stay active in a safe and comfortable way.
URL:https://monet.gipreview.com/event/senior-chair-yoga-strength/2030-11-19/
LOCATION:Eastside Tennis Courts
CATEGORIES:Community Activity
ATTACH;FMTTYPE=image/png:https://monet.gipreview.com/wp-content/uploads/2026/03/Chair-yoga-for-seniors-in-session.png
END:VEVENT
BEGIN:VEVENT
DTSTART;TZID=America/New_York:20301126T100000
DTEND;TZID=America/New_York:20301126T110000
DTSTAMP:20260421T223110
CREATED:20260304T225246Z
LAST-MODIFIED:20260304T225246Z
UID:990010175-1921917600-1921921200@monet.gipreview.com
SUMMARY:Senior Chair Yoga & Strength
DESCRIPTION:Chair Yoga & Strength \nA gentle\, low-impact class designed to improve flexibility\, balance\, and strength while using a chair for support. Participants will enjoy simple yoga stretches combined with light strength exercises to help build muscle\, enhance mobility\, and support overall wellness. Perfect for all fitness levels and ideal for seniors looking to stay active in a safe and comfortable way.
URL:https://monet.gipreview.com/event/senior-chair-yoga-strength/2030-11-26/
LOCATION:Eastside Tennis Courts
CATEGORIES:Community Activity
ATTACH;FMTTYPE=image/png:https://monet.gipreview.com/wp-content/uploads/2026/03/Chair-yoga-for-seniors-in-session.png
END:VEVENT
BEGIN:VEVENT
DTSTART;TZID=America/New_York:20301203T100000
DTEND;TZID=America/New_York:20301203T110000
DTSTAMP:20260421T223110
CREATED:20260304T225246Z
LAST-MODIFIED:20260304T225246Z
UID:990010176-1922522400-1922526000@monet.gipreview.com
SUMMARY:Senior Chair Yoga & Strength
DESCRIPTION:Chair Yoga & Strength \nA gentle\, low-impact class designed to improve flexibility\, balance\, and strength while using a chair for support. Participants will enjoy simple yoga stretches combined with light strength exercises to help build muscle\, enhance mobility\, and support overall wellness. Perfect for all fitness levels and ideal for seniors looking to stay active in a safe and comfortable way.
URL:https://monet.gipreview.com/event/senior-chair-yoga-strength/2030-12-03/
LOCATION:Eastside Tennis Courts
CATEGORIES:Community Activity
ATTACH;FMTTYPE=image/png:https://monet.gipreview.com/wp-content/uploads/2026/03/Chair-yoga-for-seniors-in-session.png
END:VEVENT
BEGIN:VEVENT
DTSTART;TZID=America/New_York:20301210T100000
DTEND;TZID=America/New_York:20301210T110000
DTSTAMP:20260421T223110
CREATED:20260304T225246Z
LAST-MODIFIED:20260304T225246Z
UID:990010177-1923127200-1923130800@monet.gipreview.com
SUMMARY:Senior Chair Yoga & Strength
DESCRIPTION:Chair Yoga & Strength \nA gentle\, low-impact class designed to improve flexibility\, balance\, and strength while using a chair for support. Participants will enjoy simple yoga stretches combined with light strength exercises to help build muscle\, enhance mobility\, and support overall wellness. Perfect for all fitness levels and ideal for seniors looking to stay active in a safe and comfortable way.
URL:https://monet.gipreview.com/event/senior-chair-yoga-strength/2030-12-10/
LOCATION:Eastside Tennis Courts
CATEGORIES:Community Activity
ATTACH;FMTTYPE=image/png:https://monet.gipreview.com/wp-content/uploads/2026/03/Chair-yoga-for-seniors-in-session.png
END:VEVENT
BEGIN:VEVENT
DTSTART;TZID=America/New_York:20301217T100000
DTEND;TZID=America/New_York:20301217T110000
DTSTAMP:20260421T223110
CREATED:20260304T225246Z
LAST-MODIFIED:20260304T225246Z
UID:990010178-1923732000-1923735600@monet.gipreview.com
SUMMARY:Senior Chair Yoga & Strength
DESCRIPTION:Chair Yoga & Strength \nA gentle\, low-impact class designed to improve flexibility\, balance\, and strength while using a chair for support. Participants will enjoy simple yoga stretches combined with light strength exercises to help build muscle\, enhance mobility\, and support overall wellness. Perfect for all fitness levels and ideal for seniors looking to stay active in a safe and comfortable way.
URL:https://monet.gipreview.com/event/senior-chair-yoga-strength/2030-12-17/
LOCATION:Eastside Tennis Courts
CATEGORIES:Community Activity
ATTACH;FMTTYPE=image/png:https://monet.gipreview.com/wp-content/uploads/2026/03/Chair-yoga-for-seniors-in-session.png
END:VEVENT
BEGIN:VEVENT
DTSTART;TZID=America/New_York:20301224T100000
DTEND;TZID=America/New_York:20301224T110000
DTSTAMP:20260421T223110
CREATED:20260304T225246Z
LAST-MODIFIED:20260304T225246Z
UID:990010179-1924336800-1924340400@monet.gipreview.com
SUMMARY:Senior Chair Yoga & Strength
DESCRIPTION:Chair Yoga & Strength \nA gentle\, low-impact class designed to improve flexibility\, balance\, and strength while using a chair for support. Participants will enjoy simple yoga stretches combined with light strength exercises to help build muscle\, enhance mobility\, and support overall wellness. Perfect for all fitness levels and ideal for seniors looking to stay active in a safe and comfortable way.
URL:https://monet.gipreview.com/event/senior-chair-yoga-strength/2030-12-24/
LOCATION:Eastside Tennis Courts
CATEGORIES:Community Activity
ATTACH;FMTTYPE=image/png:https://monet.gipreview.com/wp-content/uploads/2026/03/Chair-yoga-for-seniors-in-session.png
END:VEVENT
BEGIN:VEVENT
DTSTART;TZID=America/New_York:20301231T100000
DTEND;TZID=America/New_York:20301231T110000
DTSTAMP:20260421T223110
CREATED:20260304T225246Z
LAST-MODIFIED:20260304T225246Z
UID:990010180-1924941600-1924945200@monet.gipreview.com
SUMMARY:Senior Chair Yoga & Strength
DESCRIPTION:Chair Yoga & Strength \nA gentle\, low-impact class designed to improve flexibility\, balance\, and strength while using a chair for support. Participants will enjoy simple yoga stretches combined with light strength exercises to help build muscle\, enhance mobility\, and support overall wellness. Perfect for all fitness levels and ideal for seniors looking to stay active in a safe and comfortable way.
URL:https://monet.gipreview.com/event/senior-chair-yoga-strength/2030-12-31/
LOCATION:Eastside Tennis Courts
CATEGORIES:Community Activity
ATTACH;FMTTYPE=image/png:https://monet.gipreview.com/wp-content/uploads/2026/03/Chair-yoga-for-seniors-in-session.png
END:VEVENT
BEGIN:VEVENT
DTSTART;TZID=America/New_York:20310107T100000
DTEND;TZID=America/New_York:20310107T110000
DTSTAMP:20260421T223110
CREATED:20260304T225246Z
LAST-MODIFIED:20260304T225246Z
UID:990010181-1925546400-1925550000@monet.gipreview.com
SUMMARY:Senior Chair Yoga & Strength
DESCRIPTION:Chair Yoga & Strength \nA gentle\, low-impact class designed to improve flexibility\, balance\, and strength while using a chair for support. Participants will enjoy simple yoga stretches combined with light strength exercises to help build muscle\, enhance mobility\, and support overall wellness. Perfect for all fitness levels and ideal for seniors looking to stay active in a safe and comfortable way.
URL:https://monet.gipreview.com/event/senior-chair-yoga-strength/2031-01-07/
LOCATION:Eastside Tennis Courts
CATEGORIES:Community Activity
ATTACH;FMTTYPE=image/png:https://monet.gipreview.com/wp-content/uploads/2026/03/Chair-yoga-for-seniors-in-session.png
END:VEVENT
BEGIN:VEVENT
DTSTART;TZID=America/New_York:20310114T100000
DTEND;TZID=America/New_York:20310114T110000
DTSTAMP:20260421T223110
CREATED:20260304T225246Z
LAST-MODIFIED:20260304T225246Z
UID:990010182-1926151200-1926154800@monet.gipreview.com
SUMMARY:Senior Chair Yoga & Strength
DESCRIPTION:Chair Yoga & Strength \nA gentle\, low-impact class designed to improve flexibility\, balance\, and strength while using a chair for support. Participants will enjoy simple yoga stretches combined with light strength exercises to help build muscle\, enhance mobility\, and support overall wellness. Perfect for all fitness levels and ideal for seniors looking to stay active in a safe and comfortable way.
URL:https://monet.gipreview.com/event/senior-chair-yoga-strength/2031-01-14/
LOCATION:Eastside Tennis Courts
CATEGORIES:Community Activity
ATTACH;FMTTYPE=image/png:https://monet.gipreview.com/wp-content/uploads/2026/03/Chair-yoga-for-seniors-in-session.png
END:VEVENT
BEGIN:VEVENT
DTSTART;TZID=America/New_York:20310121T100000
DTEND;TZID=America/New_York:20310121T110000
DTSTAMP:20260421T223110
CREATED:20260304T225246Z
LAST-MODIFIED:20260304T225246Z
UID:990010183-1926756000-1926759600@monet.gipreview.com
SUMMARY:Senior Chair Yoga & Strength
DESCRIPTION:Chair Yoga & Strength \nA gentle\, low-impact class designed to improve flexibility\, balance\, and strength while using a chair for support. Participants will enjoy simple yoga stretches combined with light strength exercises to help build muscle\, enhance mobility\, and support overall wellness. Perfect for all fitness levels and ideal for seniors looking to stay active in a safe and comfortable way.
URL:https://monet.gipreview.com/event/senior-chair-yoga-strength/2031-01-21/
LOCATION:Eastside Tennis Courts
CATEGORIES:Community Activity
ATTACH;FMTTYPE=image/png:https://monet.gipreview.com/wp-content/uploads/2026/03/Chair-yoga-for-seniors-in-session.png
END:VEVENT
BEGIN:VEVENT
DTSTART;TZID=America/New_York:20310128T100000
DTEND;TZID=America/New_York:20310128T110000
DTSTAMP:20260421T223110
CREATED:20260304T225246Z
LAST-MODIFIED:20260304T225246Z
UID:990010184-1927360800-1927364400@monet.gipreview.com
SUMMARY:Senior Chair Yoga & Strength
DESCRIPTION:Chair Yoga & Strength \nA gentle\, low-impact class designed to improve flexibility\, balance\, and strength while using a chair for support. Participants will enjoy simple yoga stretches combined with light strength exercises to help build muscle\, enhance mobility\, and support overall wellness. Perfect for all fitness levels and ideal for seniors looking to stay active in a safe and comfortable way.
URL:https://monet.gipreview.com/event/senior-chair-yoga-strength/2031-01-28/
LOCATION:Eastside Tennis Courts
CATEGORIES:Community Activity
ATTACH;FMTTYPE=image/png:https://monet.gipreview.com/wp-content/uploads/2026/03/Chair-yoga-for-seniors-in-session.png
END:VEVENT
BEGIN:VEVENT
DTSTART;TZID=America/New_York:20310204T100000
DTEND;TZID=America/New_York:20310204T110000
DTSTAMP:20260421T223110
CREATED:20260304T225246Z
LAST-MODIFIED:20260304T225246Z
UID:990010185-1927965600-1927969200@monet.gipreview.com
SUMMARY:Senior Chair Yoga & Strength
DESCRIPTION:Chair Yoga & Strength \nA gentle\, low-impact class designed to improve flexibility\, balance\, and strength while using a chair for support. Participants will enjoy simple yoga stretches combined with light strength exercises to help build muscle\, enhance mobility\, and support overall wellness. Perfect for all fitness levels and ideal for seniors looking to stay active in a safe and comfortable way.
URL:https://monet.gipreview.com/event/senior-chair-yoga-strength/2031-02-04/
LOCATION:Eastside Tennis Courts
CATEGORIES:Community Activity
ATTACH;FMTTYPE=image/png:https://monet.gipreview.com/wp-content/uploads/2026/03/Chair-yoga-for-seniors-in-session.png
END:VEVENT
BEGIN:VEVENT
DTSTART;TZID=America/New_York:20310211T100000
DTEND;TZID=America/New_York:20310211T110000
DTSTAMP:20260421T223110
CREATED:20260304T225246Z
LAST-MODIFIED:20260304T225246Z
UID:990010186-1928570400-1928574000@monet.gipreview.com
SUMMARY:Senior Chair Yoga & Strength
DESCRIPTION:Chair Yoga & Strength \nA gentle\, low-impact class designed to improve flexibility\, balance\, and strength while using a chair for support. Participants will enjoy simple yoga stretches combined with light strength exercises to help build muscle\, enhance mobility\, and support overall wellness. Perfect for all fitness levels and ideal for seniors looking to stay active in a safe and comfortable way.
URL:https://monet.gipreview.com/event/senior-chair-yoga-strength/2031-02-11/
LOCATION:Eastside Tennis Courts
CATEGORIES:Community Activity
ATTACH;FMTTYPE=image/png:https://monet.gipreview.com/wp-content/uploads/2026/03/Chair-yoga-for-seniors-in-session.png
END:VEVENT
BEGIN:VEVENT
DTSTART;TZID=America/New_York:20310218T100000
DTEND;TZID=America/New_York:20310218T110000
DTSTAMP:20260421T223110
CREATED:20260304T225246Z
LAST-MODIFIED:20260304T225246Z
UID:990010187-1929175200-1929178800@monet.gipreview.com
SUMMARY:Senior Chair Yoga & Strength
DESCRIPTION:Chair Yoga & Strength \nA gentle\, low-impact class designed to improve flexibility\, balance\, and strength while using a chair for support. Participants will enjoy simple yoga stretches combined with light strength exercises to help build muscle\, enhance mobility\, and support overall wellness. Perfect for all fitness levels and ideal for seniors looking to stay active in a safe and comfortable way.
URL:https://monet.gipreview.com/event/senior-chair-yoga-strength/2031-02-18/
LOCATION:Eastside Tennis Courts
CATEGORIES:Community Activity
ATTACH;FMTTYPE=image/png:https://monet.gipreview.com/wp-content/uploads/2026/03/Chair-yoga-for-seniors-in-session.png
END:VEVENT
BEGIN:VEVENT
DTSTART;TZID=America/New_York:20310225T100000
DTEND;TZID=America/New_York:20310225T110000
DTSTAMP:20260421T223111
CREATED:20260304T225246Z
LAST-MODIFIED:20260304T225246Z
UID:990010188-1929780000-1929783600@monet.gipreview.com
SUMMARY:Senior Chair Yoga & Strength
DESCRIPTION:Chair Yoga & Strength \nA gentle\, low-impact class designed to improve flexibility\, balance\, and strength while using a chair for support. Participants will enjoy simple yoga stretches combined with light strength exercises to help build muscle\, enhance mobility\, and support overall wellness. Perfect for all fitness levels and ideal for seniors looking to stay active in a safe and comfortable way.
URL:https://monet.gipreview.com/event/senior-chair-yoga-strength/2031-02-25/
LOCATION:Eastside Tennis Courts
CATEGORIES:Community Activity
ATTACH;FMTTYPE=image/png:https://monet.gipreview.com/wp-content/uploads/2026/03/Chair-yoga-for-seniors-in-session.png
END:VEVENT
BEGIN:VEVENT
DTSTART;TZID=America/New_York:20310304T100000
DTEND;TZID=America/New_York:20310304T110000
DTSTAMP:20260421T223111
CREATED:20260304T225246Z
LAST-MODIFIED:20260304T225246Z
UID:990010189-1930384800-1930388400@monet.gipreview.com
SUMMARY:Senior Chair Yoga & Strength
DESCRIPTION:Chair Yoga & Strength \nA gentle\, low-impact class designed to improve flexibility\, balance\, and strength while using a chair for support. Participants will enjoy simple yoga stretches combined with light strength exercises to help build muscle\, enhance mobility\, and support overall wellness. Perfect for all fitness levels and ideal for seniors looking to stay active in a safe and comfortable way.
URL:https://monet.gipreview.com/event/senior-chair-yoga-strength/2031-03-04/
LOCATION:Eastside Tennis Courts
CATEGORIES:Community Activity
ATTACH;FMTTYPE=image/png:https://monet.gipreview.com/wp-content/uploads/2026/03/Chair-yoga-for-seniors-in-session.png
END:VEVENT
END:VCALENDAR