BEGIN:VCALENDAR
VERSION:2.0
PRODID:-//Sandpiper - ECPv6.15.20//NONSGML v1.0//EN
CALSCALE:GREGORIAN
METHOD:PUBLISH
X-ORIGINAL-URL:https://monet.gipreview.com
X-WR-CALDESC:Events for Sandpiper
REFRESH-INTERVAL;VALUE=DURATION:PT1H
X-Robots-Tag:noindex
X-PUBLISHED-TTL:PT1H
BEGIN:VTIMEZONE
TZID:America/New_York
BEGIN:DAYLIGHT
TZOFFSETFROM:-0500
TZOFFSETTO:-0400
TZNAME:EDT
DTSTART:20290311T070000
END:DAYLIGHT
BEGIN:STANDARD
TZOFFSETFROM:-0400
TZOFFSETTO:-0500
TZNAME:EST
DTSTART:20291104T060000
END:STANDARD
BEGIN:DAYLIGHT
TZOFFSETFROM:-0500
TZOFFSETTO:-0400
TZNAME:EDT
DTSTART:20300310T070000
END:DAYLIGHT
BEGIN:STANDARD
TZOFFSETFROM:-0400
TZOFFSETTO:-0500
TZNAME:EST
DTSTART:20301103T060000
END:STANDARD
BEGIN:DAYLIGHT
TZOFFSETFROM:-0500
TZOFFSETTO:-0400
TZNAME:EDT
DTSTART:20310309T070000
END:DAYLIGHT
BEGIN:STANDARD
TZOFFSETFROM:-0400
TZOFFSETTO:-0500
TZNAME:EST
DTSTART:20311102T060000
END:STANDARD
END:VTIMEZONE
BEGIN:VEVENT
DTSTART;TZID=America/New_York:20301106T180000
DTEND;TZID=America/New_York:20301106T210000
DTSTAMP:20260421T223104
CREATED:20260225T155457Z
LAST-MODIFIED:20260304T214426Z
UID:990000252-1920218400-1920229200@monet.gipreview.com
SUMMARY:Bingo
DESCRIPTION:
URL:https://monet.gipreview.com/event/bingo/2030-11-06/
LOCATION:Sandpiper Clubhouse\, 5959 Sandpipers Drive\, Lakeland\, Florida\, 33809
CATEGORIES:Public Event
ATTACH;FMTTYPE=image/jpeg:https://monet.gipreview.com/wp-content/uploads/2026/02/Bingo.jpg
END:VEVENT
BEGIN:VEVENT
DTSTART;TZID=America/New_York:20301113T180000
DTEND;TZID=America/New_York:20301113T210000
DTSTAMP:20260421T223104
CREATED:20260225T155457Z
LAST-MODIFIED:20260304T214426Z
UID:990000253-1920823200-1920834000@monet.gipreview.com
SUMMARY:Bingo
DESCRIPTION:
URL:https://monet.gipreview.com/event/bingo/2030-11-13/
LOCATION:Sandpiper Clubhouse\, 5959 Sandpipers Drive\, Lakeland\, Florida\, 33809
CATEGORIES:Public Event
ATTACH;FMTTYPE=image/jpeg:https://monet.gipreview.com/wp-content/uploads/2026/02/Bingo.jpg
END:VEVENT
BEGIN:VEVENT
DTSTART;TZID=America/New_York:20301120T180000
DTEND;TZID=America/New_York:20301120T210000
DTSTAMP:20260421T223104
CREATED:20260225T155457Z
LAST-MODIFIED:20260304T214426Z
UID:990000254-1921428000-1921438800@monet.gipreview.com
SUMMARY:Bingo
DESCRIPTION:
URL:https://monet.gipreview.com/event/bingo/2030-11-20/
LOCATION:Sandpiper Clubhouse\, 5959 Sandpipers Drive\, Lakeland\, Florida\, 33809
CATEGORIES:Public Event
ATTACH;FMTTYPE=image/jpeg:https://monet.gipreview.com/wp-content/uploads/2026/02/Bingo.jpg
END:VEVENT
BEGIN:VEVENT
DTSTART;TZID=America/New_York:20301127T180000
DTEND;TZID=America/New_York:20301127T210000
DTSTAMP:20260421T223104
CREATED:20260225T155457Z
LAST-MODIFIED:20260304T214426Z
UID:990000255-1922032800-1922043600@monet.gipreview.com
SUMMARY:Bingo
DESCRIPTION:
URL:https://monet.gipreview.com/event/bingo/2030-11-27/
LOCATION:Sandpiper Clubhouse\, 5959 Sandpipers Drive\, Lakeland\, Florida\, 33809
CATEGORIES:Public Event
ATTACH;FMTTYPE=image/jpeg:https://monet.gipreview.com/wp-content/uploads/2026/02/Bingo.jpg
END:VEVENT
END:VCALENDAR